BEGIN:VCALENDAR
VERSION:2.0
PRODID:-//Milwaukee Metropolitan Community Church - ECPv6.15.20//NONSGML v1.0//EN
CALSCALE:GREGORIAN
METHOD:PUBLISH
X-WR-CALNAME:Milwaukee Metropolitan Community Church
X-ORIGINAL-URL:https://milwaukeemcc.org
X-WR-CALDESC:Events for Milwaukee Metropolitan Community Church
REFRESH-INTERVAL;VALUE=DURATION:PT1H
X-Robots-Tag:noindex
X-PUBLISHED-TTL:PT1H
BEGIN:VTIMEZONE
TZID:UTC
BEGIN:STANDARD
TZOFFSETFROM:+0000
TZOFFSETTO:+0000
TZNAME:UTC
DTSTART:20200101T000000
END:STANDARD
END:VTIMEZONE
BEGIN:VEVENT
DTSTART;TZID=UTC:20210801T110000
DTEND;TZID=UTC:20210801T120000
DTSTAMP:20260423T202940
CREATED:20210709T033430Z
LAST-MODIFIED:20210718T234330Z
UID:2482-1627815600-1627819200@milwaukeemcc.org
SUMMARY:Sunday Worship Service
DESCRIPTION:Join Milwaukee Metropolitan Community Church every Sunday morning for our IN-PERSON Worship Service. \nFor questions and more information\, feel free to contact the church office by calling 414-383-1100 or by email at info@milmcc.org
URL:https://milwaukeemcc.org/event/sunday-worship-service-7/
LOCATION:Milwaukee Metropolitan Community Church\, 1239 West Mineral Street\, Milwaukee\, Wisconsin\, 53204\, Virgin Islands (U.S.)
ATTACH;FMTTYPE=image/png:https://milwaukeemcc.org/wp-content/uploads/2021/06/R6ed431f8460d7d3a12e285ac6ead515c.png
END:VEVENT
BEGIN:VEVENT
DTSTART;TZID=UTC:20210731T090000
DTEND;TZID=UTC:20210731T170000
DTSTAMP:20260423T202940
CREATED:20210613T170233Z
LAST-MODIFIED:20210716T144337Z
UID:2392-1627722000-1627750800@milwaukeemcc.org
SUMMARY:Annual Church Rummage Sale
DESCRIPTION:
URL:https://milwaukeemcc.org/event/annual-church-rummage-sale/
LOCATION:Rummage Sale Venue\, 2225 North 54th Street\, Milwaukee\, 53208
ATTACH;FMTTYPE=image/jpeg:https://milwaukeemcc.org/wp-content/uploads/2021/06/2021-Annual-Church-Rummage-Sale.jpg
END:VEVENT
BEGIN:VEVENT
DTSTART;TZID=UTC:20210725T110000
DTEND;TZID=UTC:20210725T120000
DTSTAMP:20260423T202940
CREATED:20210709T031100Z
LAST-MODIFIED:20210907T144805Z
UID:2477-1627210800-1627214400@milwaukeemcc.org
SUMMARY:Pack the Pantry Sunday
DESCRIPTION:Milwaukee Metropolitan Community Church and Angels of Hope Metropolitan Community Church have joined forces through our Outreach Ministry Programs in order to connect closer with our community partners in the LGBTQ Community. \nEvery Fourth Sunday of the month has been designated PACK THE PANTY SUNDAY. Pack the Pantry Sunday is a time for you\, the people of the church to come together and help support our partnered organizations Food Pantries. \nWe ask that you bring your items on the fourth Sunday and place them in the containers that will be provided. This doesn’t mean you can’t bring your items on other Sundays as well but are hopeful you will partake in Pack the Pantry on every Fourth Sunday of the month. \nSuggested Donations Items can be found by clicking on: Pack the Pantry
URL:https://milwaukeemcc.org/event/pack-the-pantry-sunday/
LOCATION:Milwaukee Metropolitan Community Church\, 1239 West Mineral Street\, Milwaukee\, Wisconsin\, 53204\, Virgin Islands (U.S.)
ATTACH;FMTTYPE=image/jpeg:https://milwaukeemcc.org/wp-content/uploads/2021/07/Slide3.jpg
END:VEVENT
BEGIN:VEVENT
DTSTART;TZID=UTC:20210725T110000
DTEND;TZID=UTC:20210725T120000
DTSTAMP:20260423T202940
CREATED:20210623T044344Z
LAST-MODIFIED:20210718T234249Z
UID:2422-1627210800-1627214400@milwaukeemcc.org
SUMMARY:Sunday Worship Service
DESCRIPTION:Join Milwaukee Metropolitan Community Church every Sunday morning for our IN-PERSON Worship Service. \nFor questions and more information\, feel free to contact the church office by calling 414-383-1100 or by email at info@milmcc.org
URL:https://milwaukeemcc.org/event/sunday-worship-service-6/
LOCATION:Milwaukee Metropolitan Community Church\, 1239 West Mineral Street\, Milwaukee\, Wisconsin\, 53204\, Virgin Islands (U.S.)
ATTACH;FMTTYPE=image/png:https://milwaukeemcc.org/wp-content/uploads/2021/06/R6ed431f8460d7d3a12e285ac6ead515c.png
END:VEVENT
BEGIN:VEVENT
DTSTART;TZID=UTC:20210718T110000
DTEND;TZID=UTC:20210718T120000
DTSTAMP:20260423T202940
CREATED:20210623T044252Z
LAST-MODIFIED:20210718T234209Z
UID:2420-1626606000-1626609600@milwaukeemcc.org
SUMMARY:Sunday Worship Service
DESCRIPTION:Join Milwaukee Metropolitan Community Church every Sunday morning for our IN-PERSON Worship Service. \nFor questions and more information\, feel free to contact the church office by calling 414-383-1100 or by email at info@milmcc.org
URL:https://milwaukeemcc.org/event/sunday-worship-service-5/
LOCATION:Milwaukee Metropolitan Community Church\, 1239 West Mineral Street\, Milwaukee\, Wisconsin\, 53204\, Virgin Islands (U.S.)
ATTACH;FMTTYPE=image/png:https://milwaukeemcc.org/wp-content/uploads/2021/06/R6ed431f8460d7d3a12e285ac6ead515c.png
END:VEVENT
BEGIN:VEVENT
DTSTART;TZID=UTC:20210713T183000
DTEND;TZID=UTC:20210713T203000
DTSTAMP:20260423T202940
CREATED:20210414T160917Z
LAST-MODIFIED:20210719T000941Z
UID:2080-1626201000-1626208200@milwaukeemcc.org
SUMMARY:Monthly Board of Directors Meeting
DESCRIPTION:The Board of Directors Meetings the first Tuesday of each month to discuss the business and happenings of the church. Visitors are welcome to come as a spectator and learn what is happening in the life of Milwaukee Metropolitan Community Church.
URL:https://milwaukeemcc.org/event/monthly-board-of-directors-meeting-3/
LOCATION:Milwaukee Metropolitan Community Church\, 1239 West Mineral Street\, Milwaukee\, Wisconsin\, 53204\, Virgin Islands (U.S.)
ATTACH;FMTTYPE=image/jpeg:https://milwaukeemcc.org/wp-content/uploads/2020/09/Board-of-Dirctors-Mtg-Image.jpg
END:VEVENT
BEGIN:VEVENT
DTSTART;TZID=UTC:20210711T110000
DTEND;TZID=UTC:20210711T120000
DTSTAMP:20260423T202940
CREATED:20210623T044107Z
LAST-MODIFIED:20210718T234131Z
UID:2418-1626001200-1626004800@milwaukeemcc.org
SUMMARY:Sunday Worship Service
DESCRIPTION:Join Milwaukee Metropolitan Community Church every Sunday morning for our IN-PERSON Worship Service. \nFor questions and more information\, feel free to contact the church office by calling 414-383-1100 or by email at info@milmcc.org
URL:https://milwaukeemcc.org/event/sunday-worship-service-4/
LOCATION:Milwaukee Metropolitan Community Church\, 1239 West Mineral Street\, Milwaukee\, Wisconsin\, 53204\, Virgin Islands (U.S.)
ATTACH;FMTTYPE=image/png:https://milwaukeemcc.org/wp-content/uploads/2021/06/R6ed431f8460d7d3a12e285ac6ead515c.png
END:VEVENT
BEGIN:VEVENT
DTSTART;VALUE=DATE:20210705
DTEND;VALUE=DATE:20210706
DTSTAMP:20260423T202940
CREATED:20210512T152100Z
LAST-MODIFIED:20210512T152107Z
UID:2190-1625443200-1625529599@milwaukeemcc.org
SUMMARY:Church Office Closed
DESCRIPTION:
URL:https://milwaukeemcc.org/event/church-office-closed-7/
LOCATION:Wisconsin
END:VEVENT
BEGIN:VEVENT
DTSTART;TZID=UTC:20210704T120000
DTEND;TZID=UTC:20210704T130000
DTSTAMP:20260423T202940
CREATED:20210709T033905Z
LAST-MODIFIED:20210719T000837Z
UID:2486-1625400000-1625403600@milwaukeemcc.org
SUMMARY:First Sunday of the Month Cake Fellowship
DESCRIPTION:Join us every FIRST Sunday of the Month following worship as we celebrate birthdays and anniversaries for that particular month.
URL:https://milwaukeemcc.org/event/first-sunday-of-the-month-cake-fellowship/
LOCATION:Milwaukee Metropolitan Community Church\, 1239 West Mineral Street\, Milwaukee\, Wisconsin\, 53204\, Virgin Islands (U.S.)
ATTACH;FMTTYPE=image/jpeg:https://milwaukeemcc.org/wp-content/uploads/2021/07/Birthdays-and-Anniversaries-2021.jpg
END:VEVENT
BEGIN:VEVENT
DTSTART;TZID=UTC:20210704T110000
DTEND;TZID=UTC:20210704T120000
DTSTAMP:20260423T202940
CREATED:20210623T044015Z
LAST-MODIFIED:20210718T234040Z
UID:2416-1625396400-1625400000@milwaukeemcc.org
SUMMARY:Sunday Worship Service
DESCRIPTION:Join Milwaukee Metropolitan Community Church every Sunday morning for our IN-PERSON Worship Service. \nFor questions and more information\, feel free to contact the church office by calling 414-383-1100 or by email at info@milmcc.org
URL:https://milwaukeemcc.org/event/sunday-worship-service-3/
LOCATION:Milwaukee Metropolitan Community Church\, 1239 West Mineral Street\, Milwaukee\, Wisconsin\, 53204\, Virgin Islands (U.S.)
ATTACH;FMTTYPE=image/png:https://milwaukeemcc.org/wp-content/uploads/2021/06/R6ed431f8460d7d3a12e285ac6ead515c.png
END:VEVENT
BEGIN:VEVENT
DTSTART;TZID=UTC:20210704T000000
DTEND;TZID=UTC:20210704T235900
DTSTAMP:20260423T202940
CREATED:20210414T190613Z
LAST-MODIFIED:20210414T190659Z
UID:2119-1625356800-1625443140@milwaukeemcc.org
SUMMARY:Fourth of July
DESCRIPTION:Fourth of July
URL:https://milwaukeemcc.org/event/fourth-of-july/
LOCATION:Wisconsin
ATTACH;FMTTYPE=image/jpeg:https://milwaukeemcc.org/wp-content/uploads/2021/04/4trh.jpg
END:VEVENT
BEGIN:VEVENT
DTSTART;TZID=UTC:20210701T183000
DTEND;TZID=UTC:20210701T193000
DTSTAMP:20260423T202940
CREATED:20210414T161505Z
LAST-MODIFIED:20210414T161511Z
UID:2085-1625164200-1625167800@milwaukeemcc.org
SUMMARY:Theology-on-Tap has gone ONLINE!
DESCRIPTION:Please join us for the next Theology on Tap | ONLINE \nGrab your favorite beverage and some snack type foods and join us for an evening of good discussion. \nJoin us each month for an open theological discussion as it relates to our lives living in an inclusive community of faith. \nJoin Theology-on-Tap by connecting to:\nhttps://us02web.zoom.us/j/86055363676 \nMeeting ID: 860 5536 3676\nOne tap mobile\n+13126266799\,\,86740299338# US (Chicago) \nFor questions and more information\, feel free to contact the church office by calling 414-383-1100 or by email at info@milmcc.org
URL:https://milwaukeemcc.org/event/theology-on-tap-has-gone-online/
LOCATION:Zoom Online Meeting
ATTACH;FMTTYPE=image/jpeg:https://milwaukeemcc.org/wp-content/uploads/2020/12/Theolgoy-on-Tap-2021.jpg
ORGANIZER;CN="Milwaukee Metropolitan Community Church":MAILTO:info@milmcc.org
END:VEVENT
BEGIN:VEVENT
DTSTART;TZID=UTC:20210627T110000
DTEND;TZID=UTC:20210627T120000
DTSTAMP:20260423T202940
CREATED:20210623T043829Z
LAST-MODIFIED:20210718T233951Z
UID:2414-1624791600-1624795200@milwaukeemcc.org
SUMMARY:Sunday Worship Service
DESCRIPTION:Join Milwaukee Metropolitan Community Church every Sunday morning for our IN-PERSON Worship Service. \nFor questions and more information\, feel free to contact the church office by calling 414-383-1100 or by email at info@milmcc.org
URL:https://milwaukeemcc.org/event/sunday-worship-service-2/
LOCATION:Milwaukee Metropolitan Community Church\, 1239 West Mineral Street\, Milwaukee\, Wisconsin\, 53204\, Virgin Islands (U.S.)
ATTACH;FMTTYPE=image/png:https://milwaukeemcc.org/wp-content/uploads/2021/06/R6ed431f8460d7d3a12e285ac6ead515c.png
END:VEVENT
BEGIN:VEVENT
DTSTART;TZID=UTC:20210620T110000
DTEND;TZID=UTC:20210620T120000
DTSTAMP:20260423T202940
CREATED:20210623T035738Z
LAST-MODIFIED:20210623T043650Z
UID:2406-1624186800-1624190400@milwaukeemcc.org
SUMMARY:Sunday Worship Service
DESCRIPTION:Join Milwaukee Metropolitan Community Church every Sunday morning for our IN-PERSON Worship Service. \nFor questions and more information\, feel free to contact the church office by calling 414-383-1100 or by email at info@milmcc.org
URL:https://milwaukeemcc.org/event/sunday-worship-service/
LOCATION:Milwaukee Metropolitan Community Church\, 1239 West Mineral Street\, Milwaukee\, Wisconsin\, 53204\, Virgin Islands (U.S.)
ATTACH;FMTTYPE=image/png:https://milwaukeemcc.org/wp-content/uploads/2021/06/R6ed431f8460d7d3a12e285ac6ead515c.png
END:VEVENT
BEGIN:VEVENT
DTSTART;TZID=UTC:20210620T000000
DTEND;TZID=UTC:20210620T235900
DTSTAMP:20260423T202940
CREATED:20210414T185520Z
LAST-MODIFIED:20210414T185721Z
UID:2111-1624147200-1624233540@milwaukeemcc.org
SUMMARY:Father's Day
DESCRIPTION:Father’s Day
URL:https://milwaukeemcc.org/event/fathers-day/
LOCATION:Wisconsin
ATTACH;FMTTYPE=image/jpeg:https://milwaukeemcc.org/wp-content/uploads/2021/04/Fathers-Day.jpg
END:VEVENT
BEGIN:VEVENT
DTSTART;TZID=UTC:20210619T000000
DTEND;TZID=UTC:20210619T235900
DTSTAMP:20260423T202940
CREATED:20210414T191024Z
LAST-MODIFIED:20210414T191518Z
UID:2122-1624060800-1624147140@milwaukeemcc.org
SUMMARY:Juneteenth
DESCRIPTION:Juneteenth \nJuneteenth – also known as Freedom Day\, Jubilee Day\, Liberation Day\, and Emancipation Day – is a holiday celebrating the emancipation of those who had been enslaved in the United States. Originating in Galveston\, Texas\, it is now celebrated annually on the 19th of June throughout the United States\, with varying official recognition. It is commemorated on the anniversary date of the June 19\, 1865 announcement by Union Army general Gordon Granger\, proclaiming freedom from slavery in Texas.
URL:https://milwaukeemcc.org/event/juneteenth/
LOCATION:Wisconsin
ATTACH;FMTTYPE=image/jpeg:https://milwaukeemcc.org/wp-content/uploads/2021/04/Juneteenth.jpg
END:VEVENT
BEGIN:VEVENT
DTSTART;TZID=UTC:20210613T110000
DTEND;TZID=UTC:20210613T120000
DTSTAMP:20260423T202940
CREATED:20210414T163342Z
LAST-MODIFIED:20210414T163356Z
UID:2095-1623582000-1623585600@milwaukeemcc.org
SUMMARY:Sunday Worship Service | Online
DESCRIPTION:Join Milwaukee Metropolitan Community Church every Sunday morning for our ONLINE Worship Service. \nWorship Services are streamed on both our Facebook and YouTube pages each Sunday Morning at 11:00AM. \nLinks to our Facebook and YouTube pages are below.  We invite you to have communion elements (or your choice) that represents the bread and the cup available\, so you can take part in communion at the appropriate time during the service. \nConnect via Facebook at: https://www.facebook.com/MilwaukeeMCC/?view_public_for=143495165714520\nConnect via YouTube at: https://www.youtube.com/channel/UCjRvXlOjVfIXW-1qrtUr2iQ?view_as=subscriber \nFor questions and more information\, feel free to contact the church office by calling 414-383-1100 or by email at info@milmcc.org
URL:https://milwaukeemcc.org/event/sunday-worship-service-online-7/
LOCATION:Online Gathering
ATTACH;FMTTYPE=image/jpeg:https://milwaukeemcc.org/wp-content/uploads/2020/09/Online-Worhip-Image.jpg
ORGANIZER;CN="Milwaukee Metropolitan Community Church":MAILTO:info@milmcc.org
END:VEVENT
BEGIN:VEVENT
DTSTART;TZID=UTC:20210608T183000
DTEND;TZID=UTC:20210608T203000
DTSTAMP:20260423T202940
CREATED:20210414T160638Z
LAST-MODIFIED:20210719T000715Z
UID:2078-1623177000-1623184200@milwaukeemcc.org
SUMMARY:Monthly Board of Directors Meeting
DESCRIPTION:The Board of Directors Meetings the first Tuesday of each month to discuss the business and happenings of the church. Visitors are welcome to come as a spectator and learn what is happening in the life of Milwaukee Metropolitan Community Church. \nPlease Note: That During this time of COVID-19\, board meetings will be closed sessions to visitors. We will resume allowing visitors to attend\, once we are back to in-person gathering in the congregation.
URL:https://milwaukeemcc.org/event/2078/
LOCATION:Milwaukee Metropolitan Community Church\, 1239 West Mineral Street\, Milwaukee\, Wisconsin\, 53204\, Virgin Islands (U.S.)
ATTACH;FMTTYPE=image/jpeg:https://milwaukeemcc.org/wp-content/uploads/2020/09/Board-of-Dirctors-Mtg-Image.jpg
END:VEVENT
BEGIN:VEVENT
DTSTART;TZID=UTC:20210606T120000
DTEND;TZID=UTC:20210606T130000
DTSTAMP:20260423T202940
CREATED:20210414T190125Z
LAST-MODIFIED:20210414T190135Z
UID:2114-1622980800-1622984400@milwaukeemcc.org
SUMMARY:Virtual Fellowship Gathering | Online
DESCRIPTION:Rev. Tory and the Board of Directors invite you to join them immediately following online worship on the first Sunday of each month at 12:00 noon for our virtual get together and social time. \nWe know that we all miss being together with one another\, and having that ability to give one another a hug\, pass the peace or have that ability to socialize with one another after Sunday Worship each week. \nGrab your coffee or favorite brunch beverage and connect with us virtually after online worship for some awesome church fellowship! \nJoin our Virtual Fellowship Gathering by connecting to:\nhttps://us02web.zoom.us/j/82834642928 \nMeeting ID: 828 3464 2928\nOne tap mobile\n+13126266799\,\,82834642928# US (Chicago) \nFor questions and more information\, feel free to contact the church office by calling 414-383-1100 or by email at info@milmcc.org
URL:https://milwaukeemcc.org/event/virtual-fellowship-gathering-online-3/
LOCATION:Zoom Online Meeting
ATTACH;FMTTYPE=image/jpeg:https://milwaukeemcc.org/wp-content/uploads/2020/12/Virtual-Online-Fellowship-2021-1.jpg
ORGANIZER;CN="Milwaukee Metropolitan Community Church":MAILTO:info@milmcc.org
END:VEVENT
BEGIN:VEVENT
DTSTART;TZID=UTC:20210606T110000
DTEND;TZID=UTC:20210606T120000
DTSTAMP:20260423T202940
CREATED:20210414T163153Z
LAST-MODIFIED:20210414T163158Z
UID:2093-1622977200-1622980800@milwaukeemcc.org
SUMMARY:Sunday Worship Service | Online
DESCRIPTION:Join Milwaukee Metropolitan Community Church every Sunday morning for our ONLINE Worship Service. \nWorship Services are streamed on both our Facebook and YouTube pages each Sunday Morning at 11:00AM. \nLinks to our Facebook and YouTube pages are below.  We invite you to have communion elements (or your choice) that represents the bread and the cup available\, so you can take part in communion at the appropriate time during the service. \nConnect via Facebook at: https://www.facebook.com/MilwaukeeMCC/?view_public_for=143495165714520\nConnect via YouTube at: https://www.youtube.com/channel/UCjRvXlOjVfIXW-1qrtUr2iQ?view_as=subscriber \nFor questions and more information\, feel free to contact the church office by calling 414-383-1100 or by email at info@milmcc.org
URL:https://milwaukeemcc.org/event/sunday-worship-service-online-6/
LOCATION:Online Gathering
ATTACH;FMTTYPE=image/jpeg:https://milwaukeemcc.org/wp-content/uploads/2020/09/Online-Worhip-Image.jpg
ORGANIZER;CN="Milwaukee Metropolitan Community Church":MAILTO:info@milmcc.org
END:VEVENT
BEGIN:VEVENT
DTSTART;TZID=UTC:20210603T183000
DTEND;TZID=UTC:20210603T193000
DTSTAMP:20260423T202940
CREATED:20210414T161909Z
LAST-MODIFIED:20210414T162515Z
UID:2088-1622745000-1622748600@milwaukeemcc.org
SUMMARY:Theology-on-Tap has gone ONLINE!
DESCRIPTION:Please join us for the next Theology on Tap | ONLINE \nGrab your favorite beverage and some snack type foods and join us for an evening of good discussion. \nJoin us each month for an open theological discussion as it relates to our lives living in an inclusive community of faith. \nJoin Theology-on-Tap by connecting to:\nhttps://us02web.zoom.us/j/86055363676 \nMeeting ID: 860 5536 3676\nOne tap mobile\n+13126266799\,\,86740299338# US (Chicag \nFor questions and more information\, feel free to contact the church office by calling 414-383-1100 or by email at info@milmcc.org
URL:https://milwaukeemcc.org/event/theology-on-tap-has-gone-online-2/
LOCATION:Zoom Online Meeting
ATTACH;FMTTYPE=image/jpeg:https://milwaukeemcc.org/wp-content/uploads/2020/12/Theolgoy-on-Tap-2021.jpg
ORGANIZER;CN="Milwaukee Metropolitan Community Church":MAILTO:info@milmcc.org
END:VEVENT
BEGIN:VEVENT
DTSTART;VALUE=DATE:20210531
DTEND;VALUE=DATE:20210601
DTSTAMP:20260423T202940
CREATED:20210512T151735Z
LAST-MODIFIED:20210512T151743Z
UID:2186-1622419200-1622505599@milwaukeemcc.org
SUMMARY:Church Office Closed
DESCRIPTION:
URL:https://milwaukeemcc.org/event/church-office-closed-5/
LOCATION:Wisconsin
END:VEVENT
BEGIN:VEVENT
DTSTART;TZID=UTC:20210531T000000
DTEND;TZID=UTC:20210531T235900
DTSTAMP:20260423T202940
CREATED:20210414T162620Z
LAST-MODIFIED:20210414T162806Z
UID:2090-1622419200-1622505540@milwaukeemcc.org
SUMMARY:Memorial Day
DESCRIPTION:Happy Memorial Day
URL:https://milwaukeemcc.org/event/memorial-day/
LOCATION:Wisconsin
ATTACH;FMTTYPE=image/jpeg:https://milwaukeemcc.org/wp-content/uploads/2021/04/Memorial-Day.jpg
END:VEVENT
BEGIN:VEVENT
DTSTART;TZID=UTC:20210530T110000
DTEND;TZID=UTC:20210530T120000
DTSTAMP:20260423T202940
CREATED:20210414T155613Z
LAST-MODIFIED:20210414T155619Z
UID:2073-1622372400-1622376000@milwaukeemcc.org
SUMMARY:Sunday Worship Service | Online
DESCRIPTION:Join Milwaukee Metropolitan Community Church every Sunday morning for our ONLINE Worship Service. \nWorship Services are streamed on both our Facebook and YouTube pages each Sunday Morning at 11:00AM. \nLinks to our Facebook and YouTube pages are below.  We invite you to have communion elements (or your choice) that represents the bread and the cup available\, so you can take part in communion at the appropriate time during the service. \nConnect via Facebook at: https://www.facebook.com/MilwaukeeMCC/?view_public_for=143495165714520\nConnect via YouTube at: https://www.youtube.com/channel/UCjRvXlOjVfIXW-1qrtUr2iQ?view_as=subscriber \nFor questions and more information\, feel free to contact the church office by calling 414-383-1100 or by email at info@milmcc.org
URL:https://milwaukeemcc.org/event/sunday-worship-service-online-5/
LOCATION:Online Gathering
ATTACH;FMTTYPE=image/jpeg:https://milwaukeemcc.org/wp-content/uploads/2021/04/Trinity-Sunday-Online-Worship.jpg
ORGANIZER;CN="Milwaukee Metropolitan Community Church":MAILTO:info@milmcc.org
END:VEVENT
BEGIN:VEVENT
DTSTART;TZID=UTC:20210523T110000
DTEND;TZID=UTC:20210523T120000
DTSTAMP:20260423T202940
CREATED:20210414T154310Z
LAST-MODIFIED:20210414T155644Z
UID:2065-1621767600-1621771200@milwaukeemcc.org
SUMMARY:Sunday Worship Service | Online
DESCRIPTION:Join Milwaukee Metropolitan Community Church every Sunday morning for our ONLINE Worship Service. \nWorship Services are streamed on both our Facebook and YouTube pages each Sunday Morning at 11:00AM. \nLinks to our Facebook and YouTube pages are below.  We invite you to have communion elements (or your choice) that represents the bread and the cup available\, so you can take part in communion at the appropriate time during the service. \nConnect via Facebook at: https://www.facebook.com/MilwaukeeMCC/?view_public_for=143495165714520\nConnect via YouTube at: https://www.youtube.com/channel/UCjRvXlOjVfIXW-1qrtUr2iQ?view_as=subscriber \nFor questions and more information\, feel free to contact the church office by calling 414-383-1100 or by email at info@milmcc.org
URL:https://milwaukeemcc.org/event/sunday-worship-service-online-3/
LOCATION:Online Gathering
ATTACH;FMTTYPE=image/jpeg:https://milwaukeemcc.org/wp-content/uploads/2021/04/Pentecost-Online-Worship.jpg
ORGANIZER;CN="Milwaukee Metropolitan Community Church":MAILTO:info@milmcc.org
END:VEVENT
BEGIN:VEVENT
DTSTART;TZID=UTC:20210516T110000
DTEND;TZID=UTC:20210516T120000
DTSTAMP:20260423T202940
CREATED:20210414T154155Z
LAST-MODIFIED:20210414T155712Z
UID:2063-1621162800-1621166400@milwaukeemcc.org
SUMMARY:Sunday Worship Service | Online
DESCRIPTION:Join Milwaukee Metropolitan Community Church every Sunday morning for our ONLINE Worship Service. \nWorship Services are streamed on both our Facebook and YouTube pages each Sunday Morning at 11:00AM. \nLinks to our Facebook and YouTube pages are below.  We invite you to have communion elements (or your choice) that represents the bread and the cup available\, so you can take part in communion at the appropriate time during the service. \nConnect via Facebook at: https://www.facebook.com/MilwaukeeMCC/?view_public_for=143495165714520\nConnect via YouTube at: https://www.youtube.com/channel/UCjRvXlOjVfIXW-1qrtUr2iQ?view_as=subscriber \nFor questions and more information\, feel free to contact the church office by calling 414-383-1100 or by email at info@milmcc.org
URL:https://milwaukeemcc.org/event/sunday-worship-service-online-2/
LOCATION:Online Gathering
ATTACH;FMTTYPE=image/jpeg:https://milwaukeemcc.org/wp-content/uploads/2020/09/Online-Worhip-Image.jpg
ORGANIZER;CN="Milwaukee Metropolitan Community Church":MAILTO:info@milmcc.org
END:VEVENT
BEGIN:VEVENT
DTSTART;TZID=UTC:20210511T183000
DTEND;TZID=UTC:20210511T203000
DTSTAMP:20260423T202940
CREATED:20210414T160519Z
LAST-MODIFIED:20210414T160535Z
UID:2076-1620757800-1620765000@milwaukeemcc.org
SUMMARY:Monthly Board of Directors Meeting
DESCRIPTION:The Board of Directors Meetings the first Tuesday of each month to discuss the business and happenings of the church. Visitors are welcome to come as a spectator and learn what is happening in the life of Milwaukee Metropolitan Community Church. \nPlease Note: That During this time of COVID-19\, board meetings will be closed sessions to visitors. We will resume allowing visitors to attend\, once we are back to in-person gathering in the congregation.
URL:https://milwaukeemcc.org/event/monthly-board-of-directors-meeting-2/
LOCATION:Wisconsin
ATTACH;FMTTYPE=image/jpeg:https://milwaukeemcc.org/wp-content/uploads/2020/09/Board-of-Dirctors-Mtg-Image.jpg
END:VEVENT
BEGIN:VEVENT
DTSTART;TZID=UTC:20210509T110000
DTEND;TZID=UTC:20210509T120000
DTSTAMP:20260423T202940
CREATED:20210414T154931Z
LAST-MODIFIED:20210414T160240Z
UID:2071-1620558000-1620561600@milwaukeemcc.org
SUMMARY:Sunday Worship Service | Online
DESCRIPTION:Join Milwaukee Metropolitan Community Church every Sunday morning for our ONLINE Worship Service. \nWorship Services are streamed on both our Facebook and YouTube pages each Sunday Morning at 11:00AM. \nLinks to our Facebook and YouTube pages are below.  We invite you to have communion elements (or your choice) that represents the bread and the cup available\, so you can take part in communion at the appropriate time during the service. \nConnect via Facebook at: https://www.facebook.com/MilwaukeeMCC/?view_public_for=143495165714520\nConnect via YouTube at: https://www.youtube.com/channel/UCjRvXlOjVfIXW-1qrtUr2iQ?view_as=subscriber \nFor questions and more information\, feel free to contact the church office by calling 414-383-1100 or by email at info@milmcc.org
URL:https://milwaukeemcc.org/event/sunday-worship-service-online-4/
LOCATION:Online Gathering
ATTACH;FMTTYPE=image/jpeg:https://milwaukeemcc.org/wp-content/uploads/2020/09/Online-Worhip-Image.jpg
ORGANIZER;CN="Milwaukee Metropolitan Community Church":MAILTO:info@milmcc.org
END:VEVENT
BEGIN:VEVENT
DTSTART;TZID=UTC:20210509T000000
DTEND;TZID=UTC:20210509T235900
DTSTAMP:20260423T202940
CREATED:20210414T154802Z
LAST-MODIFIED:20210414T154815Z
UID:2068-1620518400-1620604740@milwaukeemcc.org
SUMMARY:Mother's Day
DESCRIPTION:Wishing all of our Mother’s and Mother Figures in our life a blessed and joyous Mother’s Day
URL:https://milwaukeemcc.org/event/mothers-day/
LOCATION:Wisconsin
ATTACH;FMTTYPE=image/jpeg:https://milwaukeemcc.org/wp-content/uploads/2021/04/Mothers-day.jpg
END:VEVENT
BEGIN:VEVENT
DTSTART;TZID=UTC:20210506T183000
DTEND;TZID=UTC:20210506T193000
DTSTAMP:20260423T202940
CREATED:20210414T161342Z
LAST-MODIFIED:20210414T161539Z
UID:2083-1620325800-1620329400@milwaukeemcc.org
SUMMARY:Theology on Tap | Online
DESCRIPTION:Please join us for the next Theology on Tap | ONLINE \nGrab your favorite beverage and some snack type foods and join us for an evening of good discussion. \nJoin us each month for an open theological discussion as it relates to our lives living in an inclusive community of faith. \nJoin Theology-on-Tap by connecting to:\nhttps://us02web.zoom.us/j/86055363676 \nMeeting ID: 860 5536 3676\nOne tap mobile\n+13126266799\,\,86740299338# US (Chicago) \nFor questions and more information\, feel free to contact the church office by calling 414-383-1100 or by email at info@milmcc.org
URL:https://milwaukeemcc.org/event/theology-on-tap-online-3/
LOCATION:Zoom Online Meeting
ATTACH;FMTTYPE=image/jpeg:https://milwaukeemcc.org/wp-content/uploads/2020/12/Theolgoy-on-Tap-2021.jpg
ORGANIZER;CN="Milwaukee Metropolitan Community Church":MAILTO:info@milmcc.org
END:VEVENT
END:VCALENDAR