BEGIN:VCALENDAR
VERSION:2.0
PRODID:-//Milwaukee Metropolitan Community Church - ECPv6.15.20//NONSGML v1.0//EN
CALSCALE:GREGORIAN
METHOD:PUBLISH
X-WR-CALNAME:Milwaukee Metropolitan Community Church
X-ORIGINAL-URL:https://milwaukeemcc.org
X-WR-CALDESC:Events for Milwaukee Metropolitan Community Church
REFRESH-INTERVAL;VALUE=DURATION:PT1H
X-Robots-Tag:noindex
X-PUBLISHED-TTL:PT1H
BEGIN:VTIMEZONE
TZID:UTC
BEGIN:STANDARD
TZOFFSETFROM:+0000
TZOFFSETTO:+0000
TZNAME:UTC
DTSTART:20220101T000000
END:STANDARD
END:VTIMEZONE
BEGIN:VEVENT
DTSTART;TZID=UTC:20240606T170000
DTEND;TZID=UTC:20240606T235900
DTSTAMP:20260423T063016
CREATED:20240224T184519Z
LAST-MODIFIED:20240224T184520Z
UID:6644-1717693200-1717718340@milwaukeemcc.org
SUMMARY:MKE PrideFest 2024
DESCRIPTION:
URL:https://milwaukeemcc.org/event/mke-pridefest-2024/
LOCATION:Henry W. Maier Festival Park (Summerfest Grounds)\, 200 N. Harbor Drive\, Milwaukee\, Wisconsin\, 53202
ATTACH;FMTTYPE=image/jpeg:https://milwaukeemcc.org/wp-content/uploads/2024/02/360099633_667865115380868_1287013805819230519_n.jpg
ORGANIZER;CN="Milwaukee Metropolitan Community Church":MAILTO:info@milmcc.org
END:VEVENT
BEGIN:VEVENT
DTSTART;TZID=UTC:20240607T150000
DTEND;TZID=UTC:20240607T235900
DTSTAMP:20260423T063016
CREATED:20240224T184605Z
LAST-MODIFIED:20240224T184605Z
UID:6647-1717772400-1717804740@milwaukeemcc.org
SUMMARY:MKE PrideFest 2024
DESCRIPTION:
URL:https://milwaukeemcc.org/event/mke-pridefest-2024-2/
LOCATION:Henry W. Maier Festival Park (Summerfest Grounds)\, 200 N. Harbor Drive\, Milwaukee\, Wisconsin\, 53202
ATTACH;FMTTYPE=image/jpeg:https://milwaukeemcc.org/wp-content/uploads/2024/02/360099633_667865115380868_1287013805819230519_n.jpg
ORGANIZER;CN="Milwaukee Metropolitan Community Church":MAILTO:info@milmcc.org
END:VEVENT
BEGIN:VEVENT
DTSTART;TZID=UTC:20240608T120000
DTEND;TZID=UTC:20240608T235900
DTSTAMP:20260423T063016
CREATED:20240224T184651Z
LAST-MODIFIED:20240224T184652Z
UID:6649-1717848000-1717891140@milwaukeemcc.org
SUMMARY:MKE PrideFest 2024
DESCRIPTION:
URL:https://milwaukeemcc.org/event/mke-pridefest-2024-3/
LOCATION:Henry W. Maier Festival Park (Summerfest Grounds)\, 200 N. Harbor Drive\, Milwaukee\, Wisconsin\, 53202
ATTACH;FMTTYPE=image/jpeg:https://milwaukeemcc.org/wp-content/uploads/2024/02/360099633_667865115380868_1287013805819230519_n.jpg
ORGANIZER;CN="Milwaukee Metropolitan Community Church":MAILTO:info@milmcc.org
END:VEVENT
BEGIN:VEVENT
DTSTART;TZID=UTC:20240609T100000
DTEND;TZID=UTC:20240609T110000
DTSTAMP:20260423T063016
CREATED:20240224T183350Z
LAST-MODIFIED:20240224T183351Z
UID:6628-1717927200-1717930800@milwaukeemcc.org
SUMMARY:Special Pride Sunday Worship & Lunch
DESCRIPTION:Join Milwaukee Metropolitan Community Church every Sunday morning for our IN-PERSON Worship Service.  Join us this particular Sunday for our Special Pride Worship Service beginning at 10:00am.\nFollowing worship stick around for our Annual Pride Parade Pizza lunch before heading to the parade route to march in the parade. \nFor questions and more information\, feel free to contact the church office by calling 414-383-1100 or by email at info@milmcc.org
URL:https://milwaukeemcc.org/event/special-pride-sunday-worship-lunch/
LOCATION:Wisconsin
ATTACH;FMTTYPE=image/jpeg:https://milwaukeemcc.org/wp-content/uploads/2023/04/Pride-Worship-Image.jpg
END:VEVENT
BEGIN:VEVENT
DTSTART;TZID=UTC:20240609T140000
DTEND;TZID=UTC:20240609T160000
DTSTAMP:20260423T063016
CREATED:20240224T183239Z
LAST-MODIFIED:20240224T183240Z
UID:6626-1717941600-1717948800@milwaukeemcc.org
SUMMARY:MKE 2024 Pride Parade
DESCRIPTION:2:00PM Step Off Time \n2nd St in Walker’s Point between\nGreenfield Avenue & Seeboth Street
URL:https://milwaukeemcc.org/event/mke-2024-pride-parade/
LOCATION:Wisconsin
ATTACH;FMTTYPE=image/jpeg:https://milwaukeemcc.org/wp-content/uploads/2023/04/Pride-Parade-Image.jpg
END:VEVENT
BEGIN:VEVENT
DTSTART;TZID=UTC:20240109T190000
DTEND;TZID=UTC:20240109T203000
DTSTAMP:20260423T063016
CREATED:20231127T233201Z
LAST-MODIFIED:20231127T235237Z
UID:6367-1704826800-1704832200@milwaukeemcc.org
SUMMARY:Board of Directors Meeting
DESCRIPTION:
URL:https://milwaukeemcc.org/event/board-of-directors-meeting-5/
LOCATION:Milwaukee Metropolitan Community Church\, 1239 West Mineral Street\, Milwaukee\, Wisconsin\, 53204\, Virgin Islands (U.S.)
ATTACH;FMTTYPE=image/jpeg:https://milwaukeemcc.org/wp-content/uploads/2023/11/Board-of-Dirctors-Mtg-Image.jpg
ORGANIZER;CN="Milwaukee Metropolitan Community Church":MAILTO:info@milmcc.org
END:VEVENT
BEGIN:VEVENT
DTSTART;TZID=UTC:20240616T000000
DTEND;TZID=UTC:20240616T235900
DTSTAMP:20260423T063016
CREATED:20240224T185349Z
LAST-MODIFIED:20240224T185349Z
UID:6655-1718496000-1718582340@milwaukeemcc.org
SUMMARY:Father's Day
DESCRIPTION:
URL:https://milwaukeemcc.org/event/fathers-day-2/
LOCATION:Wisconsin
ATTACH;FMTTYPE=image/jpeg:https://milwaukeemcc.org/wp-content/uploads/2021/04/Fathers-Day.jpg
END:VEVENT
BEGIN:VEVENT
DTSTART;TZID=UTC:20240616T110000
DTEND;TZID=UTC:20240616T120000
DTSTAMP:20260423T063016
CREATED:20240224T184100Z
LAST-MODIFIED:20240224T184101Z
UID:6638-1718535600-1718539200@milwaukeemcc.org
SUMMARY:Sunday Worship Service
DESCRIPTION:Join Milwaukee Metropolitan Community Church every Sunday morning for our IN-PERSON Worship Service. \nFor questions and more information\, feel free to contact the church office by calling 414-383-1100 or by email at info@milmcc.org
URL:https://milwaukeemcc.org/event/sunday-worship-service-61/
LOCATION:Wisconsin
ATTACH;FMTTYPE=image/jpeg:https://milwaukeemcc.org/wp-content/uploads/2023/11/R.jpeg
END:VEVENT
BEGIN:VEVENT
DTSTART;TZID=UTC:20240619T000000
DTEND;TZID=UTC:20240619T235900
DTSTAMP:20260423T063016
CREATED:20240224T185458Z
LAST-MODIFIED:20240224T185810Z
UID:6657-1718755200-1718841540@milwaukeemcc.org
SUMMARY:Juneteenth
DESCRIPTION:
URL:https://milwaukeemcc.org/event/juneteenth-2/
LOCATION:Wisconsin
ATTACH;FMTTYPE=image/jpeg:https://milwaukeemcc.org/wp-content/uploads/2021/04/Juneteenth.jpg
END:VEVENT
BEGIN:VEVENT
DTSTART;TZID=UTC:20240623T110000
DTEND;TZID=UTC:20240623T120000
DTSTAMP:20260423T063016
CREATED:20240224T184135Z
LAST-MODIFIED:20240224T184135Z
UID:6640-1719140400-1719144000@milwaukeemcc.org
SUMMARY:Sunday Worship Service
DESCRIPTION:Join Milwaukee Metropolitan Community Church every Sunday morning for our IN-PERSON Worship Service. \nFor questions and more information\, feel free to contact the church office by calling 414-383-1100 or by email at info@milmcc.org
URL:https://milwaukeemcc.org/event/sunday-worship-service-62/
LOCATION:Wisconsin
ATTACH;FMTTYPE=image/jpeg:https://milwaukeemcc.org/wp-content/uploads/2023/11/R.jpeg
END:VEVENT
BEGIN:VEVENT
DTSTART;TZID=UTC:20240128T110000
DTEND;TZID=UTC:20240128T133000
DTSTAMP:20260423T063016
CREATED:20231128T004326Z
LAST-MODIFIED:20231128T004527Z
UID:6376-1706439600-1706448600@milwaukeemcc.org
SUMMARY:Pack the Pantry
DESCRIPTION:Milwaukee Metropolitan Community Church and Angels of Hope Metropolitan Community Church have joined forces through our Outreach Ministry Programs in order to connect closer with our community partners in the LGBTQ Community.\nEvery Fourth Sunday of the month has been designated PACK THE PANTY SUNDAY. Pack the Pantry Sunday is a time for you\, the people of the church to come together and help support our partnered organizations Food Pantries.\nWe ask that you bring your items on the fourth Sunday and place them in the containers that will be provided. This doesn’t mean you can’t bring your items on other Sundays as well but are hopeful you will partake in Pack the Pantry on every Fourth Sunday of the month.\nSuggested Donations Items can be found by clicking on: Pack the Pantry
URL:https://milwaukeemcc.org/event/pack-the-pantry-2/
LOCATION:Milwaukee Metropolitan Community Church\, 1239 West Mineral Street\, Milwaukee\, Wisconsin\, 53204\, Virgin Islands (U.S.)
ATTACH;FMTTYPE=image/jpeg:https://milwaukeemcc.org/wp-content/uploads/2023/11/2024-Pack-the-Pantry-MilMCC-Small.jpg
ORGANIZER;CN="Milwaukee Metropolitan Community Church":MAILTO:info@milmcc.org
END:VEVENT
BEGIN:VEVENT
DTSTART;TZID=UTC:20240630T110000
DTEND;TZID=UTC:20240630T120000
DTSTAMP:20260423T063016
CREATED:20240224T184224Z
LAST-MODIFIED:20240224T184224Z
UID:6642-1719745200-1719748800@milwaukeemcc.org
SUMMARY:Sunday Worship Service
DESCRIPTION:Join Milwaukee Metropolitan Community Church every Sunday morning for our IN-PERSON Worship Service. \nFor questions and more information\, feel free to contact the church office by calling 414-383-1100 or by email at info@milmcc.org
URL:https://milwaukeemcc.org/event/sunday-worship-service-63/
LOCATION:Milwaukee Metropolitan Community Church\, 1239 West Mineral Street\, Milwaukee\, Wisconsin\, 53204\, Virgin Islands (U.S.)
ATTACH;FMTTYPE=image/jpeg:https://milwaukeemcc.org/wp-content/uploads/2023/11/R.jpeg
ORGANIZER;CN="Milwaukee Metropolitan Community Church":MAILTO:info@milmcc.org
END:VEVENT
BEGIN:VEVENT
DTSTART;TZID=UTC:20240107T110000
DTEND;TZID=UTC:20240107T120000
DTSTAMP:20260423T063016
CREATED:20231127T204421Z
LAST-MODIFIED:20231128T005231Z
UID:6354-1704625200-1704628800@milwaukeemcc.org
SUMMARY:First Sunday of the Month Contemporary Worship Service
DESCRIPTION:Join Milwaukee Metropolitan Community Church every Sunday morning for our IN-PERSON Worship Service.\nFor questions and more information\, feel free to contact the church office by calling 414-383-1100 or by email at info@milmcc.org
URL:https://milwaukeemcc.org/event/first-sunday-of-the-month-contemporary-worship-service-2/
LOCATION:Milwaukee Metropolitan Community Church\, 1239 West Mineral Street\, Milwaukee\, Wisconsin\, 53204\, Virgin Islands (U.S.)
ATTACH;FMTTYPE=image/jpeg:https://milwaukeemcc.org/wp-content/uploads/2023/08/Contemporary-Worship-Service-Monthly-Ad-Small.jpg
ORGANIZER;CN="Milwaukee Metropolitan Community Church":MAILTO:info@milmcc.org
END:VEVENT
BEGIN:VEVENT
DTSTART;TZID=UTC:20240128T110000
DTEND;TZID=UTC:20240128T133000
DTSTAMP:20260423T063016
CREATED:20231128T004326Z
LAST-MODIFIED:20231128T004527Z
UID:6376-1706439600-1706448600@milwaukeemcc.org
SUMMARY:Pack the Pantry
DESCRIPTION:Milwaukee Metropolitan Community Church and Angels of Hope Metropolitan Community Church have joined forces through our Outreach Ministry Programs in order to connect closer with our community partners in the LGBTQ Community.\nEvery Fourth Sunday of the month has been designated PACK THE PANTY SUNDAY. Pack the Pantry Sunday is a time for you\, the people of the church to come together and help support our partnered organizations Food Pantries.\nWe ask that you bring your items on the fourth Sunday and place them in the containers that will be provided. This doesn’t mean you can’t bring your items on other Sundays as well but are hopeful you will partake in Pack the Pantry on every Fourth Sunday of the month.\nSuggested Donations Items can be found by clicking on: Pack the Pantry
URL:https://milwaukeemcc.org/event/pack-the-pantry-2/
LOCATION:Milwaukee Metropolitan Community Church\, 1239 West Mineral Street\, Milwaukee\, Wisconsin\, 53204\, Virgin Islands (U.S.)
ATTACH;FMTTYPE=image/jpeg:https://milwaukeemcc.org/wp-content/uploads/2023/11/2024-Pack-the-Pantry-MilMCC-Small.jpg
ORGANIZER;CN="Milwaukee Metropolitan Community Church":MAILTO:info@milmcc.org
END:VEVENT
BEGIN:VEVENT
DTSTART;TZID=UTC:20240107T110000
DTEND;TZID=UTC:20240107T120000
DTSTAMP:20260423T063016
CREATED:20231127T204421Z
LAST-MODIFIED:20231128T005231Z
UID:6354-1704625200-1704628800@milwaukeemcc.org
SUMMARY:First Sunday of the Month Contemporary Worship Service
DESCRIPTION:Join Milwaukee Metropolitan Community Church every Sunday morning for our IN-PERSON Worship Service.\nFor questions and more information\, feel free to contact the church office by calling 414-383-1100 or by email at info@milmcc.org
URL:https://milwaukeemcc.org/event/first-sunday-of-the-month-contemporary-worship-service-2/
LOCATION:Milwaukee Metropolitan Community Church\, 1239 West Mineral Street\, Milwaukee\, Wisconsin\, 53204\, Virgin Islands (U.S.)
ATTACH;FMTTYPE=image/jpeg:https://milwaukeemcc.org/wp-content/uploads/2023/08/Contemporary-Worship-Service-Monthly-Ad-Small.jpg
ORGANIZER;CN="Milwaukee Metropolitan Community Church":MAILTO:info@milmcc.org
END:VEVENT
BEGIN:VEVENT
DTSTART;TZID=UTC:20240128T110000
DTEND;TZID=UTC:20240128T133000
DTSTAMP:20260423T063016
CREATED:20231128T004326Z
LAST-MODIFIED:20231128T004527Z
UID:6376-1706439600-1706448600@milwaukeemcc.org
SUMMARY:Pack the Pantry
DESCRIPTION:Milwaukee Metropolitan Community Church and Angels of Hope Metropolitan Community Church have joined forces through our Outreach Ministry Programs in order to connect closer with our community partners in the LGBTQ Community.\nEvery Fourth Sunday of the month has been designated PACK THE PANTY SUNDAY. Pack the Pantry Sunday is a time for you\, the people of the church to come together and help support our partnered organizations Food Pantries.\nWe ask that you bring your items on the fourth Sunday and place them in the containers that will be provided. This doesn’t mean you can’t bring your items on other Sundays as well but are hopeful you will partake in Pack the Pantry on every Fourth Sunday of the month.\nSuggested Donations Items can be found by clicking on: Pack the Pantry
URL:https://milwaukeemcc.org/event/pack-the-pantry-2/
LOCATION:Milwaukee Metropolitan Community Church\, 1239 West Mineral Street\, Milwaukee\, Wisconsin\, 53204\, Virgin Islands (U.S.)
ATTACH;FMTTYPE=image/jpeg:https://milwaukeemcc.org/wp-content/uploads/2023/11/2024-Pack-the-Pantry-MilMCC-Small.jpg
ORGANIZER;CN="Milwaukee Metropolitan Community Church":MAILTO:info@milmcc.org
END:VEVENT
BEGIN:VEVENT
DTSTART;TZID=UTC:20240107T110000
DTEND;TZID=UTC:20240107T120000
DTSTAMP:20260423T063016
CREATED:20231127T204421Z
LAST-MODIFIED:20231128T005231Z
UID:6354-1704625200-1704628800@milwaukeemcc.org
SUMMARY:First Sunday of the Month Contemporary Worship Service
DESCRIPTION:Join Milwaukee Metropolitan Community Church every Sunday morning for our IN-PERSON Worship Service.\nFor questions and more information\, feel free to contact the church office by calling 414-383-1100 or by email at info@milmcc.org
URL:https://milwaukeemcc.org/event/first-sunday-of-the-month-contemporary-worship-service-2/
LOCATION:Milwaukee Metropolitan Community Church\, 1239 West Mineral Street\, Milwaukee\, Wisconsin\, 53204\, Virgin Islands (U.S.)
ATTACH;FMTTYPE=image/jpeg:https://milwaukeemcc.org/wp-content/uploads/2023/08/Contemporary-Worship-Service-Monthly-Ad-Small.jpg
ORGANIZER;CN="Milwaukee Metropolitan Community Church":MAILTO:info@milmcc.org
END:VEVENT
BEGIN:VEVENT
DTSTART;TZID=UTC:20240128T110000
DTEND;TZID=UTC:20240128T133000
DTSTAMP:20260423T063016
CREATED:20231128T004326Z
LAST-MODIFIED:20231128T004527Z
UID:6376-1706439600-1706448600@milwaukeemcc.org
SUMMARY:Pack the Pantry
DESCRIPTION:Milwaukee Metropolitan Community Church and Angels of Hope Metropolitan Community Church have joined forces through our Outreach Ministry Programs in order to connect closer with our community partners in the LGBTQ Community.\nEvery Fourth Sunday of the month has been designated PACK THE PANTY SUNDAY. Pack the Pantry Sunday is a time for you\, the people of the church to come together and help support our partnered organizations Food Pantries.\nWe ask that you bring your items on the fourth Sunday and place them in the containers that will be provided. This doesn’t mean you can’t bring your items on other Sundays as well but are hopeful you will partake in Pack the Pantry on every Fourth Sunday of the month.\nSuggested Donations Items can be found by clicking on: Pack the Pantry
URL:https://milwaukeemcc.org/event/pack-the-pantry-2/
LOCATION:Milwaukee Metropolitan Community Church\, 1239 West Mineral Street\, Milwaukee\, Wisconsin\, 53204\, Virgin Islands (U.S.)
ATTACH;FMTTYPE=image/jpeg:https://milwaukeemcc.org/wp-content/uploads/2023/11/2024-Pack-the-Pantry-MilMCC-Small.jpg
ORGANIZER;CN="Milwaukee Metropolitan Community Church":MAILTO:info@milmcc.org
END:VEVENT
BEGIN:VEVENT
DTSTART;TZID=UTC:20240107T110000
DTEND;TZID=UTC:20240107T120000
DTSTAMP:20260423T063016
CREATED:20231127T204421Z
LAST-MODIFIED:20231128T005231Z
UID:6354-1704625200-1704628800@milwaukeemcc.org
SUMMARY:First Sunday of the Month Contemporary Worship Service
DESCRIPTION:Join Milwaukee Metropolitan Community Church every Sunday morning for our IN-PERSON Worship Service.\nFor questions and more information\, feel free to contact the church office by calling 414-383-1100 or by email at info@milmcc.org
URL:https://milwaukeemcc.org/event/first-sunday-of-the-month-contemporary-worship-service-2/
LOCATION:Milwaukee Metropolitan Community Church\, 1239 West Mineral Street\, Milwaukee\, Wisconsin\, 53204\, Virgin Islands (U.S.)
ATTACH;FMTTYPE=image/jpeg:https://milwaukeemcc.org/wp-content/uploads/2023/08/Contemporary-Worship-Service-Monthly-Ad-Small.jpg
ORGANIZER;CN="Milwaukee Metropolitan Community Church":MAILTO:info@milmcc.org
END:VEVENT
BEGIN:VEVENT
DTSTART;TZID=UTC:20240128T110000
DTEND;TZID=UTC:20240128T133000
DTSTAMP:20260423T063016
CREATED:20231128T004326Z
LAST-MODIFIED:20231128T004527Z
UID:6376-1706439600-1706448600@milwaukeemcc.org
SUMMARY:Pack the Pantry
DESCRIPTION:Milwaukee Metropolitan Community Church and Angels of Hope Metropolitan Community Church have joined forces through our Outreach Ministry Programs in order to connect closer with our community partners in the LGBTQ Community.\nEvery Fourth Sunday of the month has been designated PACK THE PANTY SUNDAY. Pack the Pantry Sunday is a time for you\, the people of the church to come together and help support our partnered organizations Food Pantries.\nWe ask that you bring your items on the fourth Sunday and place them in the containers that will be provided. This doesn’t mean you can’t bring your items on other Sundays as well but are hopeful you will partake in Pack the Pantry on every Fourth Sunday of the month.\nSuggested Donations Items can be found by clicking on: Pack the Pantry
URL:https://milwaukeemcc.org/event/pack-the-pantry-2/
LOCATION:Milwaukee Metropolitan Community Church\, 1239 West Mineral Street\, Milwaukee\, Wisconsin\, 53204\, Virgin Islands (U.S.)
ATTACH;FMTTYPE=image/jpeg:https://milwaukeemcc.org/wp-content/uploads/2023/11/2024-Pack-the-Pantry-MilMCC-Small.jpg
ORGANIZER;CN="Milwaukee Metropolitan Community Church":MAILTO:info@milmcc.org
END:VEVENT
BEGIN:VEVENT
DTSTART;TZID=UTC:20240107T110000
DTEND;TZID=UTC:20240107T120000
DTSTAMP:20260423T063016
CREATED:20231127T204421Z
LAST-MODIFIED:20231128T005231Z
UID:6354-1704625200-1704628800@milwaukeemcc.org
SUMMARY:First Sunday of the Month Contemporary Worship Service
DESCRIPTION:Join Milwaukee Metropolitan Community Church every Sunday morning for our IN-PERSON Worship Service.\nFor questions and more information\, feel free to contact the church office by calling 414-383-1100 or by email at info@milmcc.org
URL:https://milwaukeemcc.org/event/first-sunday-of-the-month-contemporary-worship-service-2/
LOCATION:Milwaukee Metropolitan Community Church\, 1239 West Mineral Street\, Milwaukee\, Wisconsin\, 53204\, Virgin Islands (U.S.)
ATTACH;FMTTYPE=image/jpeg:https://milwaukeemcc.org/wp-content/uploads/2023/08/Contemporary-Worship-Service-Monthly-Ad-Small.jpg
ORGANIZER;CN="Milwaukee Metropolitan Community Church":MAILTO:info@milmcc.org
END:VEVENT
BEGIN:VEVENT
DTSTART;TZID=UTC:20240128T110000
DTEND;TZID=UTC:20240128T133000
DTSTAMP:20260423T063016
CREATED:20231128T004326Z
LAST-MODIFIED:20231128T004527Z
UID:6376-1706439600-1706448600@milwaukeemcc.org
SUMMARY:Pack the Pantry
DESCRIPTION:Milwaukee Metropolitan Community Church and Angels of Hope Metropolitan Community Church have joined forces through our Outreach Ministry Programs in order to connect closer with our community partners in the LGBTQ Community.\nEvery Fourth Sunday of the month has been designated PACK THE PANTY SUNDAY. Pack the Pantry Sunday is a time for you\, the people of the church to come together and help support our partnered organizations Food Pantries.\nWe ask that you bring your items on the fourth Sunday and place them in the containers that will be provided. This doesn’t mean you can’t bring your items on other Sundays as well but are hopeful you will partake in Pack the Pantry on every Fourth Sunday of the month.\nSuggested Donations Items can be found by clicking on: Pack the Pantry
URL:https://milwaukeemcc.org/event/pack-the-pantry-2/
LOCATION:Milwaukee Metropolitan Community Church\, 1239 West Mineral Street\, Milwaukee\, Wisconsin\, 53204\, Virgin Islands (U.S.)
ATTACH;FMTTYPE=image/jpeg:https://milwaukeemcc.org/wp-content/uploads/2023/11/2024-Pack-the-Pantry-MilMCC-Small.jpg
ORGANIZER;CN="Milwaukee Metropolitan Community Church":MAILTO:info@milmcc.org
END:VEVENT
BEGIN:VEVENT
DTSTART;TZID=UTC:20240107T110000
DTEND;TZID=UTC:20240107T120000
DTSTAMP:20260423T063016
CREATED:20231127T204421Z
LAST-MODIFIED:20231128T005231Z
UID:6354-1704625200-1704628800@milwaukeemcc.org
SUMMARY:First Sunday of the Month Contemporary Worship Service
DESCRIPTION:Join Milwaukee Metropolitan Community Church every Sunday morning for our IN-PERSON Worship Service.\nFor questions and more information\, feel free to contact the church office by calling 414-383-1100 or by email at info@milmcc.org
URL:https://milwaukeemcc.org/event/first-sunday-of-the-month-contemporary-worship-service-2/
LOCATION:Milwaukee Metropolitan Community Church\, 1239 West Mineral Street\, Milwaukee\, Wisconsin\, 53204\, Virgin Islands (U.S.)
ATTACH;FMTTYPE=image/jpeg:https://milwaukeemcc.org/wp-content/uploads/2023/08/Contemporary-Worship-Service-Monthly-Ad-Small.jpg
ORGANIZER;CN="Milwaukee Metropolitan Community Church":MAILTO:info@milmcc.org
END:VEVENT
BEGIN:VEVENT
DTSTART;TZID=UTC:20240128T110000
DTEND;TZID=UTC:20240128T133000
DTSTAMP:20260423T063016
CREATED:20231128T004326Z
LAST-MODIFIED:20231128T004527Z
UID:6376-1706439600-1706448600@milwaukeemcc.org
SUMMARY:Pack the Pantry
DESCRIPTION:Milwaukee Metropolitan Community Church and Angels of Hope Metropolitan Community Church have joined forces through our Outreach Ministry Programs in order to connect closer with our community partners in the LGBTQ Community.\nEvery Fourth Sunday of the month has been designated PACK THE PANTY SUNDAY. Pack the Pantry Sunday is a time for you\, the people of the church to come together and help support our partnered organizations Food Pantries.\nWe ask that you bring your items on the fourth Sunday and place them in the containers that will be provided. This doesn’t mean you can’t bring your items on other Sundays as well but are hopeful you will partake in Pack the Pantry on every Fourth Sunday of the month.\nSuggested Donations Items can be found by clicking on: Pack the Pantry
URL:https://milwaukeemcc.org/event/pack-the-pantry-2/
LOCATION:Milwaukee Metropolitan Community Church\, 1239 West Mineral Street\, Milwaukee\, Wisconsin\, 53204\, Virgin Islands (U.S.)
ATTACH;FMTTYPE=image/jpeg:https://milwaukeemcc.org/wp-content/uploads/2023/11/2024-Pack-the-Pantry-MilMCC-Small.jpg
ORGANIZER;CN="Milwaukee Metropolitan Community Church":MAILTO:info@milmcc.org
END:VEVENT
BEGIN:VEVENT
DTSTART;TZID=UTC:20240107T110000
DTEND;TZID=UTC:20240107T120000
DTSTAMP:20260423T063016
CREATED:20231127T204421Z
LAST-MODIFIED:20231128T005231Z
UID:6354-1704625200-1704628800@milwaukeemcc.org
SUMMARY:First Sunday of the Month Contemporary Worship Service
DESCRIPTION:Join Milwaukee Metropolitan Community Church every Sunday morning for our IN-PERSON Worship Service.\nFor questions and more information\, feel free to contact the church office by calling 414-383-1100 or by email at info@milmcc.org
URL:https://milwaukeemcc.org/event/first-sunday-of-the-month-contemporary-worship-service-2/
LOCATION:Milwaukee Metropolitan Community Church\, 1239 West Mineral Street\, Milwaukee\, Wisconsin\, 53204\, Virgin Islands (U.S.)
ATTACH;FMTTYPE=image/jpeg:https://milwaukeemcc.org/wp-content/uploads/2023/08/Contemporary-Worship-Service-Monthly-Ad-Small.jpg
ORGANIZER;CN="Milwaukee Metropolitan Community Church":MAILTO:info@milmcc.org
END:VEVENT
BEGIN:VEVENT
DTSTART;TZID=UTC:20240128T110000
DTEND;TZID=UTC:20240128T133000
DTSTAMP:20260423T063016
CREATED:20231128T004326Z
LAST-MODIFIED:20231128T004527Z
UID:6376-1706439600-1706448600@milwaukeemcc.org
SUMMARY:Pack the Pantry
DESCRIPTION:Milwaukee Metropolitan Community Church and Angels of Hope Metropolitan Community Church have joined forces through our Outreach Ministry Programs in order to connect closer with our community partners in the LGBTQ Community.\nEvery Fourth Sunday of the month has been designated PACK THE PANTY SUNDAY. Pack the Pantry Sunday is a time for you\, the people of the church to come together and help support our partnered organizations Food Pantries.\nWe ask that you bring your items on the fourth Sunday and place them in the containers that will be provided. This doesn’t mean you can’t bring your items on other Sundays as well but are hopeful you will partake in Pack the Pantry on every Fourth Sunday of the month.\nSuggested Donations Items can be found by clicking on: Pack the Pantry
URL:https://milwaukeemcc.org/event/pack-the-pantry-2/
LOCATION:Milwaukee Metropolitan Community Church\, 1239 West Mineral Street\, Milwaukee\, Wisconsin\, 53204\, Virgin Islands (U.S.)
ATTACH;FMTTYPE=image/jpeg:https://milwaukeemcc.org/wp-content/uploads/2023/11/2024-Pack-the-Pantry-MilMCC-Small.jpg
ORGANIZER;CN="Milwaukee Metropolitan Community Church":MAILTO:info@milmcc.org
END:VEVENT
BEGIN:VEVENT
DTSTART;TZID=UTC:20240107T110000
DTEND;TZID=UTC:20240107T120000
DTSTAMP:20260423T063016
CREATED:20231127T204421Z
LAST-MODIFIED:20231128T005231Z
UID:6354-1704625200-1704628800@milwaukeemcc.org
SUMMARY:First Sunday of the Month Contemporary Worship Service
DESCRIPTION:Join Milwaukee Metropolitan Community Church every Sunday morning for our IN-PERSON Worship Service.\nFor questions and more information\, feel free to contact the church office by calling 414-383-1100 or by email at info@milmcc.org
URL:https://milwaukeemcc.org/event/first-sunday-of-the-month-contemporary-worship-service-2/
LOCATION:Milwaukee Metropolitan Community Church\, 1239 West Mineral Street\, Milwaukee\, Wisconsin\, 53204\, Virgin Islands (U.S.)
ATTACH;FMTTYPE=image/jpeg:https://milwaukeemcc.org/wp-content/uploads/2023/08/Contemporary-Worship-Service-Monthly-Ad-Small.jpg
ORGANIZER;CN="Milwaukee Metropolitan Community Church":MAILTO:info@milmcc.org
END:VEVENT
BEGIN:VEVENT
DTSTART;TZID=UTC:20230214T000000
DTEND;TZID=UTC:20230214T235900
DTSTAMP:20260423T063016
CREATED:20221227T041958Z
LAST-MODIFIED:20231128T005427Z
UID:5306-1676332800-1676419140@milwaukeemcc.org
SUMMARY:Valentine’s Day
DESCRIPTION:Valentine’s Day
URL:https://milwaukeemcc.org/event/valentines-day-2/
LOCATION:Wisconsin
ATTACH;FMTTYPE=image/jpeg:https://milwaukeemcc.org/wp-content/uploads/2022/02/Slide1-2.jpg
END:VEVENT
BEGIN:VEVENT
DTSTART;TZID=UTC:20240128T110000
DTEND;TZID=UTC:20240128T133000
DTSTAMP:20260423T063016
CREATED:20231128T004326Z
LAST-MODIFIED:20231128T004527Z
UID:6376-1706439600-1706448600@milwaukeemcc.org
SUMMARY:Pack the Pantry
DESCRIPTION:Milwaukee Metropolitan Community Church and Angels of Hope Metropolitan Community Church have joined forces through our Outreach Ministry Programs in order to connect closer with our community partners in the LGBTQ Community.\nEvery Fourth Sunday of the month has been designated PACK THE PANTY SUNDAY. Pack the Pantry Sunday is a time for you\, the people of the church to come together and help support our partnered organizations Food Pantries.\nWe ask that you bring your items on the fourth Sunday and place them in the containers that will be provided. This doesn’t mean you can’t bring your items on other Sundays as well but are hopeful you will partake in Pack the Pantry on every Fourth Sunday of the month.\nSuggested Donations Items can be found by clicking on: Pack the Pantry
URL:https://milwaukeemcc.org/event/pack-the-pantry-2/
LOCATION:Milwaukee Metropolitan Community Church\, 1239 West Mineral Street\, Milwaukee\, Wisconsin\, 53204\, Virgin Islands (U.S.)
ATTACH;FMTTYPE=image/jpeg:https://milwaukeemcc.org/wp-content/uploads/2023/11/2024-Pack-the-Pantry-MilMCC-Small.jpg
ORGANIZER;CN="Milwaukee Metropolitan Community Church":MAILTO:info@milmcc.org
END:VEVENT
BEGIN:VEVENT
DTSTART;TZID=UTC:20240107T110000
DTEND;TZID=UTC:20240107T120000
DTSTAMP:20260423T063016
CREATED:20231127T204421Z
LAST-MODIFIED:20231128T005231Z
UID:6354-1704625200-1704628800@milwaukeemcc.org
SUMMARY:First Sunday of the Month Contemporary Worship Service
DESCRIPTION:Join Milwaukee Metropolitan Community Church every Sunday morning for our IN-PERSON Worship Service.\nFor questions and more information\, feel free to contact the church office by calling 414-383-1100 or by email at info@milmcc.org
URL:https://milwaukeemcc.org/event/first-sunday-of-the-month-contemporary-worship-service-2/
LOCATION:Milwaukee Metropolitan Community Church\, 1239 West Mineral Street\, Milwaukee\, Wisconsin\, 53204\, Virgin Islands (U.S.)
ATTACH;FMTTYPE=image/jpeg:https://milwaukeemcc.org/wp-content/uploads/2023/08/Contemporary-Worship-Service-Monthly-Ad-Small.jpg
ORGANIZER;CN="Milwaukee Metropolitan Community Church":MAILTO:info@milmcc.org
END:VEVENT
END:VCALENDAR