BEGIN:VCALENDAR
VERSION:2.0
PRODID:-//Milwaukee Metropolitan Community Church - ECPv6.15.20//NONSGML v1.0//EN
CALSCALE:GREGORIAN
METHOD:PUBLISH
X-WR-CALNAME:Milwaukee Metropolitan Community Church
X-ORIGINAL-URL:https://milwaukeemcc.org
X-WR-CALDESC:Events for Milwaukee Metropolitan Community Church
REFRESH-INTERVAL;VALUE=DURATION:PT1H
X-Robots-Tag:noindex
X-PUBLISHED-TTL:PT1H
BEGIN:VTIMEZONE
TZID:UTC
BEGIN:STANDARD
TZOFFSETFROM:+0000
TZOFFSETTO:+0000
TZNAME:UTC
DTSTART:20200101T000000
END:STANDARD
END:VTIMEZONE
BEGIN:VEVENT
DTSTART;TZID=UTC:20211107T110000
DTEND;TZID=UTC:20211107T120000
DTSTAMP:20260423T021347
CREATED:20210719T005449Z
LAST-MODIFIED:20210719T005505Z
UID:2638-1636282800-1636286400@milwaukeemcc.org
SUMMARY:Sunday Worship Service
DESCRIPTION:Join Milwaukee Metropolitan Community Church every Sunday morning for our IN-PERSON Worship Service. \nFor questions and more information\, feel free to contact the church office by calling 414-383-1100 or by email at info@milmcc.org
URL:https://milwaukeemcc.org/event/sunday-worship-service-21/
LOCATION:Milwaukee Metropolitan Community Church\, 1239 West Mineral Street\, Milwaukee\, Wisconsin\, 53204\, Virgin Islands (U.S.)
ATTACH;FMTTYPE=image/png:https://milwaukeemcc.org/wp-content/uploads/2021/06/R6ed431f8460d7d3a12e285ac6ead515c.png
END:VEVENT
BEGIN:VEVENT
DTSTART;TZID=UTC:20211104T183000
DTEND;TZID=UTC:20211104T200000
DTSTAMP:20260423T021347
CREATED:20210820T192955Z
LAST-MODIFIED:20210820T193022Z
UID:2790-1636050600-1636056000@milwaukeemcc.org
SUMMARY:Theology-on-Tap | Hybrid
DESCRIPTION:This gathering will be hosted in a Hybrid Fashion. We will also be live streaming via ZOOM. \nGather with us in person at:\nHamburger Mary’s|Hunty’s Social Club\n734 South 5th Street\, Milwaukee 5204 \nYou can also Connect with us:\nhttps://us02web.zoom.us/j/86055363676 \nCome join us!  First beverage is on us along with some snack type foods.  If joining us virtually\, grab your favorite beverage and some snack type foods for an evening of good discussion. \nFor questions and more information\, feel free to contact the church office by calling 414-383-1100 or by email at info@milmcc.org
URL:https://milwaukeemcc.org/event/theology-on-tap-hybrid-4/
LOCATION:Hunty’s Social Club\, 734 South 5th Street\, Milwaukee\, WI\, 53204\, United States
ATTACH;FMTTYPE=image/jpeg:https://milwaukeemcc.org/wp-content/uploads/2021/07/Theolgoy-on-Tap-General.jpg
ORGANIZER;CN="Milwaukee Metropolitan Community Church":MAILTO:info@milmcc.org
END:VEVENT
BEGIN:VEVENT
DTSTART;TZID=UTC:20211102T190000
DTEND;TZID=UTC:20211102T210000
DTSTAMP:20260423T021347
CREATED:20210820T192125Z
LAST-MODIFIED:20210907T142536Z
UID:2782-1635879600-1635886800@milwaukeemcc.org
SUMMARY:POZ Spirit ~ HIV Peer Support Gathering | In-Person
DESCRIPTION:POZ Spirit is a group for men who are HIV/AIDS infected\, providing a safe\, respectful and supportive environment. POZ Spirit is where individuals have the opportunity to form friendships\, while having the opportunity to network\, share resources\, while providing peer support and education\, along with having discussions on any personal and relevant issues. \nJoin us on the First Tuesday of the month as we hold a gathering for those living with HIV/AIDS providing a safe\, respectful and supportive environment.  We Provide Friendship • Networking • Resources • Education. \nA light snacks will be provided reservations are requested but not required. \nFor more information or to RSVP contact: hivministries@milmcc.org or call the church office: 414-383-1100
URL:https://milwaukeemcc.org/event/poz-spirit-hiv-peer-support-gathering-in-person-4/
LOCATION:Milwaukee Metropolitan Community Church\, 1239 West Mineral Street\, Milwaukee\, Wisconsin\, 53204\, Virgin Islands (U.S.)
ATTACH;FMTTYPE=image/jpeg:https://milwaukeemcc.org/wp-content/uploads/2021/07/MMCC-Poz-Spirit-Horizontal-small.jpg
ORGANIZER;CN="Milwaukee Metropolitan Community Church":MAILTO:info@milmcc.org
END:VEVENT
BEGIN:VEVENT
DTSTART;TZID=UTC:20211102T000000
DTEND;TZID=UTC:20211102T235900
DTSTAMP:20260423T021347
CREATED:20210512T154922Z
LAST-MODIFIED:20210512T154938Z
UID:2210-1635811200-1635897540@milwaukeemcc.org
SUMMARY:Election Day
DESCRIPTION:
URL:https://milwaukeemcc.org/event/election-day-2/
LOCATION:Wisconsin
ATTACH;FMTTYPE=image/jpeg:https://milwaukeemcc.org/wp-content/uploads/2020/09/Election-Day-Vote.jpg
END:VEVENT
BEGIN:VEVENT
DTSTART;TZID=UTC:20211031T110000
DTEND;TZID=UTC:20211031T120000
DTSTAMP:20260423T021347
CREATED:20210718T235032Z
LAST-MODIFIED:20210718T235118Z
UID:2618-1635678000-1635681600@milwaukeemcc.org
SUMMARY:Sunday Worship Service
DESCRIPTION:Join Milwaukee Metropolitan Community Church every Sunday morning for our IN-PERSON Worship Service. \nFor questions and more information\, feel free to contact the church office by calling 414-383-1100 or by email at info@milmcc.org
URL:https://milwaukeemcc.org/event/sunday-worship/
LOCATION:Milwaukee Metropolitan Community Church\, 1239 West Mineral Street\, Milwaukee\, Wisconsin\, 53204\, Virgin Islands (U.S.)
ATTACH;FMTTYPE=image/png:https://milwaukeemcc.org/wp-content/uploads/2021/06/R6ed431f8460d7d3a12e285ac6ead515c.png
END:VEVENT
BEGIN:VEVENT
DTSTART;TZID=UTC:20211031T000000
DTEND;TZID=UTC:20211031T235900
DTSTAMP:20260423T021347
CREATED:20210512T153454Z
LAST-MODIFIED:20210512T153714Z
UID:2197-1635638400-1635724740@milwaukeemcc.org
SUMMARY:Halloween
DESCRIPTION:Have a Happy and Safe Halloween!
URL:https://milwaukeemcc.org/event/halloween-2/
LOCATION:Wisconsin
ATTACH;FMTTYPE=image/jpeg:https://milwaukeemcc.org/wp-content/uploads/2020/09/Happy-Halloween.jpg
END:VEVENT
BEGIN:VEVENT
DTSTART;TZID=UTC:20211024T110000
DTEND;TZID=UTC:20211024T120000
DTSTAMP:20260423T021347
CREATED:20210719T000410Z
LAST-MODIFIED:20210719T000411Z
UID:2627-1635073200-1635076800@milwaukeemcc.org
SUMMARY:Sunday Worship Service
DESCRIPTION:Join Milwaukee Metropolitan Community Church every Sunday morning for our IN-PERSON Worship Service. \nFor questions and more information\, feel free to contact the church office by calling 414-383-1100 or by email at info@milmcc.org
URL:https://milwaukeemcc.org/event/sunday-worship-service-19/
LOCATION:Milwaukee Metropolitan Community Church\, 1239 West Mineral Street\, Milwaukee\, Wisconsin\, 53204\, Virgin Islands (U.S.)
ATTACH;FMTTYPE=image/png:https://milwaukeemcc.org/wp-content/uploads/2021/06/R6ed431f8460d7d3a12e285ac6ead515c.png
END:VEVENT
BEGIN:VEVENT
DTSTART;TZID=UTC:20211024T110000
DTEND;TZID=UTC:20211024T120000
DTSTAMP:20260423T021347
CREATED:20210718T235343Z
LAST-MODIFIED:20210929T010118Z
UID:2621-1635073200-1635076800@milwaukeemcc.org
SUMMARY:Pack the Pantry Sunday
DESCRIPTION:Milwaukee Metropolitan Community Church and Angels of Hope Metropolitan Community Church have joined forces through our Outreach Ministry Programs in order to connect closer with our community partners in the LGBTQ Community. \nEvery Fourth Sunday of the month has been designated PACK THE PANTY SUNDAY. Pack the Pantry Sunday is a time for you\, the people of the church to come together and help support our partnered organizations Food Pantries. \nWe ask that you bring your items on the fourth Sunday and place them in the containers that will be provided. This doesn’t mean you can’t bring your items on other Sundays as well but are hopeful you will partake in Pack the Pantry on every Fourth Sunday of the month. \nSuggested Donations Items can be found by clicking on: Pack the Pantry
URL:https://milwaukeemcc.org/event/pack-the-pantry-sunday-4/
LOCATION:Milwaukee Metropolitan Community Church\, 1239 West Mineral Street\, Milwaukee\, Wisconsin\, 53204\, Virgin Islands (U.S.)
ATTACH;FMTTYPE=image/jpeg:https://milwaukeemcc.org/wp-content/uploads/2021/07/Slide3.jpg
END:VEVENT
BEGIN:VEVENT
DTSTART;TZID=UTC:20211017T123000
DTEND;TZID=UTC:20211017T140000
DTSTAMP:20260423T021347
CREATED:20210719T004354Z
LAST-MODIFIED:20210917T123057Z
UID:2634-1634473800-1634479200@milwaukeemcc.org
SUMMARY:Brunch with the Pastor
DESCRIPTION:Join us every THIRD SUNDAY of the Month following Sunday Worship (12:30pm) at Riverfront Pizzeria\, as we gather at one of our local eating establishments as we gather for some good food\, exciting conversations and awesome fellowship with one another. \nRiverfront Pizzeria\n509 East Erie Street\nMilwaukee\, WI 53202
URL:https://milwaukeemcc.org/event/brunch-with-the-pastor-3/
LOCATION:Wisconsin
ATTACH;FMTTYPE=image/jpeg:https://milwaukeemcc.org/wp-content/uploads/2021/07/Brunch-with-the-Pastor-Generic.jpg
ORGANIZER;CN="Milwaukee Metropolitan Community Church":MAILTO:info@milmcc.org
END:VEVENT
BEGIN:VEVENT
DTSTART;TZID=UTC:20211017T110000
DTEND;TZID=UTC:20211017T120000
DTSTAMP:20260423T021347
CREATED:20210719T000236Z
LAST-MODIFIED:20210719T000247Z
UID:2625-1634468400-1634472000@milwaukeemcc.org
SUMMARY:Sunday Worship Service
DESCRIPTION:Join Milwaukee Metropolitan Community Church every Sunday morning for our IN-PERSON Worship Service. \nFor questions and more information\, feel free to contact the church office by calling 414-383-1100 or by email at info@milmcc.org
URL:https://milwaukeemcc.org/event/sunday-worship-service-18/
LOCATION:Milwaukee Metropolitan Community Church\, 1239 West Mineral Street\, Milwaukee\, Wisconsin\, 53204\, Virgin Islands (U.S.)
ATTACH;FMTTYPE=image/png:https://milwaukeemcc.org/wp-content/uploads/2021/06/R6ed431f8460d7d3a12e285ac6ead515c.png
END:VEVENT
BEGIN:VEVENT
DTSTART;TZID=UTC:20211012T190000
DTEND;TZID=UTC:20211012T203000
DTSTAMP:20260423T021347
CREATED:20210820T180857Z
LAST-MODIFIED:20210820T180955Z
UID:2761-1634065200-1634070600@milwaukeemcc.org
SUMMARY:Board of Directors Meeting
DESCRIPTION:
URL:https://milwaukeemcc.org/event/board-of-directors-meeting/
LOCATION:Wisconsin
ATTACH;FMTTYPE=image/jpeg:https://milwaukeemcc.org/wp-content/uploads/2021/07/Board-Image.jpg
END:VEVENT
BEGIN:VEVENT
DTSTART;TZID=UTC:20211010T110000
DTEND;TZID=UTC:20211010T120000
DTSTAMP:20260423T021347
CREATED:20210719T000133Z
LAST-MODIFIED:20210719T000139Z
UID:2623-1633863600-1633867200@milwaukeemcc.org
SUMMARY:Sunday Worship Service
DESCRIPTION:Join Milwaukee Metropolitan Community Church every Sunday morning for our IN-PERSON Worship Service. \nFor questions and more information\, feel free to contact the church office by calling 414-383-1100 or by email at info@milmcc.org
URL:https://milwaukeemcc.org/event/sunday-worship-service-17/
LOCATION:Milwaukee Metropolitan Community Church\, 1239 West Mineral Street\, Milwaukee\, Wisconsin\, 53204\, Virgin Islands (U.S.)
ATTACH;FMTTYPE=image/png:https://milwaukeemcc.org/wp-content/uploads/2021/06/R6ed431f8460d7d3a12e285ac6ead515c.png
END:VEVENT
BEGIN:VEVENT
DTSTART;TZID=UTC:20211009T120000
DTEND;TZID=UTC:20211009T233000
DTSTAMP:20260423T021347
CREATED:20210929T005956Z
LAST-MODIFIED:20210929T005956Z
UID:3026-1633780800-1633822200@milwaukeemcc.org
SUMMARY:PRIDETOBERFEST
DESCRIPTION:
URL:https://milwaukeemcc.org/event/pridetoberfest-2/
LOCATION:Henry Maier Festival Park\, 200 N. Harbor Drive\, Milwaukee\, WI\, 53202\, United States
ATTACH;FMTTYPE=image/jpeg:https://milwaukeemcc.org/wp-content/uploads/2021/09/242445601_4285382248244551_2791315696179477922_n.jpg
END:VEVENT
BEGIN:VEVENT
DTSTART;TZID=UTC:20211008T170000
DTEND;TZID=UTC:20211008T213000
DTSTAMP:20260423T021347
CREATED:20210929T005505Z
LAST-MODIFIED:20210929T005506Z
UID:3018-1633712400-1633728600@milwaukeemcc.org
SUMMARY:MKE LGBT Center BIG Night Out
DESCRIPTION:
URL:https://milwaukeemcc.org/event/mke-lgbt-center-big-night-out/
LOCATION:Discovery World\, 500 N Harbor Dr.\, Milwaukee\, Wisconsin\, 53202\, United States
ATTACH;FMTTYPE=image/jpeg:https://milwaukeemcc.org/wp-content/uploads/2021/09/240592959_10157768271872373_3556449332138462758_n.jpg
END:VEVENT
BEGIN:VEVENT
DTSTART;TZID=UTC:20211008T150000
DTEND;TZID=UTC:20211008T233000
DTSTAMP:20260423T021347
CREATED:20210929T005906Z
LAST-MODIFIED:20210929T005906Z
UID:3022-1633705200-1633735800@milwaukeemcc.org
SUMMARY:PRIDETOBERFEST
DESCRIPTION:
URL:https://milwaukeemcc.org/event/pridetoberfest/
LOCATION:Henry Maier Festival Park\, 200 N. Harbor Drive\, Milwaukee\, WI\, 53202\, United States
ATTACH;FMTTYPE=image/jpeg:https://milwaukeemcc.org/wp-content/uploads/2021/09/242445601_4285382248244551_2791315696179477922_n.jpg
END:VEVENT
BEGIN:VEVENT
DTSTART;TZID=UTC:20211007T183000
DTEND;TZID=UTC:20211007T200000
DTSTAMP:20260423T021347
CREATED:20210820T192808Z
LAST-MODIFIED:20210820T193248Z
UID:2788-1633631400-1633636800@milwaukeemcc.org
SUMMARY:Theology-on-Tap | Hybrid
DESCRIPTION:This gathering will be hosted in a Hybrid Fashion. We will also be live streaming via ZOOM. \nGather with us in person at:\nHamburger Mary’s|Hunty’s Social Club\n734 South 5th Street\, Milwaukee 5204 \nYou can also Connect with us:\nhttps://us02web.zoom.us/j/86055363676 \nCome join us!  First beverage is on us along with some snack type foods.  If joining us virtually\, grab your favorite beverage and some snack type foods for an evening of good discussion. \nFor questions and more information\, feel free to contact the church office by calling 414-383-1100 or by email at info@milmcc.org
URL:https://milwaukeemcc.org/event/theology-on-tap-hybrid-3/
LOCATION:Hunty’s Social Club\, 734 South 5th Street\, Milwaukee\, WI\, 53204\, United States
ATTACH;FMTTYPE=image/jpeg:https://milwaukeemcc.org/wp-content/uploads/2021/07/Theolgoy-on-Tap-General.jpg
ORGANIZER;CN="Milwaukee Metropolitan Community Church":MAILTO:info@milmcc.org
END:VEVENT
BEGIN:VEVENT
DTSTART;TZID=UTC:20211005T190000
DTEND;TZID=UTC:20211005T210000
DTSTAMP:20260423T021347
CREATED:20210820T191911Z
LAST-MODIFIED:20210907T142345Z
UID:2779-1633460400-1633467600@milwaukeemcc.org
SUMMARY:POZ Spirit ~ HIV Peer Support Gathering | In-Person
DESCRIPTION:POZ Spirit is a group for men who are HIV/AIDS infected\, providing a safe\, respectful and supportive environment. POZ Spirit is where individuals have the opportunity to form friendships\, while having the opportunity to network\, share resources\, while providing peer support and education\, along with having discussions on any personal and relevant issues. \nJoin us on the First Tuesday of the month as we hold a gathering for those living with HIV/AIDS providing a safe\, respectful and supportive environment.  We Provide Friendship • Networking • Resources • Education. \nA light snacks will be provided reservations are requested but not required! \nfor more information or to RSVP contact: hivministries@milmcc.org or call the church office: 414-383-1100
URL:https://milwaukeemcc.org/event/poz-spirit-hiv-peer-support-gathering-in-person-3/
LOCATION:Wisconsin
ATTACH;FMTTYPE=image/jpeg:https://milwaukeemcc.org/wp-content/uploads/2021/07/MMCC-Poz-Spirit-Horizontal-small.jpg
END:VEVENT
BEGIN:VEVENT
DTSTART;TZID=UTC:20211003T120000
DTEND;TZID=UTC:20211003T133000
DTSTAMP:20260423T021347
CREATED:20210719T014547Z
LAST-MODIFIED:20210719T014555Z
UID:2659-1633262400-1633267800@milwaukeemcc.org
SUMMARY:First Sunday of the Month Cake Fellowship
DESCRIPTION:Join us every FIRST Sunday of the Month following worship as we celebrate birthdays and anniversaries for that particular month.
URL:https://milwaukeemcc.org/event/first-sunday-of-the-month-cake-fellowship-3/
LOCATION:Milwaukee Metropolitan Community Church\, 1239 West Mineral Street\, Milwaukee\, Wisconsin\, 53204\, Virgin Islands (U.S.)
ATTACH;FMTTYPE=image/jpeg:https://milwaukeemcc.org/wp-content/uploads/2021/07/Birthdays-and-Anniversaries-2021.jpg
END:VEVENT
BEGIN:VEVENT
DTSTART;TZID=UTC:20211003T110000
DTEND;TZID=UTC:20211003T120000
DTSTAMP:20260423T021347
CREATED:20210718T233716Z
LAST-MODIFIED:20210718T234857Z
UID:2616-1633258800-1633262400@milwaukeemcc.org
SUMMARY:Sunday Worship Service
DESCRIPTION:Join Milwaukee Metropolitan Community Church every Sunday morning for our IN-PERSON Worship Service. \nFor questions and more information\, feel free to contact the church office by calling 414-383-1100 or by email at info@milmcc.org
URL:https://milwaukeemcc.org/event/sunday-worship-service-16/
LOCATION:Milwaukee Metropolitan Community Church\, 1239 West Mineral Street\, Milwaukee\, Wisconsin\, 53204\, Virgin Islands (U.S.)
ATTACH;FMTTYPE=image/png:https://milwaukeemcc.org/wp-content/uploads/2021/06/R6ed431f8460d7d3a12e285ac6ead515c.png
END:VEVENT
BEGIN:VEVENT
DTSTART;TZID=UTC:20210926T110000
DTEND;TZID=UTC:20210926T123000
DTSTAMP:20260423T021347
CREATED:20210709T044206Z
LAST-MODIFIED:20210907T144622Z
UID:2528-1632654000-1632659400@milwaukeemcc.org
SUMMARY:Pack the Pantry Sunday
DESCRIPTION:Milwaukee Metropolitan Community Church and Angels of Hope Metropolitan Community Church have joined forces through our Outreach Ministry Programs in order to connect closer with our community partners in the LGBTQ Community. \nEvery Fourth Sunday of the month has been designated PACK THE PANTY SUNDAY. Pack the Pantry Sunday is a time for you\, the people of the church to come together and help support our partnered organizations Food Pantries. \nWe ask that you bring your items on the fourth Sunday and place them in the containers that will be provided. This doesn’t mean you can’t bring your items on other Sundays as well but are hopeful you will partake in Pack the Pantry on every Fourth Sunday of the month. \nSuggested Donations Items can be found by clicking on: Pack the Pantry
URL:https://milwaukeemcc.org/event/pack-the-pantry-sunday-3/
LOCATION:Milwaukee Metropolitan Community Church\, 1239 West Mineral Street\, Milwaukee\, Wisconsin\, 53204\, Virgin Islands (U.S.)
ATTACH;FMTTYPE=image/jpeg:https://milwaukeemcc.org/wp-content/uploads/2021/07/Slide3.jpg
END:VEVENT
BEGIN:VEVENT
DTSTART;TZID=UTC:20210926T110000
DTEND;TZID=UTC:20210926T120000
DTSTAMP:20260423T021347
CREATED:20210709T043710Z
LAST-MODIFIED:20210718T233833Z
UID:2524-1632654000-1632657600@milwaukeemcc.org
SUMMARY:Sunday Worship Service
DESCRIPTION:Join Milwaukee Metropolitan Community Church every Sunday morning for our IN-PERSON Worship Service. \nFor questions and more information\, feel free to contact the church office by calling 414-383-1100 or by email at info@milmcc.org
URL:https://milwaukeemcc.org/event/sunday-worship-service-15/
LOCATION:Milwaukee Metropolitan Community Church\, 1239 West Mineral Street\, Milwaukee\, Wisconsin\, 53204\, Virgin Islands (U.S.)
ATTACH;FMTTYPE=image/png:https://milwaukeemcc.org/wp-content/uploads/2021/06/R6ed431f8460d7d3a12e285ac6ead515c.png
END:VEVENT
BEGIN:VEVENT
DTSTART;TZID=UTC:20210925T090000
DTEND;TZID=UTC:20210925T160000
DTSTAMP:20260423T021347
CREATED:20210820T165913Z
LAST-MODIFIED:20210820T180817Z
UID:2753-1632560400-1632585600@milwaukeemcc.org
SUMMARY:Board of Directors Retreat
DESCRIPTION:Board of Directors Retreat
URL:https://milwaukeemcc.org/event/board-of-directors-retreat/
LOCATION:Milwaukee Metropolitan Community Church\, 1239 West Mineral Street\, Milwaukee\, Wisconsin\, 53204\, Virgin Islands (U.S.)
ATTACH;FMTTYPE=image/jpeg:https://milwaukeemcc.org/wp-content/uploads/2021/08/2021-09-25-Board-of-Directors-Retreat-Calendar-Image.jpg
ORGANIZER;CN="Milwaukee Metropolitan Community Church":MAILTO:info@milmcc.org
END:VEVENT
BEGIN:VEVENT
DTSTART;TZID=UTC:20210919T123000
DTEND;TZID=UTC:20210919T140000
DTSTAMP:20260423T021347
CREATED:20210719T004302Z
LAST-MODIFIED:20210917T123138Z
UID:2632-1632054600-1632060000@milwaukeemcc.org
SUMMARY:Brunch with the Pastor
DESCRIPTION:Join us every THIRD SUNDAY of the Month following Sunday Worship (12:30pm) at Riverfront Pizzeria\, as we gather at one of our local eating establishments as we gather for some good food\, exciting conversations and awesome fellowship with one another. \nRiverfront Pizzeria\n509 East Erie Street\nMilwaukee\, WI 53202
URL:https://milwaukeemcc.org/event/brunch-with-the-pastor-2/
LOCATION:Wisconsin
ATTACH;FMTTYPE=image/jpeg:https://milwaukeemcc.org/wp-content/uploads/2021/07/Brunch-with-the-Pastor-Generic.jpg
ORGANIZER;CN="Milwaukee Metropolitan Community Church":MAILTO:info@milmcc.org
END:VEVENT
BEGIN:VEVENT
DTSTART;TZID=UTC:20210919T110000
DTEND;TZID=UTC:20210919T120000
DTSTAMP:20260423T021347
CREATED:20210709T043609Z
LAST-MODIFIED:20210718T234756Z
UID:2522-1632049200-1632052800@milwaukeemcc.org
SUMMARY:Sunday Worship Service
DESCRIPTION:Join Milwaukee Metropolitan Community Church every Sunday morning for our IN-PERSON Worship Service. \nFor questions and more information\, feel free to contact the church office by calling 414-383-1100 or by email at info@milmcc.org
URL:https://milwaukeemcc.org/event/sunday-worship-service-14/
LOCATION:Milwaukee Metropolitan Community Church\, 1239 West Mineral Street\, Milwaukee\, Wisconsin\, 53204\, Virgin Islands (U.S.)
ATTACH;FMTTYPE=image/png:https://milwaukeemcc.org/wp-content/uploads/2021/06/R6ed431f8460d7d3a12e285ac6ead515c.png
END:VEVENT
BEGIN:VEVENT
DTSTART;TZID=UTC:20210914T190000
DTEND;TZID=UTC:20210914T203000
DTSTAMP:20260423T021347
CREATED:20210709T042558Z
LAST-MODIFIED:20210820T163032Z
UID:2514-1631646000-1631651400@milwaukeemcc.org
SUMMARY:Monthly Board of Directors Meeting
DESCRIPTION:The Board of Directors Meetings the first Tuesday of each month to discuss the business and happenings of the church. Visitors are welcome to come as a spectator and learn what is happening in the life of Milwaukee Metropolitan Community Church.
URL:https://milwaukeemcc.org/event/monthly-board-of-directors-meeting-4/
LOCATION:Milwaukee Metropolitan Community Church\, 1239 West Mineral Street\, Milwaukee\, Wisconsin\, 53204\, Virgin Islands (U.S.)
ATTACH;FMTTYPE=image/jpeg:https://milwaukeemcc.org/wp-content/uploads/2021/07/Board-Image.jpg
END:VEVENT
BEGIN:VEVENT
DTSTART;TZID=UTC:20210912T123000
DTEND;TZID=UTC:20210912T140000
DTSTAMP:20260423T021347
CREATED:20210907T144124Z
LAST-MODIFIED:20210907T144214Z
UID:2845-1631449800-1631455200@milwaukeemcc.org
SUMMARY:All Church Kick-off Sunday Pot Luck
DESCRIPTION:Join us following worship for our Annual Kick-off Sunday All Church Potluck. \nThis year\, once again\, we plan on introducing our 2021-2022 Programming and Church Ministries to the congregation. We will also rollout our plans and celebration schedule as the church celebrates 50 Years of being a Vibrant\, Inclusive\, Progressive Community of Faith\, here in the Greater Milwaukee area. Come see how you can get involved and engage in the planning and execution of our Annual Gala Fundraiser\, along with plans for a community wide Anniversary Worship Service. Our Anniversary Weekend will take place November 19-21\, 2021. We will also share the plans which are being made in hosting the MCC North Central Network of Churches that same weekend\, as the network has their in-person Network Gathering.
URL:https://milwaukeemcc.org/event/all-church-kick-off-sunday-pot-luck/
LOCATION:Milwaukee Metropolitan Community Church\, 1239 West Mineral Street\, Milwaukee\, Wisconsin\, 53204\, Virgin Islands (U.S.)
ATTACH;FMTTYPE=image/jpeg:https://milwaukeemcc.org/wp-content/uploads/2021/09/Pot-Luck-Sunday-September-Kick-off-2021-1.jpg
ORGANIZER;CN="Milwaukee Metropolitan Community Church":MAILTO:info@milmcc.org
END:VEVENT
BEGIN:VEVENT
DTSTART;TZID=UTC:20210912T110000
DTEND;TZID=UTC:20210912T120000
DTSTAMP:20260423T021347
CREATED:20210709T043424Z
LAST-MODIFIED:20210907T143022Z
UID:2520-1631444400-1631448000@milwaukeemcc.org
SUMMARY:Sunday Worship Service | Kick-off Sunday
DESCRIPTION:Join Milwaukee Metropolitan Community Church every Sunday morning for our IN-PERSON Worship Service. \nFor questions and more information\, feel free to contact the church office by calling 414-383-1100 or by email at info@milmcc.org \nCome Celebrate by bringing a friend to Church and share our Vibrant\, Inclusive\, Progressive Love of God! Help Kick-off and learn about our 2021-2022 Ministries & Programming which includes plan for our 50th Anniversary Celebration Schedule! Stay after worship for some great food and great conversation as we gather for Potluck Fellowship! \n 
URL:https://milwaukeemcc.org/event/sunday-worship-service-13/
LOCATION:Milwaukee Metropolitan Community Church\, 1239 West Mineral Street\, Milwaukee\, Wisconsin\, 53204\, Virgin Islands (U.S.)
ATTACH;FMTTYPE=image/jpeg:https://milwaukeemcc.org/wp-content/uploads/2021/07/Fall-Kick-Off-2021.jpg
END:VEVENT
BEGIN:VEVENT
DTSTART;TZID=UTC:20210907T190000
DTEND;TZID=UTC:20210907T210000
DTSTAMP:20260423T021347
CREATED:20210709T042237Z
LAST-MODIFIED:20210719T001714Z
UID:2510-1631041200-1631048400@milwaukeemcc.org
SUMMARY:POZ Spirit ~ HIV Peer Support Gathering | In-Person
DESCRIPTION:POZ Spirit is a group for men who are HIV/AIDS infected\, providing a safe\, respectful and supportive environment. POZ Spirit is where individuals have the opportunity to form friendships\, while having the opportunity to network\, share resources\, while providing peer support and education\, along with having discussions on any personal and relevant issues. \nJoin us on the First Tuesday of the month as we hold a gathering for those living with HIV/AIDS providing a safe\, respectful and supportive environment.  We Provide Friendship • Networking • Resources • Education. \nA light snacks will be provided reservations are requested but not required! \nfor more information or to RSVP contact: hivministries@milmcc.org or call the church office: 414-383-1100
URL:https://milwaukeemcc.org/event/poz-spirit-hiv-peer-support-gathering-in-person-2/
LOCATION:Milwaukee Metropolitan Community Church\, 1239 West Mineral Street\, Milwaukee\, Wisconsin\, 53204\, Virgin Islands (U.S.)
ATTACH;FMTTYPE=image/jpeg:https://milwaukeemcc.org/wp-content/uploads/2021/07/MMCC-Poz-Spirit-Horizontal-small.jpg
END:VEVENT
BEGIN:VEVENT
DTSTART;VALUE=DATE:20210906
DTEND;VALUE=DATE:20210907
DTSTAMP:20260423T021347
CREATED:20210512T152152Z
LAST-MODIFIED:20210512T152158Z
UID:2192-1630886400-1630972799@milwaukeemcc.org
SUMMARY:Church Office Closed
DESCRIPTION:
URL:https://milwaukeemcc.org/event/church-office-closed-8/
LOCATION:Wisconsin
END:VEVENT
BEGIN:VEVENT
DTSTART;TZID=UTC:20210906T000000
DTEND;TZID=UTC:20210906T235900
DTSTAMP:20260423T021347
CREATED:20210512T153039Z
LAST-MODIFIED:20210512T153103Z
UID:2194-1630886400-1630972740@milwaukeemcc.org
SUMMARY:Labor Day
DESCRIPTION:
URL:https://milwaukeemcc.org/event/labor-day-2/
LOCATION:Wisconsin
ATTACH;FMTTYPE=image/jpeg:https://milwaukeemcc.org/wp-content/uploads/2021/05/Labor-Day.jpg
END:VEVENT
END:VCALENDAR