BEGIN:VCALENDAR
VERSION:2.0
PRODID:-//Milwaukee Metropolitan Community Church - ECPv6.15.20//NONSGML v1.0//EN
CALSCALE:GREGORIAN
METHOD:PUBLISH
X-ORIGINAL-URL:https://milwaukeemcc.org
X-WR-CALDESC:Events for Milwaukee Metropolitan Community Church
REFRESH-INTERVAL;VALUE=DURATION:PT1H
X-Robots-Tag:noindex
X-PUBLISHED-TTL:PT1H
BEGIN:VTIMEZONE
TZID:UTC
BEGIN:STANDARD
TZOFFSETFROM:+0000
TZOFFSETTO:+0000
TZNAME:UTC
DTSTART:20220101T000000
END:STANDARD
END:VTIMEZONE
BEGIN:VEVENT
DTSTART;TZID=UTC:20240219T000000
DTEND;TZID=UTC:20240219T235900
DTSTAMP:20260422T220132
CREATED:20231128T005953Z
LAST-MODIFIED:20231128T005959Z
UID:6385-1708300800-1708387140@milwaukeemcc.org
SUMMARY:President’s Day | Church Office Closed
DESCRIPTION:President’s Day | Church Office Closed
URL:https://milwaukeemcc.org/event/presidents-day-church-office-closed-3/
ATTACH;FMTTYPE=image/jpeg:https://milwaukeemcc.org/wp-content/uploads/2023/11/Presidents-Day-2024.jpg
END:VEVENT
BEGIN:VEVENT
DTSTART;TZID=UTC:20240225T080000
DTEND;TZID=UTC:20240225T170000
DTSTAMP:20260422T220132
CREATED:20240224T173656Z
LAST-MODIFIED:20240224T173817Z
UID:6587-1708848000-1708880400@milwaukeemcc.org
SUMMARY:Sunday Worship Service
DESCRIPTION:Join Milwaukee Metropolitan Community Church every Sunday morning for our IN-PERSON Worship Service. \nFor questions and more information\, feel free to contact the church office by calling 414-383-1100 or by email at info@milmcc.org
URL:https://milwaukeemcc.org/event/sunday-worship-service-54/
LOCATION:Milwaukee Metropolitan Community Church\, 1239 West Mineral Street\, Milwaukee\, Wisconsin\, 53204\, Virgin Islands (U.S.)
ATTACH;FMTTYPE=image/jpeg:https://milwaukeemcc.org/wp-content/uploads/2023/11/R.jpeg
ORGANIZER;CN="Milwaukee Metropolitan Community Church":MAILTO:info@milmcc.org
END:VEVENT
BEGIN:VEVENT
DTSTART;TZID=UTC:20240128T110000
DTEND;TZID=UTC:20240128T133000
DTSTAMP:20260422T220132
CREATED:20231128T004326Z
LAST-MODIFIED:20231128T004527Z
UID:6376-1706439600-1706448600@milwaukeemcc.org
SUMMARY:Pack the Pantry
DESCRIPTION:Milwaukee Metropolitan Community Church and Angels of Hope Metropolitan Community Church have joined forces through our Outreach Ministry Programs in order to connect closer with our community partners in the LGBTQ Community.\nEvery Fourth Sunday of the month has been designated PACK THE PANTY SUNDAY. Pack the Pantry Sunday is a time for you\, the people of the church to come together and help support our partnered organizations Food Pantries.\nWe ask that you bring your items on the fourth Sunday and place them in the containers that will be provided. This doesn’t mean you can’t bring your items on other Sundays as well but are hopeful you will partake in Pack the Pantry on every Fourth Sunday of the month.\nSuggested Donations Items can be found by clicking on: Pack the Pantry
URL:https://milwaukeemcc.org/event/pack-the-pantry-2/
LOCATION:Milwaukee Metropolitan Community Church\, 1239 West Mineral Street\, Milwaukee\, Wisconsin\, 53204\, Virgin Islands (U.S.)
ATTACH;FMTTYPE=image/jpeg:https://milwaukeemcc.org/wp-content/uploads/2023/11/2024-Pack-the-Pantry-MilMCC-Small.jpg
ORGANIZER;CN="Milwaukee Metropolitan Community Church":MAILTO:info@milmcc.org
END:VEVENT
BEGIN:VEVENT
DTSTART;TZID=UTC:20240228T180000
DTEND;TZID=UTC:20240228T200000
DTSTAMP:20260422T220132
CREATED:20240205T234244Z
LAST-MODIFIED:20240205T234244Z
UID:6525-1709143200-1709150400@milwaukeemcc.org
SUMMARY:Amazing Faith Diner Dialogue
DESCRIPTION:You’re invited to join the dialogue!\nChange your life ~ Change the world\n\nDinners are the last Wednesday of each month beginning at 6pm\nRegistration is a must by going to: Interfaith Conference of Greater Milwaukee 
URL:https://milwaukeemcc.org/event/amazing-faith-diner-dialogue/
ATTACH;FMTTYPE=image/jpeg:https://milwaukeemcc.org/wp-content/uploads/2024/02/2024-02-AFDD.jpg
ORGANIZER;CN="Milwaukee Metropolitan Community Church":MAILTO:info@milmcc.org
END:VEVENT
BEGIN:VEVENT
DTSTART;TZID=UTC:20240107T110000
DTEND;TZID=UTC:20240107T120000
DTSTAMP:20260422T220132
CREATED:20231127T204421Z
LAST-MODIFIED:20231128T005231Z
UID:6354-1704625200-1704628800@milwaukeemcc.org
SUMMARY:First Sunday of the Month Contemporary Worship Service
DESCRIPTION:Join Milwaukee Metropolitan Community Church every Sunday morning for our IN-PERSON Worship Service.\nFor questions and more information\, feel free to contact the church office by calling 414-383-1100 or by email at info@milmcc.org
URL:https://milwaukeemcc.org/event/first-sunday-of-the-month-contemporary-worship-service-2/
LOCATION:Milwaukee Metropolitan Community Church\, 1239 West Mineral Street\, Milwaukee\, Wisconsin\, 53204\, Virgin Islands (U.S.)
ATTACH;FMTTYPE=image/jpeg:https://milwaukeemcc.org/wp-content/uploads/2023/08/Contemporary-Worship-Service-Monthly-Ad-Small.jpg
ORGANIZER;CN="Milwaukee Metropolitan Community Church":MAILTO:info@milmcc.org
END:VEVENT
BEGIN:VEVENT
DTSTART;TZID=UTC:20230101T123000
DTEND;TZID=UTC:20230101T133000
DTSTAMP:20260422T220132
CREATED:20221227T031156Z
LAST-MODIFIED:20230408T162545Z
UID:5293-1672576200-1672579800@milwaukeemcc.org
SUMMARY:First Sunday of the Month Birthday/Anniversary Cake Fellowship
DESCRIPTION:Join us every FIRST Sunday of the Month following worship as we celebrate birthdays and anniversaries for that particular month.
URL:https://milwaukeemcc.org/event/first-sunday-of-the-month-birthday-anniversary-cake-fellowship/
LOCATION:Milwaukee Metropolitan Community Church\, 1239 West Mineral Street\, Milwaukee\, Wisconsin\, 53204\, Virgin Islands (U.S.)
ATTACH;FMTTYPE=image/jpeg:https://milwaukeemcc.org/wp-content/uploads/2021/07/Birthdays-and-Anniversaries-2021.jpg
ORGANIZER;CN="Milwaukee Metropolitan Community Church":MAILTO:info@milmcc.org
END:VEVENT
BEGIN:VEVENT
DTSTART;TZID=UTC:20240104T080000
DTEND;TZID=UTC:20240104T170000
DTSTAMP:20260422T220132
CREATED:20231127T235046Z
LAST-MODIFIED:20231127T235159Z
UID:6371-1704355200-1704387600@milwaukeemcc.org
SUMMARY:Pub Theology
DESCRIPTION:Pub Theology\n\nCome join us! First beverage is on us along with some snack type foods. If joining us virtually\, grab your favorite beverage and some snack type foods for an evening of good discussion.\nGather with us in person at:\nCentral Café & Tappery\n2306 S. Kinnickinnic Ave\nMilwaukee 53207\nFor questions and more information\, feel free to contact the church office by calling 414-383-1100 or by email at info@milmcc.org
URL:https://milwaukeemcc.org/event/pub-theology-3/
LOCATION:Centraal Grand Café & Tappery\, 2306 S. Kinnickinnic Avenue\, Bay View\, WI\, 53207\, United States
ATTACH;FMTTYPE=image/jpeg:https://milwaukeemcc.org/wp-content/uploads/2023/10/Slide3.jpeg
ORGANIZER;CN="Milwaukee Metropolitan Community Church":MAILTO:info@milmcc.org
END:VEVENT
BEGIN:VEVENT
DTSTART;TZID=UTC:20240310T110000
DTEND;TZID=UTC:20240310T120000
DTSTAMP:20260422T220132
CREATED:20240224T173929Z
LAST-MODIFIED:20240224T173929Z
UID:6589-1710068400-1710072000@milwaukeemcc.org
SUMMARY:Sunday Worship Service
DESCRIPTION:Join Milwaukee Metropolitan Community Church every Sunday morning for our IN-PERSON Worship Service. \nFor questions and more information\, feel free to contact the church office by calling 414-383-1100 or by email at info@milmcc.org
URL:https://milwaukeemcc.org/event/sunday-worship-service-55/
LOCATION:Milwaukee Metropolitan Community Church\, 1239 West Mineral Street\, Milwaukee\, Wisconsin\, 53204\, Virgin Islands (U.S.)
ATTACH;FMTTYPE=image/jpeg:https://milwaukeemcc.org/wp-content/uploads/2023/11/R.jpeg
ORGANIZER;CN="Milwaukee Metropolitan Community Church":MAILTO:info@milmcc.org
END:VEVENT
BEGIN:VEVENT
DTSTART;TZID=UTC:20240109T190000
DTEND;TZID=UTC:20240109T203000
DTSTAMP:20260422T220132
CREATED:20231127T233201Z
LAST-MODIFIED:20231127T235237Z
UID:6367-1704826800-1704832200@milwaukeemcc.org
SUMMARY:Board of Directors Meeting
DESCRIPTION:
URL:https://milwaukeemcc.org/event/board-of-directors-meeting-5/
LOCATION:Milwaukee Metropolitan Community Church\, 1239 West Mineral Street\, Milwaukee\, Wisconsin\, 53204\, Virgin Islands (U.S.)
ATTACH;FMTTYPE=image/jpeg:https://milwaukeemcc.org/wp-content/uploads/2023/11/Board-of-Dirctors-Mtg-Image.jpg
ORGANIZER;CN="Milwaukee Metropolitan Community Church":MAILTO:info@milmcc.org
END:VEVENT
BEGIN:VEVENT
DTSTART;TZID=UTC:20240317T110000
DTEND;TZID=UTC:20240317T120000
DTSTAMP:20260422T220132
CREATED:20240224T174036Z
LAST-MODIFIED:20240224T174037Z
UID:6591-1710673200-1710676800@milwaukeemcc.org
SUMMARY:Sunday Worship Service
DESCRIPTION:Join Milwaukee Metropolitan Community Church every Sunday morning for our IN-PERSON Worship Service. \nFor questions and more information\, feel free to contact the church office by calling 414-383-1100 or by email at info@milmcc.org
URL:https://milwaukeemcc.org/event/sunday-worship-service-56/
LOCATION:Milwaukee Metropolitan Community Church\, 1239 West Mineral Street\, Milwaukee\, Wisconsin\, 53204\, Virgin Islands (U.S.)
ATTACH;FMTTYPE=image/jpeg:https://milwaukeemcc.org/wp-content/uploads/2023/11/R.jpeg
ORGANIZER;CN="Milwaukee Metropolitan Community Church":MAILTO:info@milmcc.org
END:VEVENT
BEGIN:VEVENT
DTSTART;TZID=UTC:20240324T110000
DTEND;TZID=UTC:20240324T120000
DTSTAMP:20260422T220132
CREATED:20240224T174410Z
LAST-MODIFIED:20240224T174410Z
UID:6593-1711278000-1711281600@milwaukeemcc.org
SUMMARY:Palm Sunday Worship Service
DESCRIPTION:HOSANNA! HOSANNA IN THE HIGHEST!\nIt’s Palm Sunday! Join us for worship this day as as we begin Holy Week with the waving of the Palms welcoming the triumphant entry of Christ intro Jerusalem!\nCome be a part of a Vibrant\, Inclusive\, Progressive Community of Faith\, which has served the LGBTQI+ Community for over 50 years in the greater Milwaukee area. \nJoin Milwaukee Metropolitan Community Church every Sunday morning for our IN-PERSON Worship Service.\nFor questions and more information\, feel free to contact the church office by calling 414-383-1100 or by email at info@milmcc.org
URL:https://milwaukeemcc.org/event/palm-sunday-worship-service-3/
LOCATION:Milwaukee Metropolitan Community Church\, 1239 West Mineral Street\, Milwaukee\, Wisconsin\, 53204\, Virgin Islands (U.S.)
ATTACH;FMTTYPE=image/jpeg:https://milwaukeemcc.org/wp-content/uploads/2023/03/2023-Palm-Sunday.jpg
ORGANIZER;CN="Milwaukee Metropolitan Community Church":MAILTO:info@milmcc.org
END:VEVENT
BEGIN:VEVENT
DTSTART;TZID=UTC:20240128T110000
DTEND;TZID=UTC:20240128T133000
DTSTAMP:20260422T220132
CREATED:20231128T004326Z
LAST-MODIFIED:20231128T004527Z
UID:6376-1706439600-1706448600@milwaukeemcc.org
SUMMARY:Pack the Pantry
DESCRIPTION:Milwaukee Metropolitan Community Church and Angels of Hope Metropolitan Community Church have joined forces through our Outreach Ministry Programs in order to connect closer with our community partners in the LGBTQ Community.\nEvery Fourth Sunday of the month has been designated PACK THE PANTY SUNDAY. Pack the Pantry Sunday is a time for you\, the people of the church to come together and help support our partnered organizations Food Pantries.\nWe ask that you bring your items on the fourth Sunday and place them in the containers that will be provided. This doesn’t mean you can’t bring your items on other Sundays as well but are hopeful you will partake in Pack the Pantry on every Fourth Sunday of the month.\nSuggested Donations Items can be found by clicking on: Pack the Pantry
URL:https://milwaukeemcc.org/event/pack-the-pantry-2/
LOCATION:Milwaukee Metropolitan Community Church\, 1239 West Mineral Street\, Milwaukee\, Wisconsin\, 53204\, Virgin Islands (U.S.)
ATTACH;FMTTYPE=image/jpeg:https://milwaukeemcc.org/wp-content/uploads/2023/11/2024-Pack-the-Pantry-MilMCC-Small.jpg
ORGANIZER;CN="Milwaukee Metropolitan Community Church":MAILTO:info@milmcc.org
END:VEVENT
BEGIN:VEVENT
DTSTART;VALUE=DATE:20240325
DTEND;VALUE=DATE:20240330
DTSTAMP:20260422T220132
CREATED:20240224T175614Z
LAST-MODIFIED:20240224T175614Z
UID:6607-1711324800-1711756799@milwaukeemcc.org
SUMMARY:Holy Week
DESCRIPTION:
URL:https://milwaukeemcc.org/event/holy-week-4/
END:VEVENT
BEGIN:VEVENT
DTSTART;TZID=UTC:20240328T190000
DTEND;TZID=UTC:20240328T203000
DTSTAMP:20260422T220132
CREATED:20240224T174904Z
LAST-MODIFIED:20240224T174905Z
UID:6598-1711652400-1711657800@milwaukeemcc.org
SUMMARY:Maundy Thursday Ecumenical Service
DESCRIPTION:The ecumenical congregations of the Southeast Clergy Association invite you to join us for a collaborative Maundy Thursday Service\nThursday\, April 6\, 2023  • 7:00PM \nThis service will be held at:\nGrace Presbyterian Church\n2931 South Kinnickinnic Avenue\nMilwaukee\, WI 53207 \nFor questions and more information\, feel free to contact the church office by calling 414-383-1100 or by email at info@milmcc.org
URL:https://milwaukeemcc.org/event/maundy-thursday-ecumenical-service/
LOCATION:Grace Prebyterian Church\, 2931 S. Kinnickinnic Avenue\, Milwaukee\, Wisconsin\, 53207
ATTACH;FMTTYPE=image/jpeg:https://milwaukeemcc.org/wp-content/uploads/2024/02/Maundy-Thursday-2024.jpg
ORGANIZER;CN="Milwaukee Metropolitan Community Church":MAILTO:info@milmcc.org
END:VEVENT
BEGIN:VEVENT
DTSTART;TZID=UTC:20240329T190000
DTEND;TZID=UTC:20240329T203000
DTSTAMP:20260422T220132
CREATED:20240224T174947Z
LAST-MODIFIED:20240224T175540Z
UID:6601-1711738800-1711744200@milwaukeemcc.org
SUMMARY:Good Friday Communion & Tenebrae Service
DESCRIPTION:The ecumenical congregations of the Southeast Clergy Association invite you to join us for a collaborative Good Friday Communion and Tenebrae Service \nFriday\, March 29\, 2024  • 7:00PM \nThis service will be held at:\nBay View United Methodist Church\n2772 South Kinnickinnic Avenue\nMilwaukee\, WI 53207 \nFor questions and more information\, feel free to contact the church office by calling 414-383-1100 or by email at info@milmcc.org
URL:https://milwaukeemcc.org/event/holy-week-3/
LOCATION:Bay View United Methodist Church\, 2772 South Kinnickinnic Avenue\, Milwwaukee\, Wisconsin\, 53207
ATTACH;FMTTYPE=image/jpeg:https://milwaukeemcc.org/wp-content/uploads/2024/02/Good-Friday-2024.jpg
ORGANIZER;CN="Milwaukee Metropolitan Community Church":MAILTO:info@milmcc.org
END:VEVENT
BEGIN:VEVENT
DTSTART;TZID=UTC:20240331T110000
DTEND;TZID=UTC:20240331T120000
DTSTAMP:20260422T220132
CREATED:20240224T174616Z
LAST-MODIFIED:20240224T174616Z
UID:6595-1711882800-1711886400@milwaukeemcc.org
SUMMARY:Easter Worship Service
DESCRIPTION:CHRIST IS RISEN! CHRIST IS RISEN INDEED!\n\nCome CELEBRATE and REJOICE as we come together and welcome the triumphant entry of the resurrected Christ for our EASTER SUNDAY WORSHIP! We come together and shouting: “CHRIST IS RISEN\, CHRIST IS RISEN INDEED!”\nCome be a part of a Vibrant\, Inclusive\, Progressive Community of Faith\, which has served the LGBTQI+ Community for over 50 years in the greater Milwaukee area.\nJoin Milwaukee Metropolitan Community Church every Sunday morning for our IN-PERSON Worship Service.\nFor questions and more information\, feel free to contact the church office by calling 414-383-1100 or by email at info@milmcc.org
URL:https://milwaukeemcc.org/event/easter-worship-service/
LOCATION:Milwaukee Metropolitan Community Church\, 1239 West Mineral Street\, Milwaukee\, Wisconsin\, 53204\, Virgin Islands (U.S.)
ATTACH;FMTTYPE=image/jpeg:https://milwaukeemcc.org/wp-content/uploads/2024/02/maxresdefault.jpg
ORGANIZER;CN="Milwaukee Metropolitan Community Church":MAILTO:info@milmcc.org
END:VEVENT
BEGIN:VEVENT
DTSTART;TZID=UTC:20240104T080000
DTEND;TZID=UTC:20240104T170000
DTSTAMP:20260422T220132
CREATED:20231127T235046Z
LAST-MODIFIED:20231127T235159Z
UID:6371-1704355200-1704387600@milwaukeemcc.org
SUMMARY:Pub Theology
DESCRIPTION:Pub Theology\n\nCome join us! First beverage is on us along with some snack type foods. If joining us virtually\, grab your favorite beverage and some snack type foods for an evening of good discussion.\nGather with us in person at:\nCentral Café & Tappery\n2306 S. Kinnickinnic Ave\nMilwaukee 53207\nFor questions and more information\, feel free to contact the church office by calling 414-383-1100 or by email at info@milmcc.org
URL:https://milwaukeemcc.org/event/pub-theology-3/
LOCATION:Centraal Grand Café & Tappery\, 2306 S. Kinnickinnic Avenue\, Bay View\, WI\, 53207\, United States
ATTACH;FMTTYPE=image/jpeg:https://milwaukeemcc.org/wp-content/uploads/2023/10/Slide3.jpeg
ORGANIZER;CN="Milwaukee Metropolitan Community Church":MAILTO:info@milmcc.org
END:VEVENT
BEGIN:VEVENT
DTSTART;TZID=UTC:20240107T110000
DTEND;TZID=UTC:20240107T120000
DTSTAMP:20260422T220132
CREATED:20231127T204421Z
LAST-MODIFIED:20231128T005231Z
UID:6354-1704625200-1704628800@milwaukeemcc.org
SUMMARY:First Sunday of the Month Contemporary Worship Service
DESCRIPTION:Join Milwaukee Metropolitan Community Church every Sunday morning for our IN-PERSON Worship Service.\nFor questions and more information\, feel free to contact the church office by calling 414-383-1100 or by email at info@milmcc.org
URL:https://milwaukeemcc.org/event/first-sunday-of-the-month-contemporary-worship-service-2/
LOCATION:Milwaukee Metropolitan Community Church\, 1239 West Mineral Street\, Milwaukee\, Wisconsin\, 53204\, Virgin Islands (U.S.)
ATTACH;FMTTYPE=image/jpeg:https://milwaukeemcc.org/wp-content/uploads/2023/08/Contemporary-Worship-Service-Monthly-Ad-Small.jpg
ORGANIZER;CN="Milwaukee Metropolitan Community Church":MAILTO:info@milmcc.org
END:VEVENT
BEGIN:VEVENT
DTSTART;TZID=UTC:20230101T123000
DTEND;TZID=UTC:20230101T133000
DTSTAMP:20260422T220132
CREATED:20221227T031156Z
LAST-MODIFIED:20230408T162545Z
UID:5293-1672576200-1672579800@milwaukeemcc.org
SUMMARY:First Sunday of the Month Birthday/Anniversary Cake Fellowship
DESCRIPTION:Join us every FIRST Sunday of the Month following worship as we celebrate birthdays and anniversaries for that particular month.
URL:https://milwaukeemcc.org/event/first-sunday-of-the-month-birthday-anniversary-cake-fellowship/
LOCATION:Milwaukee Metropolitan Community Church\, 1239 West Mineral Street\, Milwaukee\, Wisconsin\, 53204\, Virgin Islands (U.S.)
ATTACH;FMTTYPE=image/jpeg:https://milwaukeemcc.org/wp-content/uploads/2021/07/Birthdays-and-Anniversaries-2021.jpg
ORGANIZER;CN="Milwaukee Metropolitan Community Church":MAILTO:info@milmcc.org
END:VEVENT
BEGIN:VEVENT
DTSTART;TZID=UTC:20240109T190000
DTEND;TZID=UTC:20240109T203000
DTSTAMP:20260422T220132
CREATED:20231127T233201Z
LAST-MODIFIED:20231127T235237Z
UID:6367-1704826800-1704832200@milwaukeemcc.org
SUMMARY:Board of Directors Meeting
DESCRIPTION:
URL:https://milwaukeemcc.org/event/board-of-directors-meeting-5/
LOCATION:Milwaukee Metropolitan Community Church\, 1239 West Mineral Street\, Milwaukee\, Wisconsin\, 53204\, Virgin Islands (U.S.)
ATTACH;FMTTYPE=image/jpeg:https://milwaukeemcc.org/wp-content/uploads/2023/11/Board-of-Dirctors-Mtg-Image.jpg
ORGANIZER;CN="Milwaukee Metropolitan Community Church":MAILTO:info@milmcc.org
END:VEVENT
BEGIN:VEVENT
DTSTART;TZID=UTC:20240414T110000
DTEND;TZID=UTC:20240414T120000
DTSTAMP:20260422T220132
CREATED:20240224T183612Z
LAST-MODIFIED:20240224T183612Z
UID:6630-1713092400-1713096000@milwaukeemcc.org
SUMMARY:Sunday Worship Service
DESCRIPTION:Join Milwaukee Metropolitan Community Church every Sunday morning for our IN-PERSON Worship Service. \nFor questions and more information\, feel free to contact the church office by calling 414-383-1100 or by email at info@milmcc.org
URL:https://milwaukeemcc.org/event/sunday-worship-service-57/
LOCATION:Milwaukee Metropolitan Community Church\, 1239 West Mineral Street\, Milwaukee\, Wisconsin\, 53204\, Virgin Islands (U.S.)
ATTACH;FMTTYPE=image/jpeg:https://milwaukeemcc.org/wp-content/uploads/2023/11/R.jpeg
ORGANIZER;CN="Milwaukee Metropolitan Community Church":MAILTO:info@milmcc.org
END:VEVENT
BEGIN:VEVENT
DTSTART;TZID=UTC:20240421T110000
DTEND;TZID=UTC:20240421T120000
DTSTAMP:20260422T220132
CREATED:20240224T183712Z
LAST-MODIFIED:20240224T183713Z
UID:6632-1713697200-1713700800@milwaukeemcc.org
SUMMARY:Sunday Worship Service
DESCRIPTION:Join Milwaukee Metropolitan Community Church every Sunday morning for our IN-PERSON Worship Service. \nFor questions and more information\, feel free to contact the church office by calling 414-383-1100 or by email at info@milmcc.org
URL:https://milwaukeemcc.org/event/sunday-worship-service-58/
LOCATION:Milwaukee Metropolitan Community Church\, 1239 West Mineral Street\, Milwaukee\, Wisconsin\, 53204\, Virgin Islands (U.S.)
ATTACH;FMTTYPE=image/jpeg:https://milwaukeemcc.org/wp-content/uploads/2023/11/R.jpeg
ORGANIZER;CN="Milwaukee Metropolitan Community Church":MAILTO:info@milmcc.org
END:VEVENT
BEGIN:VEVENT
DTSTART;TZID=UTC:20240421T123000
DTEND;TZID=UTC:20240421T140000
DTSTAMP:20260422T220132
CREATED:20240224T165415Z
LAST-MODIFIED:20240224T165554Z
UID:6563-1713702600-1713708000@milwaukeemcc.org
SUMMARY:Sunday Brunch
DESCRIPTION:Join us every THIRD SUNDAY of the Month following Sunday Worship as we gather at one of our local eating establishments as we gather for some good food\, exciting conversations and awesome fellowship with one another.
URL:https://milwaukeemcc.org/event/sunday-brunch-2/
LOCATION:Bridgewagter Modern Grill\, 2011 South 1st Street\, Milwaukee\, Wisconsin\, 53207
ATTACH;FMTTYPE=image/jpeg:https://milwaukeemcc.org/wp-content/uploads/2023/12/2024-Brunch-Generic.jpg
ORGANIZER;CN="Milwaukee Metropolitan Community Church":MAILTO:info@milmcc.org
END:VEVENT
BEGIN:VEVENT
DTSTART;TZID=UTC:20240424T180000
DTEND;TZID=UTC:20240424T200000
DTSTAMP:20260422T220132
CREATED:20240314T191134Z
LAST-MODIFIED:20240314T191151Z
UID:6681-1713981600-1713988800@milwaukeemcc.org
SUMMARY:Amazing Faith Diner Dialogue
DESCRIPTION:You’re invited to join the dialogue!\nChange your life ~ Change the world\n\nDinners are the last Wednesday of each month beginning at 6pm\nRegistration is a must by going to: Interfaith Conference of Greater Milwaukee 
URL:https://milwaukeemcc.org/event/amazing-faith-diner-dialogue-2/
LOCATION:First Congregational Church Wauwatosa\, 1511 Church Street\, Wauwatosa\, WI\, 53213
ATTACH;FMTTYPE=image/jpeg:https://milwaukeemcc.org/wp-content/uploads/2024/03/2024-04-AFDD.jpg
ORGANIZER;CN="Milwaukee Metropolitan Community Church":MAILTO:info@milmcc.org
END:VEVENT
BEGIN:VEVENT
DTSTART;TZID=UTC:20240428T110000
DTEND;TZID=UTC:20240428T120000
DTSTAMP:20260422T220132
CREATED:20240224T183802Z
LAST-MODIFIED:20240224T183802Z
UID:6634-1714302000-1714305600@milwaukeemcc.org
SUMMARY:Sunday Worship Service
DESCRIPTION:Join Milwaukee Metropolitan Community Church every Sunday morning for our IN-PERSON Worship Service. \nFor questions and more information\, feel free to contact the church office by calling 414-383-1100 or by email at info@milmcc.org
URL:https://milwaukeemcc.org/event/sunday-worship-service-59/
LOCATION:Milwaukee Metropolitan Community Church\, 1239 West Mineral Street\, Milwaukee\, Wisconsin\, 53204\, Virgin Islands (U.S.)
ATTACH;FMTTYPE=image/jpeg:https://milwaukeemcc.org/wp-content/uploads/2023/11/R.jpeg
ORGANIZER;CN="Milwaukee Metropolitan Community Church":MAILTO:info@milmcc.org
END:VEVENT
BEGIN:VEVENT
DTSTART;TZID=UTC:20240128T110000
DTEND;TZID=UTC:20240128T133000
DTSTAMP:20260422T220132
CREATED:20231128T004326Z
LAST-MODIFIED:20231128T004527Z
UID:6376-1706439600-1706448600@milwaukeemcc.org
SUMMARY:Pack the Pantry
DESCRIPTION:Milwaukee Metropolitan Community Church and Angels of Hope Metropolitan Community Church have joined forces through our Outreach Ministry Programs in order to connect closer with our community partners in the LGBTQ Community.\nEvery Fourth Sunday of the month has been designated PACK THE PANTY SUNDAY. Pack the Pantry Sunday is a time for you\, the people of the church to come together and help support our partnered organizations Food Pantries.\nWe ask that you bring your items on the fourth Sunday and place them in the containers that will be provided. This doesn’t mean you can’t bring your items on other Sundays as well but are hopeful you will partake in Pack the Pantry on every Fourth Sunday of the month.\nSuggested Donations Items can be found by clicking on: Pack the Pantry
URL:https://milwaukeemcc.org/event/pack-the-pantry-2/
LOCATION:Milwaukee Metropolitan Community Church\, 1239 West Mineral Street\, Milwaukee\, Wisconsin\, 53204\, Virgin Islands (U.S.)
ATTACH;FMTTYPE=image/jpeg:https://milwaukeemcc.org/wp-content/uploads/2023/11/2024-Pack-the-Pantry-MilMCC-Small.jpg
ORGANIZER;CN="Milwaukee Metropolitan Community Church":MAILTO:info@milmcc.org
END:VEVENT
BEGIN:VEVENT
DTSTART;TZID=UTC:20240104T080000
DTEND;TZID=UTC:20240104T170000
DTSTAMP:20260422T220132
CREATED:20231127T235046Z
LAST-MODIFIED:20231127T235159Z
UID:6371-1704355200-1704387600@milwaukeemcc.org
SUMMARY:Pub Theology
DESCRIPTION:Pub Theology\n\nCome join us! First beverage is on us along with some snack type foods. If joining us virtually\, grab your favorite beverage and some snack type foods for an evening of good discussion.\nGather with us in person at:\nCentral Café & Tappery\n2306 S. Kinnickinnic Ave\nMilwaukee 53207\nFor questions and more information\, feel free to contact the church office by calling 414-383-1100 or by email at info@milmcc.org
URL:https://milwaukeemcc.org/event/pub-theology-3/
LOCATION:Centraal Grand Café & Tappery\, 2306 S. Kinnickinnic Avenue\, Bay View\, WI\, 53207\, United States
ATTACH;FMTTYPE=image/jpeg:https://milwaukeemcc.org/wp-content/uploads/2023/10/Slide3.jpeg
ORGANIZER;CN="Milwaukee Metropolitan Community Church":MAILTO:info@milmcc.org
END:VEVENT
BEGIN:VEVENT
DTSTART;TZID=UTC:20240107T110000
DTEND;TZID=UTC:20240107T120000
DTSTAMP:20260422T220132
CREATED:20231127T204421Z
LAST-MODIFIED:20231128T005231Z
UID:6354-1704625200-1704628800@milwaukeemcc.org
SUMMARY:First Sunday of the Month Contemporary Worship Service
DESCRIPTION:Join Milwaukee Metropolitan Community Church every Sunday morning for our IN-PERSON Worship Service.\nFor questions and more information\, feel free to contact the church office by calling 414-383-1100 or by email at info@milmcc.org
URL:https://milwaukeemcc.org/event/first-sunday-of-the-month-contemporary-worship-service-2/
LOCATION:Milwaukee Metropolitan Community Church\, 1239 West Mineral Street\, Milwaukee\, Wisconsin\, 53204\, Virgin Islands (U.S.)
ATTACH;FMTTYPE=image/jpeg:https://milwaukeemcc.org/wp-content/uploads/2023/08/Contemporary-Worship-Service-Monthly-Ad-Small.jpg
ORGANIZER;CN="Milwaukee Metropolitan Community Church":MAILTO:info@milmcc.org
END:VEVENT
BEGIN:VEVENT
DTSTART;TZID=UTC:20230101T123000
DTEND;TZID=UTC:20230101T133000
DTSTAMP:20260422T220132
CREATED:20221227T031156Z
LAST-MODIFIED:20230408T162545Z
UID:5293-1672576200-1672579800@milwaukeemcc.org
SUMMARY:First Sunday of the Month Birthday/Anniversary Cake Fellowship
DESCRIPTION:Join us every FIRST Sunday of the Month following worship as we celebrate birthdays and anniversaries for that particular month.
URL:https://milwaukeemcc.org/event/first-sunday-of-the-month-birthday-anniversary-cake-fellowship/
LOCATION:Milwaukee Metropolitan Community Church\, 1239 West Mineral Street\, Milwaukee\, Wisconsin\, 53204\, Virgin Islands (U.S.)
ATTACH;FMTTYPE=image/jpeg:https://milwaukeemcc.org/wp-content/uploads/2021/07/Birthdays-and-Anniversaries-2021.jpg
ORGANIZER;CN="Milwaukee Metropolitan Community Church":MAILTO:info@milmcc.org
END:VEVENT
BEGIN:VEVENT
DTSTART;TZID=UTC:20240512T000000
DTEND;TZID=UTC:20240512T235900
DTSTAMP:20260422T220132
CREATED:20240224T184851Z
LAST-MODIFIED:20240224T184852Z
UID:6651-1715472000-1715558340@milwaukeemcc.org
SUMMARY:Mother's Day
DESCRIPTION:
URL:https://milwaukeemcc.org/event/mothers-day-3/
ATTACH;FMTTYPE=image/jpeg:https://milwaukeemcc.org/wp-content/uploads/2021/04/Mothers-day.jpg
END:VEVENT
END:VCALENDAR