BEGIN:VCALENDAR
VERSION:2.0
PRODID:-//Milwaukee Metropolitan Community Church - ECPv6.15.20//NONSGML v1.0//EN
CALSCALE:GREGORIAN
METHOD:PUBLISH
X-WR-CALNAME:Milwaukee Metropolitan Community Church
X-ORIGINAL-URL:https://milwaukeemcc.org
X-WR-CALDESC:Events for Milwaukee Metropolitan Community Church
REFRESH-INTERVAL;VALUE=DURATION:PT1H
X-Robots-Tag:noindex
X-PUBLISHED-TTL:PT1H
BEGIN:VTIMEZONE
TZID:UTC
BEGIN:STANDARD
TZOFFSETFROM:+0000
TZOFFSETTO:+0000
TZNAME:UTC
DTSTART:20190101T000000
END:STANDARD
END:VTIMEZONE
BEGIN:VEVENT
DTSTART;TZID=UTC:20200908T183000
DTEND;TZID=UTC:20200908T203000
DTSTAMP:20260424T100952
CREATED:20200909T215024Z
LAST-MODIFIED:20210204T030716Z
UID:844-1599589800-1599597000@milwaukeemcc.org
SUMMARY:Monthly Board of Directors Meeting
DESCRIPTION:The Board of Directors Meetings the first Tuesday of each month to discuss the business and happenings of the church.  Visitors are welcome to come as a spectator and learn what is happening in the life of Milwaukee Metropolitan Community Church. \nPlease Note: That During this time of COVID-19\, board meetings will be closed sessions to visitors.  We will resume allowing visitors to attend\, once we are back to in-person gathering in the congregation.
URL:https://milwaukeemcc.org/event/monthly-board-of-directors-meeting/
LOCATION:Milwaukee Metropolitan Community Church\, 1239 West Mineral Street\, Milwaukee\, Wisconsin\, 53204\, Virgin Islands (U.S.)
ATTACH;FMTTYPE=image/jpeg:https://milwaukeemcc.org/wp-content/uploads/2020/09/Board-of-Dirctors-Mtg-Image.jpg
ORGANIZER;CN="Milwaukee Metropolitan Community Church":MAILTO:info@milmcc.org
END:VEVENT
BEGIN:VEVENT
DTSTART;TZID=UTC:20200906T110000
DTEND;TZID=UTC:20200906T120000
DTSTAMP:20260424T100952
CREATED:20200909T204701Z
LAST-MODIFIED:20210204T025034Z
UID:756-1599390000-1599393600@milwaukeemcc.org
SUMMARY:Sunday Worship Service | Online
DESCRIPTION:Join Milwaukee Metropolitan Community Church every Sunday morning for our ONLINE Worship Service. \nWorship Services are streamed on both our Facebook and YouTube pages each Sunday Morning at 11:00AM. \nLinks to our Facebook and YouTube pages are below.  We invite you to have communion elements (or your choice) that represents the bread and the cup available\, so you can take part in communion at the appropriate time during the service. \nConnect via Facebook at: https://www.facebook.com/MilwaukeeMCC/?view_public_for=143495165714520\nConnect via YouTube at: https://www.youtube.com/channel/UCjRvXlOjVfIXW-1qrtUr2iQ?view_as=subscriber \nFor questions and more information\, feel free to contact the church office by calling 414-383-1100 or by email at info@milmcc.org
URL:https://milwaukeemcc.org/event/weekly-worship-service-online/
LOCATION:Online Gathering
ATTACH;FMTTYPE=image/jpeg:https://milwaukeemcc.org/wp-content/uploads/2020/09/Online-Worhip-Image.jpg
END:VEVENT
BEGIN:VEVENT
DTSTART;TZID=UTC:20210107T183000
DTEND;TZID=UTC:20210107T193000
DTSTAMP:20260424T100952
CREATED:20201207T182256Z
LAST-MODIFIED:20210204T033755Z
UID:1528-1610044200-1610047800@milwaukeemcc.org
SUMMARY:Theology on Tap | Online
DESCRIPTION:Please join us for the next Theology on Tap | ONLINE \nTheology-on-Tap has gone ONLINE! \nGrab your favorite beverage and some snack type foods and join us for an evening of good discussion. \nJoin us each month for an open theological discussion as it relates to our lives living in an inclusive community of faith. \nJoin Theology-on-Tap by connecting to:\nhttps://us02web.zoom.us/j/86055363676 \nMeeting ID: 860 5536 3676\nOne tap mobile\n+13126266799\,\,86740299338# US (Chicago) \nFor questions and more information\, feel free to contact the church office by calling 414-383-1100 or by email at info@milmcc.org
URL:https://milwaukeemcc.org/event/theology-on-tap-online-2/
LOCATION:Wisconsin
ATTACH;FMTTYPE=image/jpeg:https://milwaukeemcc.org/wp-content/uploads/2020/12/Theolgoy-on-Tap-2021.jpg
END:VEVENT
BEGIN:VEVENT
DTSTART;TZID=UTC:20210105T190000
DTEND;TZID=UTC:20210105T200000
DTSTAMP:20260424T100952
CREATED:20201207T194346Z
LAST-MODIFIED:20210709T040120Z
UID:1544-1609873200-1609876800@milwaukeemcc.org
SUMMARY:POZ Spirit ~ HIV Peer Support Gathering | Online
DESCRIPTION:POZ Spirit is a group for men who are HIV/AIDS infected\, providing a safe\, respectful and supportive environment. POZ Spirit is where individuals have the opportunity to form friendships\, while having the opportunity to network\, share resources\, while providing peer support and education\, along with having discussions on any personal and relevant issues. \nWe hope you’ll join us and take the opportunity to connect with those in our group. If you haven’t joined us in a while\, please consider joining us\, as we have new people who have joined us over the last several months! \nJoin the Poz Spirit Gathering by connection to \nTo Connect to th4 group:\nhttps://us02web.zoom.us/j/88487848985 \nMeeting ID: 884 8784 8985\nOne tap mobile\n+13126266799\,\,88487848985# US (Chicago) \nFor questions and more information\, feel free to contact the church office by calling 414-383-1100 or by email at hivministries@milmcc.org \n 
URL:https://milwaukeemcc.org/event/poz-spirit-hiv-peer-support-gathering-online-2/
LOCATION:Wisconsin
ATTACH;FMTTYPE=image/jpeg:https://milwaukeemcc.org/wp-content/uploads/2020/12/MMCC-Poz-Spirit-2021-General.jpg
END:VEVENT
BEGIN:VEVENT
DTSTART;TZID=UTC:20210103T120000
DTEND;TZID=UTC:20210103T130000
DTSTAMP:20260424T100952
CREATED:20201207T181126Z
LAST-MODIFIED:20210204T031005Z
UID:1504-1609675200-1609678800@milwaukeemcc.org
SUMMARY:Virtual Fellowship Gathering | Online
DESCRIPTION:Rev. Tory and the Board of Directors invite you to join them immediately following online worship on the first Sunday of each month at 12:00 noon for our virtual get together and social time. \nWe know that we all miss being together with one another\, and having that ability to give one another a hug\, pass the peace or have that ability to socialize with one another after Sunday Worship each week. \nGrab your coffee or favorite brunch beverage and connect with us virtually after online worship for some awesome church fellowship! \nJoin our Virtual Fellowship Gathering by connecting to:\nhttps://us02web.zoom.us/j/82834642928 \nMeeting ID: 828 3464 2928\nOne tap mobile\n+13126266799\,\,82834642928# US (Chicago) \nFor questions and more information\, feel free to contact the church office by calling 414-383-1100 or by email at info@milmcc.org
URL:https://milwaukeemcc.org/event/virtual-fellowship-gathering-online/
LOCATION:Wisconsin
ATTACH;FMTTYPE=image/jpeg:https://milwaukeemcc.org/wp-content/uploads/2020/12/Virtual-Online-Fellowship-2021-1.jpg
END:VEVENT
BEGIN:VEVENT
DTSTART;TZID=UTC:20200906T110000
DTEND;TZID=UTC:20200906T120000
DTSTAMP:20260424T100952
CREATED:20200909T204701Z
LAST-MODIFIED:20210204T025034Z
UID:756-1599390000-1599393600@milwaukeemcc.org
SUMMARY:Sunday Worship Service | Online
DESCRIPTION:Join Milwaukee Metropolitan Community Church every Sunday morning for our ONLINE Worship Service. \nWorship Services are streamed on both our Facebook and YouTube pages each Sunday Morning at 11:00AM. \nLinks to our Facebook and YouTube pages are below.  We invite you to have communion elements (or your choice) that represents the bread and the cup available\, so you can take part in communion at the appropriate time during the service. \nConnect via Facebook at: https://www.facebook.com/MilwaukeeMCC/?view_public_for=143495165714520\nConnect via YouTube at: https://www.youtube.com/channel/UCjRvXlOjVfIXW-1qrtUr2iQ?view_as=subscriber \nFor questions and more information\, feel free to contact the church office by calling 414-383-1100 or by email at info@milmcc.org
URL:https://milwaukeemcc.org/event/weekly-worship-service-online/
LOCATION:Online Gathering
ATTACH;FMTTYPE=image/jpeg:https://milwaukeemcc.org/wp-content/uploads/2020/09/Online-Worhip-Image.jpg
END:VEVENT
BEGIN:VEVENT
DTSTART;TZID=UTC:20210101T000000
DTEND;TZID=UTC:20210101T235900
DTSTAMP:20260424T100952
CREATED:20200910T024121Z
LAST-MODIFIED:20200915T202726Z
UID:872-1609459200-1609545540@milwaukeemcc.org
SUMMARY:New Year's Day
DESCRIPTION:Wishing you a Happy and Healthy 2021
URL:https://milwaukeemcc.org/event/new-years-day/
LOCATION:Wisconsin
ATTACH;FMTTYPE=image/jpeg:https://milwaukeemcc.org/wp-content/uploads/2020/09/1_jBdYSob0QFQdx0fC8wbjgA.jpeg
END:VEVENT
BEGIN:VEVENT
DTSTART;TZID=UTC:20200906T110000
DTEND;TZID=UTC:20200906T120000
DTSTAMP:20260424T100952
CREATED:20200909T204701Z
LAST-MODIFIED:20210204T025034Z
UID:756-1599390000-1599393600@milwaukeemcc.org
SUMMARY:Sunday Worship Service | Online
DESCRIPTION:Join Milwaukee Metropolitan Community Church every Sunday morning for our ONLINE Worship Service. \nWorship Services are streamed on both our Facebook and YouTube pages each Sunday Morning at 11:00AM. \nLinks to our Facebook and YouTube pages are below.  We invite you to have communion elements (or your choice) that represents the bread and the cup available\, so you can take part in communion at the appropriate time during the service. \nConnect via Facebook at: https://www.facebook.com/MilwaukeeMCC/?view_public_for=143495165714520\nConnect via YouTube at: https://www.youtube.com/channel/UCjRvXlOjVfIXW-1qrtUr2iQ?view_as=subscriber \nFor questions and more information\, feel free to contact the church office by calling 414-383-1100 or by email at info@milmcc.org
URL:https://milwaukeemcc.org/event/weekly-worship-service-online/
LOCATION:Online Gathering
ATTACH;FMTTYPE=image/jpeg:https://milwaukeemcc.org/wp-content/uploads/2020/09/Online-Worhip-Image.jpg
END:VEVENT
BEGIN:VEVENT
DTSTART;TZID=UTC:20201225T000000
DTEND;TZID=UTC:20201225T235900
DTSTAMP:20260424T100952
CREATED:20200910T015222Z
LAST-MODIFIED:20200910T220010Z
UID:863-1608854400-1608940740@milwaukeemcc.org
SUMMARY:Christmas Day
DESCRIPTION:Wishing you a very blessed and joyous Christmas!
URL:https://milwaukeemcc.org/event/christmas/
LOCATION:Wisconsin
ATTACH;FMTTYPE=image/png:https://milwaukeemcc.org/wp-content/uploads/2020/09/Merry-Christmas.png
END:VEVENT
BEGIN:VEVENT
DTSTART;TZID=UTC:20201224T190000
DTEND;TZID=UTC:20201224T200000
DTSTAMP:20260424T100952
CREATED:20200910T021814Z
LAST-MODIFIED:20201220T182819Z
UID:866-1608836400-1608840000@milwaukeemcc.org
SUMMARY:Christmas Eve Candlelight Worship Service | Online
DESCRIPTION:Join Milwaukee Metropolitan Community Church for our Christmas Eve Candlelight Worship Service Online. \nChristmas Eve Worship will be streamed on both our Facebook and YouTube pages Thursday evening\, December 24\, 2020 at 7:00PM. \nCome celebrate the triumphant arrival of the Christ Child\, as we hear the familiar story through scripture and song. Links to our Facebook and YouTube pages are below.  \nConnect via Facebook at: https://www.facebook.com/MilwaukeeMCC/?view_public_for=143495165714520\nConnect via YouTube at: https://www.youtube.com/channel/UCjRvXlOjVfIXW-1qrtUr2iQ?view_as=subscriber \nFor questions and more information\, feel free to contact the church office by calling 414-383-1100 or by email at info@milmcc.org
URL:https://milwaukeemcc.org/event/christmas-eve-candlelight-worship-service-online/
LOCATION:Wisconsin
ATTACH;FMTTYPE=image/jpeg:https://milwaukeemcc.org/wp-content/uploads/2020/09/Christmas-Eve-2020-alt-2.jpg
END:VEVENT
BEGIN:VEVENT
DTSTART;VALUE=DATE:20201224
DTEND;VALUE=DATE:20210103
DTSTAMP:20260424T100952
CREATED:20200910T204219Z
LAST-MODIFIED:20200910T204243Z
UID:907-1608768000-1609631999@milwaukeemcc.org
SUMMARY:Church Office Closed
DESCRIPTION:
URL:https://milwaukeemcc.org/event/church-office-closed/
LOCATION:Wisconsin
END:VEVENT
BEGIN:VEVENT
DTSTART;TZID=UTC:20201221T190000
DTEND;TZID=UTC:20201221T200000
DTSTAMP:20260424T100952
CREATED:20201202T011417Z
LAST-MODIFIED:20201220T182744Z
UID:1399-1608577200-1608580800@milwaukeemcc.org
SUMMARY:Blue Christmas Service | ONLINE
DESCRIPTION:Milwaukee Metropolitan Community Church and Christ Church United Church of Christ Bay View invite you and those in our community to join us for the most meaningful and powerful service of the Advent Season. \nKnown as the Longest Night Observance\, this service is scheduled near the time of the winter solstice\, the darkest day of the year. \nThe Blue Christmas Service is a non-traditional service that includes candle-lighting\, prayers and music\, and is offered for those who are feeling the blues of the season\, grieving the death of a loved one\, the loss of a job\, diminished health or other sorrows. \nWe recognize that this year’s holiday season will be particularly challenging for many in our community and in collaboration with our siblings at Christ Church\, United Church of Christ\, Bay View\, Milwaukee MCC and Christ Church UCC\, bring you a Virtual/Online Blue Christmas Service\, Monday evening\, December 21st at 7:00pm\, via Facebook and YouTube. \nConnect via Facebook at: https://www.facebook.com/MilwaukeeMCC/?view_public_for=143495165714520\nConnect via YouTube at: https://www.youtube.com/channel/UCjRvXlOjVfIXW-1qrtUr2iQ?view_as=subscriber
URL:https://milwaukeemcc.org/event/blue-christmas-service-online/
LOCATION:Online Gathering
ATTACH;FMTTYPE=image/jpeg:https://milwaukeemcc.org/wp-content/uploads/2020/12/Blue-Christmas-2020-1.jpg
END:VEVENT
BEGIN:VEVENT
DTSTART;TZID=UTC:20200906T110000
DTEND;TZID=UTC:20200906T120000
DTSTAMP:20260424T100952
CREATED:20200909T204701Z
LAST-MODIFIED:20210204T025034Z
UID:756-1599390000-1599393600@milwaukeemcc.org
SUMMARY:Sunday Worship Service | Online
DESCRIPTION:Join Milwaukee Metropolitan Community Church every Sunday morning for our ONLINE Worship Service. \nWorship Services are streamed on both our Facebook and YouTube pages each Sunday Morning at 11:00AM. \nLinks to our Facebook and YouTube pages are below.  We invite you to have communion elements (or your choice) that represents the bread and the cup available\, so you can take part in communion at the appropriate time during the service. \nConnect via Facebook at: https://www.facebook.com/MilwaukeeMCC/?view_public_for=143495165714520\nConnect via YouTube at: https://www.youtube.com/channel/UCjRvXlOjVfIXW-1qrtUr2iQ?view_as=subscriber \nFor questions and more information\, feel free to contact the church office by calling 414-383-1100 or by email at info@milmcc.org
URL:https://milwaukeemcc.org/event/weekly-worship-service-online/
LOCATION:Online Gathering
ATTACH;FMTTYPE=image/jpeg:https://milwaukeemcc.org/wp-content/uploads/2020/09/Online-Worhip-Image.jpg
END:VEVENT
BEGIN:VEVENT
DTSTART;VALUE=DATE:20201220
DTEND;VALUE=DATE:20201221
DTSTAMP:20260424T100952
CREATED:20200910T203820Z
LAST-MODIFIED:20200910T214634Z
UID:904-1608422400-1608508799@milwaukeemcc.org
SUMMARY:4th Sunday of Advent
DESCRIPTION:
URL:https://milwaukeemcc.org/event/fourth-sunday-of-advent/
LOCATION:Wisconsin
END:VEVENT
BEGIN:VEVENT
DTSTART;TZID=UTC:20200906T110000
DTEND;TZID=UTC:20200906T120000
DTSTAMP:20260424T100952
CREATED:20200909T204701Z
LAST-MODIFIED:20210204T025034Z
UID:756-1599390000-1599393600@milwaukeemcc.org
SUMMARY:Sunday Worship Service | Online
DESCRIPTION:Join Milwaukee Metropolitan Community Church every Sunday morning for our ONLINE Worship Service. \nWorship Services are streamed on both our Facebook and YouTube pages each Sunday Morning at 11:00AM. \nLinks to our Facebook and YouTube pages are below.  We invite you to have communion elements (or your choice) that represents the bread and the cup available\, so you can take part in communion at the appropriate time during the service. \nConnect via Facebook at: https://www.facebook.com/MilwaukeeMCC/?view_public_for=143495165714520\nConnect via YouTube at: https://www.youtube.com/channel/UCjRvXlOjVfIXW-1qrtUr2iQ?view_as=subscriber \nFor questions and more information\, feel free to contact the church office by calling 414-383-1100 or by email at info@milmcc.org
URL:https://milwaukeemcc.org/event/weekly-worship-service-online/
LOCATION:Online Gathering
ATTACH;FMTTYPE=image/jpeg:https://milwaukeemcc.org/wp-content/uploads/2020/09/Online-Worhip-Image.jpg
END:VEVENT
BEGIN:VEVENT
DTSTART;VALUE=DATE:20201213
DTEND;VALUE=DATE:20201214
DTSTAMP:20260424T100952
CREATED:20200910T203748Z
LAST-MODIFIED:20200910T214606Z
UID:902-1607817600-1607903999@milwaukeemcc.org
SUMMARY:3rd Sunday of Advent
DESCRIPTION:
URL:https://milwaukeemcc.org/event/third-sunday-of-advent/
LOCATION:Wisconsin
END:VEVENT
BEGIN:VEVENT
DTSTART;TZID=UTC:20200908T183000
DTEND;TZID=UTC:20200908T203000
DTSTAMP:20260424T100952
CREATED:20200909T215024Z
LAST-MODIFIED:20210204T030716Z
UID:844-1599589800-1599597000@milwaukeemcc.org
SUMMARY:Monthly Board of Directors Meeting
DESCRIPTION:The Board of Directors Meetings the first Tuesday of each month to discuss the business and happenings of the church.  Visitors are welcome to come as a spectator and learn what is happening in the life of Milwaukee Metropolitan Community Church. \nPlease Note: That During this time of COVID-19\, board meetings will be closed sessions to visitors.  We will resume allowing visitors to attend\, once we are back to in-person gathering in the congregation.
URL:https://milwaukeemcc.org/event/monthly-board-of-directors-meeting/
LOCATION:Milwaukee Metropolitan Community Church\, 1239 West Mineral Street\, Milwaukee\, Wisconsin\, 53204\, Virgin Islands (U.S.)
ATTACH;FMTTYPE=image/jpeg:https://milwaukeemcc.org/wp-content/uploads/2020/09/Board-of-Dirctors-Mtg-Image.jpg
ORGANIZER;CN="Milwaukee Metropolitan Community Church":MAILTO:info@milmcc.org
END:VEVENT
BEGIN:VEVENT
DTSTART;TZID=UTC:20200906T120000
DTEND;TZID=UTC:20200906T130000
DTSTAMP:20260424T100952
CREATED:20200909T194428Z
LAST-MODIFIED:20201207T180619Z
UID:734-1599393600-1599397200@milwaukeemcc.org
SUMMARY:Virtual Fellowship Gathering | Online
DESCRIPTION:Rev. Tory and the Board of Directors invite you to join them immediately following online worship on the first Sunday of each month at 12:00 noon for our virtual get together and social time. \nWe know that we all miss being together with one another\, and having that ability to give one another a hug\, pass the peace or have that ability to socialize with one another after Sunday Worship each week. \nGrab your coffee or favorite brunch beverage and connect with us virtually after online worship for some awesome church fellowship! \nJoin our Virtual Fellowship Gathering by connecting to:\nhttps://us02web.zoom.us/j/82834642928 \nMeeting ID: 828 3464 2928 \n\nOne tap mobile\n+13126266799\,\,82834642928# US (Chicago) \nFor questions and more information\, feel free to contact the church office by calling 414-383-1100 or by email at info@milmcc.org
URL:https://milwaukeemcc.org/event/virtual-fellowship-online/
LOCATION:Zoom Online Meeting
ATTACH;FMTTYPE=image/jpeg:https://milwaukeemcc.org/wp-content/uploads/2020/09/Virtual-Online-Fellowship-General-a.jpg
END:VEVENT
BEGIN:VEVENT
DTSTART;TZID=UTC:20200906T110000
DTEND;TZID=UTC:20200906T120000
DTSTAMP:20260424T100952
CREATED:20200909T204701Z
LAST-MODIFIED:20210204T025034Z
UID:756-1599390000-1599393600@milwaukeemcc.org
SUMMARY:Sunday Worship Service | Online
DESCRIPTION:Join Milwaukee Metropolitan Community Church every Sunday morning for our ONLINE Worship Service. \nWorship Services are streamed on both our Facebook and YouTube pages each Sunday Morning at 11:00AM. \nLinks to our Facebook and YouTube pages are below.  We invite you to have communion elements (or your choice) that represents the bread and the cup available\, so you can take part in communion at the appropriate time during the service. \nConnect via Facebook at: https://www.facebook.com/MilwaukeeMCC/?view_public_for=143495165714520\nConnect via YouTube at: https://www.youtube.com/channel/UCjRvXlOjVfIXW-1qrtUr2iQ?view_as=subscriber \nFor questions and more information\, feel free to contact the church office by calling 414-383-1100 or by email at info@milmcc.org
URL:https://milwaukeemcc.org/event/weekly-worship-service-online/
LOCATION:Online Gathering
ATTACH;FMTTYPE=image/jpeg:https://milwaukeemcc.org/wp-content/uploads/2020/09/Online-Worhip-Image.jpg
END:VEVENT
BEGIN:VEVENT
DTSTART;VALUE=DATE:20201206
DTEND;VALUE=DATE:20201207
DTSTAMP:20260424T100952
CREATED:20200910T203724Z
LAST-MODIFIED:20200910T214542Z
UID:900-1607212800-1607299199@milwaukeemcc.org
SUMMARY:2nd Sunday of Advent
DESCRIPTION:
URL:https://milwaukeemcc.org/event/second-sunday-of-advent/
LOCATION:Wisconsin
END:VEVENT
BEGIN:VEVENT
DTSTART;TZID=UTC:20200903T183000
DTEND;TZID=UTC:20200903T200000
DTSTAMP:20260424T100952
CREATED:20200909T184527Z
LAST-MODIFIED:20220104T212744Z
UID:381-1599157800-1599163200@milwaukeemcc.org
SUMMARY:Theology on Tap | Online
DESCRIPTION:Please join us for the next Theology on Tap | ONLINE \nTheology-on-Tap has gone ONLINE!\nGrab your favorite beverage and some snack type foods and join us for an evening of good discussion.\nJoin us each month for an open theological discussion as it relates to our lives living in an inclusive community of faith! \nJoin Theology-on-Tap by connecting to:\nhttps://us02web.zoom.us/j/86055363676 \nMeeting ID: 860 5536 3676\nOne tap mobile\n+13126266799\,\,86740299338# US (Chicago) \nFor questions and more information\, feel free to contact the church office by calling 414-383-1100 or by email at info@milmcc.org
URL:https://milwaukeemcc.org/event/theology-on-tap-online/
LOCATION:Zoom Online Meeting
ATTACH;FMTTYPE=image/jpeg:https://milwaukeemcc.org/wp-content/uploads/2020/09/Theology-on-Tap-2022-Generic-02.jpg
ORGANIZER;CN="Milwaukee Metropolitan Community Church":MAILTO:info@milmcc.org
END:VEVENT
BEGIN:VEVENT
DTSTART;TZID=UTC:20201201T190000
DTEND;TZID=UTC:20201201T200000
DTSTAMP:20260424T100952
CREATED:20201030T053423Z
LAST-MODIFIED:20201030T053944Z
UID:1193-1606849200-1606852800@milwaukeemcc.org
SUMMARY:POZ Spirit ~ HIV Peer Support Gathering | Online
DESCRIPTION:POZ Spirit is a group for men who are HIV/AIDS infected\, providing a safe\, respectful and supportive environment. POZ Spirit is where individuals have the opportunity to form friendships\, while having the opportunity to network\, share resources\, while providing peer support and education\, along with having discussions on any personal and relevant issues. \nWe hope you’ll join us on December 1st and take the opportunity to connect with those in our group. If you haven’t joined us in a while\, please consider joining us\, as we have new people who have joined us over the last several months! \nJoin the Poz Spirit Gathering by connection to \n\n\nhttps://us02web.zoom.us/j/88487848985 \nMeeting ID: 884 8784 8985\nOne tap mobile\n+13126266799\,\,88487848985# US (Chicago) \nFor questions and more information\, feel free to contact the church office by calling 414-383-1100 or by email at hivministries@milmcc.org
URL:https://milwaukeemcc.org/event/poz-spirit-hiv-peer-support-gathering-online/
LOCATION:Online Gathering
ATTACH;FMTTYPE=image/jpeg:https://milwaukeemcc.org/wp-content/uploads/2020/10/MMCC-Poz-Spirit-Online.jpg
ORGANIZER;CN="Milwaukee Metropolitan Community Church":MAILTO:info@milmcc.org
END:VEVENT
BEGIN:VEVENT
DTSTART;TZID=UTC:20201201T000000
DTEND;TZID=UTC:20201201T235900
DTSTAMP:20260424T100952
CREATED:20200910T214220Z
LAST-MODIFIED:20200910T214226Z
UID:934-1606780800-1606867140@milwaukeemcc.org
SUMMARY:World AIDS Day
DESCRIPTION:World AIDS Day\, designated on 1 December every year since 1988\, is an international day dedicated to raising awareness of the AIDS pandemic caused by the spread of HIV infection and mourning those who have died of the disease. Government and health officials\, non-governmental organizations\, and individuals around the world observe the day\, often with education on AIDS prevention and control.
URL:https://milwaukeemcc.org/event/world-aids-day/
LOCATION:Wisconsin
ATTACH;FMTTYPE=image/jpeg:https://milwaukeemcc.org/wp-content/uploads/2020/09/World-AIDS-Day.jpg
END:VEVENT
BEGIN:VEVENT
DTSTART;TZID=UTC:20200906T110000
DTEND;TZID=UTC:20200906T120000
DTSTAMP:20260424T100952
CREATED:20200909T204701Z
LAST-MODIFIED:20210204T025034Z
UID:756-1599390000-1599393600@milwaukeemcc.org
SUMMARY:Sunday Worship Service | Online
DESCRIPTION:Join Milwaukee Metropolitan Community Church every Sunday morning for our ONLINE Worship Service. \nWorship Services are streamed on both our Facebook and YouTube pages each Sunday Morning at 11:00AM. \nLinks to our Facebook and YouTube pages are below.  We invite you to have communion elements (or your choice) that represents the bread and the cup available\, so you can take part in communion at the appropriate time during the service. \nConnect via Facebook at: https://www.facebook.com/MilwaukeeMCC/?view_public_for=143495165714520\nConnect via YouTube at: https://www.youtube.com/channel/UCjRvXlOjVfIXW-1qrtUr2iQ?view_as=subscriber \nFor questions and more information\, feel free to contact the church office by calling 414-383-1100 or by email at info@milmcc.org
URL:https://milwaukeemcc.org/event/weekly-worship-service-online/
LOCATION:Online Gathering
ATTACH;FMTTYPE=image/jpeg:https://milwaukeemcc.org/wp-content/uploads/2020/09/Online-Worhip-Image.jpg
END:VEVENT
BEGIN:VEVENT
DTSTART;VALUE=DATE:20201129
DTEND;VALUE=DATE:20201130
DTSTAMP:20260424T100952
CREATED:20200910T203649Z
LAST-MODIFIED:20200910T214508Z
UID:898-1606608000-1606694399@milwaukeemcc.org
SUMMARY:1st Sunday of Advent
DESCRIPTION:
URL:https://milwaukeemcc.org/event/first-sunday-of-advent/
LOCATION:Wisconsin
END:VEVENT
BEGIN:VEVENT
DTSTART;VALUE=DATE:20201126
DTEND;VALUE=DATE:20201128
DTSTAMP:20260424T100952
CREATED:20200910T213320Z
LAST-MODIFIED:20200910T213734Z
UID:928-1606348800-1606521599@milwaukeemcc.org
SUMMARY:Church Office Closed
DESCRIPTION:
URL:https://milwaukeemcc.org/event/church-office-closed-4/
LOCATION:Wisconsin
END:VEVENT
BEGIN:VEVENT
DTSTART;TZID=UTC:20201126T000000
DTEND;TZID=UTC:20201126T235900
DTSTAMP:20260424T100952
CREATED:20200910T011818Z
LAST-MODIFIED:20200910T215949Z
UID:860-1606348800-1606435140@milwaukeemcc.org
SUMMARY:Thanksgiving Day
DESCRIPTION:Have a Happy and Blessed Thanksgiving!
URL:https://milwaukeemcc.org/event/thanksgiving/
LOCATION:Wisconsin
ATTACH;FMTTYPE=image/jpeg:https://milwaukeemcc.org/wp-content/uploads/2020/09/Thanksgiving-Calendar.jpg
END:VEVENT
BEGIN:VEVENT
DTSTART;TZID=UTC:20200906T110000
DTEND;TZID=UTC:20200906T120000
DTSTAMP:20260424T100952
CREATED:20200909T204701Z
LAST-MODIFIED:20210204T025034Z
UID:756-1599390000-1599393600@milwaukeemcc.org
SUMMARY:Sunday Worship Service | Online
DESCRIPTION:Join Milwaukee Metropolitan Community Church every Sunday morning for our ONLINE Worship Service. \nWorship Services are streamed on both our Facebook and YouTube pages each Sunday Morning at 11:00AM. \nLinks to our Facebook and YouTube pages are below.  We invite you to have communion elements (or your choice) that represents the bread and the cup available\, so you can take part in communion at the appropriate time during the service. \nConnect via Facebook at: https://www.facebook.com/MilwaukeeMCC/?view_public_for=143495165714520\nConnect via YouTube at: https://www.youtube.com/channel/UCjRvXlOjVfIXW-1qrtUr2iQ?view_as=subscriber \nFor questions and more information\, feel free to contact the church office by calling 414-383-1100 or by email at info@milmcc.org
URL:https://milwaukeemcc.org/event/weekly-worship-service-online/
LOCATION:Online Gathering
ATTACH;FMTTYPE=image/jpeg:https://milwaukeemcc.org/wp-content/uploads/2020/09/Online-Worhip-Image.jpg
END:VEVENT
BEGIN:VEVENT
DTSTART;TZID=UTC:20201120T000000
DTEND;TZID=UTC:20201120T235900
DTSTAMP:20260424T100952
CREATED:20200910T213845Z
LAST-MODIFIED:20200910T213911Z
UID:931-1605830400-1605916740@milwaukeemcc.org
SUMMARY:Transgender Day of Remembrance
DESCRIPTION:The Transgender Day of Remembrance\, also known as the International Transgender Day of Remembrance\, has been observed annually on November 20 as a day to memorialize those who have been murdered as a result of transphobia. It is a day to draw attention to the continued violence endured by transgender people.
URL:https://milwaukeemcc.org/event/transgender-day-of-remembrance/
LOCATION:Wisconsin
ATTACH;FMTTYPE=image/jpeg:https://milwaukeemcc.org/wp-content/uploads/2020/09/Trans-Day-of-Remembrance.jpg
END:VEVENT
BEGIN:VEVENT
DTSTART;TZID=UTC:20201115T120000
DTEND;TZID=UTC:20201115T133000
DTSTAMP:20260424T100952
CREATED:20200910T234325Z
LAST-MODIFIED:20200925T003756Z
UID:939-1605441600-1605447000@milwaukeemcc.org
SUMMARY:Annual Congregational Meeting | Online
DESCRIPTION:Annual Congregational Meeting for Milwaukee Metropolitan Community Church. \nThe Senior Minister and the Board of Directors will present the annual reports\, proposed 2021 budget and business of the congregation. This meeting will be held virtually for 2020 with a special in-person meeting to occur when in-person gatherings are permissible again.  At that time the proposed budget will be re-represented and voted upon.  Board positions will carry over through 2021.
URL:https://milwaukeemcc.org/event/annual-congregational-meeting-online/
LOCATION:Online Gathering
ATTACH;FMTTYPE=image/jpeg:https://milwaukeemcc.org/wp-content/uploads/2020/09/Congregational-Meeting-November-2020.jpg
END:VEVENT
END:VCALENDAR