BEGIN:VCALENDAR
VERSION:2.0
PRODID:-//Milwaukee Metropolitan Community Church - ECPv6.15.20//NONSGML v1.0//EN
CALSCALE:GREGORIAN
METHOD:PUBLISH
X-ORIGINAL-URL:https://milwaukeemcc.org
X-WR-CALDESC:Events for Milwaukee Metropolitan Community Church
REFRESH-INTERVAL;VALUE=DURATION:PT1H
X-Robots-Tag:noindex
X-PUBLISHED-TTL:PT1H
BEGIN:VTIMEZONE
TZID:UTC
BEGIN:STANDARD
TZOFFSETFROM:+0000
TZOFFSETTO:+0000
TZNAME:UTC
DTSTART:20220101T000000
END:STANDARD
END:VTIMEZONE
BEGIN:VEVENT
DTSTART;TZID=UTC:20230101T123000
DTEND;TZID=UTC:20230101T133000
DTSTAMP:20260423T082831
CREATED:20221227T031156Z
LAST-MODIFIED:20230408T162545Z
UID:5293-1672576200-1672579800@milwaukeemcc.org
SUMMARY:First Sunday of the Month Birthday/Anniversary Cake Fellowship
DESCRIPTION:Join us every FIRST Sunday of the Month following worship as we celebrate birthdays and anniversaries for that particular month.
URL:https://milwaukeemcc.org/event/first-sunday-of-the-month-birthday-anniversary-cake-fellowship/
LOCATION:Milwaukee Metropolitan Community Church\, 1239 West Mineral Street\, Milwaukee\, Wisconsin\, 53204\, Virgin Islands (U.S.)
ATTACH;FMTTYPE=image/jpeg:https://milwaukeemcc.org/wp-content/uploads/2021/07/Birthdays-and-Anniversaries-2021.jpg
ORGANIZER;CN="Milwaukee Metropolitan Community Church":MAILTO:info@milmcc.org
END:VEVENT
BEGIN:VEVENT
DTSTART;VALUE=DATE:20230703
DTEND;VALUE=DATE:20230705
DTSTAMP:20260423T082831
CREATED:20230408T164613Z
LAST-MODIFIED:20230408T164637Z
UID:5592-1688342400-1688515199@milwaukeemcc.org
SUMMARY:Church Office Closed
DESCRIPTION:
URL:https://milwaukeemcc.org/event/church-office-closed-18/
END:VEVENT
BEGIN:VEVENT
DTSTART;TZID=UTC:20230704T000000
DTEND;TZID=UTC:20230704T235900
DTSTAMP:20260423T082831
CREATED:20230408T164517Z
LAST-MODIFIED:20230408T164759Z
UID:5590-1688428800-1688515140@milwaukeemcc.org
SUMMARY:Fourth of July
DESCRIPTION:We wish everyone a Happy and Safe July 4th!
URL:https://milwaukeemcc.org/event/fourth-of-july-3/
ATTACH;FMTTYPE=image/jpeg:https://milwaukeemcc.org/wp-content/uploads/2021/04/4trh.jpg
END:VEVENT
BEGIN:VEVENT
DTSTART;TZID=UTC:20230105T183000
DTEND;TZID=UTC:20230105T200000
DTSTAMP:20260423T082831
CREATED:20221227T025308Z
LAST-MODIFIED:20230821T011458Z
UID:5280-1672943400-1672948800@milwaukeemcc.org
SUMMARY:Theology-on-Tap
DESCRIPTION:THEOLOGY-ON-TAP\nCome join us! First beverage is on us along with some snack type foods. If joining us virtually\, grab your favorite beverage and some snack type foods for an evening of good discussion.\nGather with us in person at:\nNew Location to be Announced ASAP\nFor questions and more information\, feel free to contact the church office by calling 414-383-1100 or by email at info@milmcc.org
URL:https://milwaukeemcc.org/event/5280/
ATTACH;FMTTYPE=image/jpeg:https://milwaukeemcc.org/wp-content/uploads/2022/12/Theology-on-Tap-2023-Generic-Small-2.jpg
ORGANIZER;CN="Milwaukee Metropolitan Community Church":MAILTO:info@milmcc.org
END:VEVENT
BEGIN:VEVENT
DTSTART;TZID=UTC:20230611T080000
DTEND;TZID=UTC:20230611T170000
DTSTAMP:20260423T082831
CREATED:20230820T233538Z
LAST-MODIFIED:20230820T233649Z
UID:6022-1686470400-1686502800@milwaukeemcc.org
SUMMARY:Sunday Worship Service
DESCRIPTION:Join Milwaukee Metropolitan Community Church every Sunday morning for our IN-PERSON Worship Service.\nFor questions and more information\, feel free to contact the church office by calling 414-383-1100 or by email at info@milmcc.org
URL:https://milwaukeemcc.org/event/sunday-worship-service-44/
LOCATION:Milwaukee Metropolitan Community Church\, 1239 West Mineral Street\, Milwaukee\, Wisconsin\, 53204\, Virgin Islands (U.S.)
ATTACH;FMTTYPE=image/png:https://milwaukeemcc.org/wp-content/uploads/2023/08/R6ed431f8460d7d3a12e285ac6ead515c.png
ORGANIZER;CN="Milwaukee Metropolitan Community Church":MAILTO:info@milmcc.org
END:VEVENT
BEGIN:VEVENT
DTSTART;TZID=UTC:20230110T190000
DTEND;TZID=UTC:20230110T203000
DTSTAMP:20260423T082831
CREATED:20230821T011057Z
LAST-MODIFIED:20230821T011058Z
UID:6064-1673377200-1673382600@milwaukeemcc.org
SUMMARY:Board of Directors Meeting
DESCRIPTION:
URL:https://milwaukeemcc.org/event/board-of-directors-meeting-4/
ATTACH;FMTTYPE=image/jpeg:https://milwaukeemcc.org/wp-content/uploads/2023/02/Genenic-2023-Board-of-Directors-Meeting-Anouncement.jpg
END:VEVENT
BEGIN:VEVENT
DTSTART;TZID=UTC:20230611T080000
DTEND;TZID=UTC:20230611T170000
DTSTAMP:20260423T082831
CREATED:20230820T233538Z
LAST-MODIFIED:20230820T233649Z
UID:6022-1686470400-1686502800@milwaukeemcc.org
SUMMARY:Sunday Worship Service
DESCRIPTION:Join Milwaukee Metropolitan Community Church every Sunday morning for our IN-PERSON Worship Service.\nFor questions and more information\, feel free to contact the church office by calling 414-383-1100 or by email at info@milmcc.org
URL:https://milwaukeemcc.org/event/sunday-worship-service-44/
LOCATION:Milwaukee Metropolitan Community Church\, 1239 West Mineral Street\, Milwaukee\, Wisconsin\, 53204\, Virgin Islands (U.S.)
ATTACH;FMTTYPE=image/png:https://milwaukeemcc.org/wp-content/uploads/2023/08/R6ed431f8460d7d3a12e285ac6ead515c.png
ORGANIZER;CN="Milwaukee Metropolitan Community Church":MAILTO:info@milmcc.org
END:VEVENT
BEGIN:VEVENT
DTSTART;TZID=UTC:20230115T123000
DTEND;TZID=UTC:20230115T143000
DTSTAMP:20260423T082831
CREATED:20221227T031556Z
LAST-MODIFIED:20231027T025539Z
UID:5296-1673785800-1673793000@milwaukeemcc.org
SUMMARY:Brunch with the Pastor
DESCRIPTION:Join us every THIRD SUNDAY of the Month following Sunday Worship as we gather at one of our local eating establishments as we gather for some good food\, exciting conversations and awesome fellowship with one another.
URL:https://milwaukeemcc.org/event/brunch-with-the-pastor-9/
LOCATION:Centraal Grand Café & Tappery\, 2306 S. Kinnickinnic Avenue\, Bay View\, WI\, 53207\, United States
ATTACH;FMTTYPE=image/jpeg:https://milwaukeemcc.org/wp-content/uploads/2021/12/Brunch-with-the-Pastor-Generic-2022-1.jpg
ORGANIZER;CN="Milwaukee Metropolitan Community Church":MAILTO:info@milmcc.org
END:VEVENT
BEGIN:VEVENT
DTSTART;TZID=UTC:20230611T080000
DTEND;TZID=UTC:20230611T170000
DTSTAMP:20260423T082831
CREATED:20230820T233538Z
LAST-MODIFIED:20230820T233649Z
UID:6022-1686470400-1686502800@milwaukeemcc.org
SUMMARY:Sunday Worship Service
DESCRIPTION:Join Milwaukee Metropolitan Community Church every Sunday morning for our IN-PERSON Worship Service.\nFor questions and more information\, feel free to contact the church office by calling 414-383-1100 or by email at info@milmcc.org
URL:https://milwaukeemcc.org/event/sunday-worship-service-44/
LOCATION:Milwaukee Metropolitan Community Church\, 1239 West Mineral Street\, Milwaukee\, Wisconsin\, 53204\, Virgin Islands (U.S.)
ATTACH;FMTTYPE=image/png:https://milwaukeemcc.org/wp-content/uploads/2023/08/R6ed431f8460d7d3a12e285ac6ead515c.png
ORGANIZER;CN="Milwaukee Metropolitan Community Church":MAILTO:info@milmcc.org
END:VEVENT
BEGIN:VEVENT
DTSTART;TZID=UTC:20230122T080000
DTEND;TZID=UTC:20230122T170000
DTSTAMP:20260423T082831
CREATED:20230821T010535Z
LAST-MODIFIED:20230821T010536Z
UID:6061-1674374400-1674406800@milwaukeemcc.org
SUMMARY:Pack the Pantry
DESCRIPTION:Milwaukee Metropolitan Community Church and Angels of Hope Metropolitan Community Church have joined forces through our Outreach Ministry Programs in order to connect closer with our community partners in the LGBTQ Community.\nEvery Fourth Sunday of the month has been designated PACK THE PANTY SUNDAY. Pack the Pantry Sunday is a time for you\, the people of the church to come together and help support our partnered organizations Food Pantries.\nWe ask that you bring your items on the fourth Sunday and place them in the containers that will be provided. This doesn’t mean you can’t bring your items on other Sundays as well but are hopeful you will partake in Pack the Pantry on every Fourth Sunday of the month.\nSuggested Donations Items can be found by clicking on: Pack the Pantry
URL:https://milwaukeemcc.org/event/pack-the-pantry/
ATTACH;FMTTYPE=image/jpeg:https://milwaukeemcc.org/wp-content/uploads/2022/08/Pack-the-Pantry-Small-Generic.jpg
END:VEVENT
BEGIN:VEVENT
DTSTART;TZID=UTC:20230726T180000
DTEND;TZID=UTC:20230726T203000
DTSTAMP:20260423T082831
CREATED:20230722T143654Z
LAST-MODIFIED:20230820T230745Z
UID:5931-1690394400-1690403400@milwaukeemcc.org
SUMMARY:Amazing Faith Dinner Diaolgues
DESCRIPTION:You’re invited to join the dialogue!\nChange your life ~ Change the world\n\nDinners are the last Wednesday of each month beginning at 6pm \nRegistration is a must by going to: Interfaith Conference of Greater Milwaukee\nJuly 26 – at Salem Elementary (Hosted by the Islamic Society Milwaukee)\nAugust 30 – at Grace Presbyterian (Hosted by Grace & Tippecanoe Presbyterian Churches)\nSeptember 27 – at Habitat for Humanity\nOctober 25 – at Christ Church UCC (Hosted by Milwaukee MCC & Christ Church UCC)\nNovember 29 – Bay View UMC\nDecember 27 – Prince of Peace Lutheran\n 
URL:https://milwaukeemcc.org/event/amazing-faith-dinner-diaolgues/
ATTACH;FMTTYPE=image/jpeg:https://milwaukeemcc.org/wp-content/uploads/2023/07/Amazing-Faith-Dinners-Current-Small.jpg
END:VEVENT
BEGIN:VEVENT
DTSTART;TZID=UTC:20230611T080000
DTEND;TZID=UTC:20230611T170000
DTSTAMP:20260423T082831
CREATED:20230820T233538Z
LAST-MODIFIED:20230820T233649Z
UID:6022-1686470400-1686502800@milwaukeemcc.org
SUMMARY:Sunday Worship Service
DESCRIPTION:Join Milwaukee Metropolitan Community Church every Sunday morning for our IN-PERSON Worship Service.\nFor questions and more information\, feel free to contact the church office by calling 414-383-1100 or by email at info@milmcc.org
URL:https://milwaukeemcc.org/event/sunday-worship-service-44/
LOCATION:Milwaukee Metropolitan Community Church\, 1239 West Mineral Street\, Milwaukee\, Wisconsin\, 53204\, Virgin Islands (U.S.)
ATTACH;FMTTYPE=image/png:https://milwaukeemcc.org/wp-content/uploads/2023/08/R6ed431f8460d7d3a12e285ac6ead515c.png
ORGANIZER;CN="Milwaukee Metropolitan Community Church":MAILTO:info@milmcc.org
END:VEVENT
BEGIN:VEVENT
DTSTART;TZID=UTC:20230105T183000
DTEND;TZID=UTC:20230105T200000
DTSTAMP:20260423T082831
CREATED:20221227T025308Z
LAST-MODIFIED:20230821T011458Z
UID:5280-1672943400-1672948800@milwaukeemcc.org
SUMMARY:Theology-on-Tap
DESCRIPTION:THEOLOGY-ON-TAP\nCome join us! First beverage is on us along with some snack type foods. If joining us virtually\, grab your favorite beverage and some snack type foods for an evening of good discussion.\nGather with us in person at:\nNew Location to be Announced ASAP\nFor questions and more information\, feel free to contact the church office by calling 414-383-1100 or by email at info@milmcc.org
URL:https://milwaukeemcc.org/event/5280/
ATTACH;FMTTYPE=image/jpeg:https://milwaukeemcc.org/wp-content/uploads/2022/12/Theology-on-Tap-2023-Generic-Small-2.jpg
ORGANIZER;CN="Milwaukee Metropolitan Community Church":MAILTO:info@milmcc.org
END:VEVENT
BEGIN:VEVENT
DTSTART;TZID=UTC:20230806T110000
DTEND;TZID=UTC:20230806T120000
DTSTAMP:20260423T082831
CREATED:20230820T234306Z
LAST-MODIFIED:20230820T234306Z
UID:6028-1691319600-1691323200@milwaukeemcc.org
SUMMARY:First Sunday of the Month Contemporary Worship Service
DESCRIPTION:Join Milwaukee Metropolitan Community Church every Sunday morning for our IN-PERSON Worship Service.\nFor questions and more information\, feel free to contact the church office by calling 414-383-1100 or by email at info@milmcc.org
URL:https://milwaukeemcc.org/event/first-sunday-of-the-month-contemporary-worship-service/
LOCATION:Milwaukee Metropolitan Community Church\, 1239 West Mineral Street\, Milwaukee\, Wisconsin\, 53204\, Virgin Islands (U.S.)
ATTACH;FMTTYPE=image/jpeg:https://milwaukeemcc.org/wp-content/uploads/2023/08/Contemporary-Worship-Service-Monthly-Ad-Small.jpg
ORGANIZER;CN="Milwaukee Metropolitan Community Church":MAILTO:info@milmcc.org
END:VEVENT
BEGIN:VEVENT
DTSTART;TZID=UTC:20230101T123000
DTEND;TZID=UTC:20230101T133000
DTSTAMP:20260423T082831
CREATED:20221227T031156Z
LAST-MODIFIED:20230408T162545Z
UID:5293-1672576200-1672579800@milwaukeemcc.org
SUMMARY:First Sunday of the Month Birthday/Anniversary Cake Fellowship
DESCRIPTION:Join us every FIRST Sunday of the Month following worship as we celebrate birthdays and anniversaries for that particular month.
URL:https://milwaukeemcc.org/event/first-sunday-of-the-month-birthday-anniversary-cake-fellowship/
LOCATION:Milwaukee Metropolitan Community Church\, 1239 West Mineral Street\, Milwaukee\, Wisconsin\, 53204\, Virgin Islands (U.S.)
ATTACH;FMTTYPE=image/jpeg:https://milwaukeemcc.org/wp-content/uploads/2021/07/Birthdays-and-Anniversaries-2021.jpg
ORGANIZER;CN="Milwaukee Metropolitan Community Church":MAILTO:info@milmcc.org
END:VEVENT
BEGIN:VEVENT
DTSTART;TZID=UTC:20230110T190000
DTEND;TZID=UTC:20230110T203000
DTSTAMP:20260423T082831
CREATED:20230821T011057Z
LAST-MODIFIED:20230821T011058Z
UID:6064-1673377200-1673382600@milwaukeemcc.org
SUMMARY:Board of Directors Meeting
DESCRIPTION:
URL:https://milwaukeemcc.org/event/board-of-directors-meeting-4/
ATTACH;FMTTYPE=image/jpeg:https://milwaukeemcc.org/wp-content/uploads/2023/02/Genenic-2023-Board-of-Directors-Meeting-Anouncement.jpg
END:VEVENT
BEGIN:VEVENT
DTSTART;TZID=UTC:20230813T110000
DTEND;TZID=UTC:20230813T120000
DTSTAMP:20260423T082831
CREATED:20230820T234438Z
LAST-MODIFIED:20230820T234504Z
UID:6032-1691924400-1691928000@milwaukeemcc.org
SUMMARY:Sunday Worship Service
DESCRIPTION:Join Milwaukee Metropolitan Community Church every Sunday morning for our IN-PERSON Worship Service.\nFor questions and more information\, feel free to contact the church office by calling 414-383-1100 or by email at info@milmcc.org
URL:https://milwaukeemcc.org/event/sunday-worship-service-45/
LOCATION:Milwaukee Metropolitan Community Church\, 1239 West Mineral Street\, Milwaukee\, Wisconsin\, 53204\, Virgin Islands (U.S.)
ATTACH;FMTTYPE=image/png:https://milwaukeemcc.org/wp-content/uploads/2023/08/R6ed431f8460d7d3a12e285ac6ead515c.png
ORGANIZER;CN="Milwaukee Metropolitan Community Church":MAILTO:info@milmcc.org
END:VEVENT
BEGIN:VEVENT
DTSTART;TZID=UTC:20230813T110000
DTEND;TZID=UTC:20230813T120000
DTSTAMP:20260423T082831
CREATED:20230820T234438Z
LAST-MODIFIED:20230820T234504Z
UID:6032-1691924400-1691928000@milwaukeemcc.org
SUMMARY:Sunday Worship Service
DESCRIPTION:Join Milwaukee Metropolitan Community Church every Sunday morning for our IN-PERSON Worship Service.\nFor questions and more information\, feel free to contact the church office by calling 414-383-1100 or by email at info@milmcc.org
URL:https://milwaukeemcc.org/event/sunday-worship-service-45/
LOCATION:Milwaukee Metropolitan Community Church\, 1239 West Mineral Street\, Milwaukee\, Wisconsin\, 53204\, Virgin Islands (U.S.)
ATTACH;FMTTYPE=image/png:https://milwaukeemcc.org/wp-content/uploads/2023/08/R6ed431f8460d7d3a12e285ac6ead515c.png
ORGANIZER;CN="Milwaukee Metropolitan Community Church":MAILTO:info@milmcc.org
END:VEVENT
BEGIN:VEVENT
DTSTART;TZID=UTC:20230115T123000
DTEND;TZID=UTC:20230115T143000
DTSTAMP:20260423T082831
CREATED:20221227T031556Z
LAST-MODIFIED:20231027T025539Z
UID:5296-1673785800-1673793000@milwaukeemcc.org
SUMMARY:Brunch with the Pastor
DESCRIPTION:Join us every THIRD SUNDAY of the Month following Sunday Worship as we gather at one of our local eating establishments as we gather for some good food\, exciting conversations and awesome fellowship with one another.
URL:https://milwaukeemcc.org/event/brunch-with-the-pastor-9/
LOCATION:Centraal Grand Café & Tappery\, 2306 S. Kinnickinnic Avenue\, Bay View\, WI\, 53207\, United States
ATTACH;FMTTYPE=image/jpeg:https://milwaukeemcc.org/wp-content/uploads/2021/12/Brunch-with-the-Pastor-Generic-2022-1.jpg
ORGANIZER;CN="Milwaukee Metropolitan Community Church":MAILTO:info@milmcc.org
END:VEVENT
BEGIN:VEVENT
DTSTART;TZID=UTC:20230122T080000
DTEND;TZID=UTC:20230122T170000
DTSTAMP:20260423T082831
CREATED:20230821T010535Z
LAST-MODIFIED:20230821T010536Z
UID:6061-1674374400-1674406800@milwaukeemcc.org
SUMMARY:Pack the Pantry
DESCRIPTION:Milwaukee Metropolitan Community Church and Angels of Hope Metropolitan Community Church have joined forces through our Outreach Ministry Programs in order to connect closer with our community partners in the LGBTQ Community.\nEvery Fourth Sunday of the month has been designated PACK THE PANTY SUNDAY. Pack the Pantry Sunday is a time for you\, the people of the church to come together and help support our partnered organizations Food Pantries.\nWe ask that you bring your items on the fourth Sunday and place them in the containers that will be provided. This doesn’t mean you can’t bring your items on other Sundays as well but are hopeful you will partake in Pack the Pantry on every Fourth Sunday of the month.\nSuggested Donations Items can be found by clicking on: Pack the Pantry
URL:https://milwaukeemcc.org/event/pack-the-pantry/
ATTACH;FMTTYPE=image/jpeg:https://milwaukeemcc.org/wp-content/uploads/2022/08/Pack-the-Pantry-Small-Generic.jpg
END:VEVENT
BEGIN:VEVENT
DTSTART;TZID=UTC:20230813T110000
DTEND;TZID=UTC:20230813T120000
DTSTAMP:20260423T082831
CREATED:20230820T234438Z
LAST-MODIFIED:20230820T234504Z
UID:6032-1691924400-1691928000@milwaukeemcc.org
SUMMARY:Sunday Worship Service
DESCRIPTION:Join Milwaukee Metropolitan Community Church every Sunday morning for our IN-PERSON Worship Service.\nFor questions and more information\, feel free to contact the church office by calling 414-383-1100 or by email at info@milmcc.org
URL:https://milwaukeemcc.org/event/sunday-worship-service-45/
LOCATION:Milwaukee Metropolitan Community Church\, 1239 West Mineral Street\, Milwaukee\, Wisconsin\, 53204\, Virgin Islands (U.S.)
ATTACH;FMTTYPE=image/png:https://milwaukeemcc.org/wp-content/uploads/2023/08/R6ed431f8460d7d3a12e285ac6ead515c.png
ORGANIZER;CN="Milwaukee Metropolitan Community Church":MAILTO:info@milmcc.org
END:VEVENT
BEGIN:VEVENT
DTSTART;TZID=UTC:20230830T180000
DTEND;TZID=UTC:20230830T200000
DTSTAMP:20260423T082831
CREATED:20230821T014047Z
LAST-MODIFIED:20230821T014048Z
UID:6074-1693418400-1693425600@milwaukeemcc.org
SUMMARY:Amazing Faith Dinner Dialogues
DESCRIPTION:You’re invited to join the dialogue!\nChange your life ~ Change the world\n\nDinners are the last Wednesday of each month beginning at 6pm \nRegistration is a must by going to: Interfaith Conference of Greater Milwaukee  \nAugust 30 – at Grace Presbyterian (Hosted by Grace & Tippecanoe Presbyterian Churches)\nSeptember 27 – at Habitat for Humanity\nOctober 25 – at Christ Church UCC (Hosted by Milwaukee MCC & Christ Church UCC)\nNovember 29 – Bay View UMC\nDecember 27 – Prince of Peace Lutheran
URL:https://milwaukeemcc.org/event/amazing-faith-dinner-dialogues/
LOCATION:Grace Prebyterian Church\, 2931 S. Kinnickinnic Avenue\, Milwaukee\, Wisconsin\, 53207
ATTACH;FMTTYPE=image/jpeg:https://milwaukeemcc.org/wp-content/uploads/2023/08/Amazing-Faith-Dinners-Web-Calnendar.jpg
END:VEVENT
BEGIN:VEVENT
DTSTART;TZID=UTC:20230806T110000
DTEND;TZID=UTC:20230806T120000
DTSTAMP:20260423T082831
CREATED:20230820T234306Z
LAST-MODIFIED:20230820T234306Z
UID:6028-1691319600-1691323200@milwaukeemcc.org
SUMMARY:First Sunday of the Month Contemporary Worship Service
DESCRIPTION:Join Milwaukee Metropolitan Community Church every Sunday morning for our IN-PERSON Worship Service.\nFor questions and more information\, feel free to contact the church office by calling 414-383-1100 or by email at info@milmcc.org
URL:https://milwaukeemcc.org/event/first-sunday-of-the-month-contemporary-worship-service/
LOCATION:Milwaukee Metropolitan Community Church\, 1239 West Mineral Street\, Milwaukee\, Wisconsin\, 53204\, Virgin Islands (U.S.)
ATTACH;FMTTYPE=image/jpeg:https://milwaukeemcc.org/wp-content/uploads/2023/08/Contemporary-Worship-Service-Monthly-Ad-Small.jpg
ORGANIZER;CN="Milwaukee Metropolitan Community Church":MAILTO:info@milmcc.org
END:VEVENT
BEGIN:VEVENT
DTSTART;TZID=UTC:20230101T123000
DTEND;TZID=UTC:20230101T133000
DTSTAMP:20260423T082831
CREATED:20221227T031156Z
LAST-MODIFIED:20230408T162545Z
UID:5293-1672576200-1672579800@milwaukeemcc.org
SUMMARY:First Sunday of the Month Birthday/Anniversary Cake Fellowship
DESCRIPTION:Join us every FIRST Sunday of the Month following worship as we celebrate birthdays and anniversaries for that particular month.
URL:https://milwaukeemcc.org/event/first-sunday-of-the-month-birthday-anniversary-cake-fellowship/
LOCATION:Milwaukee Metropolitan Community Church\, 1239 West Mineral Street\, Milwaukee\, Wisconsin\, 53204\, Virgin Islands (U.S.)
ATTACH;FMTTYPE=image/jpeg:https://milwaukeemcc.org/wp-content/uploads/2021/07/Birthdays-and-Anniversaries-2021.jpg
ORGANIZER;CN="Milwaukee Metropolitan Community Church":MAILTO:info@milmcc.org
END:VEVENT
BEGIN:VEVENT
DTSTART;TZID=UTC:20230904T000000
DTEND;TZID=UTC:20230904T235900
DTSTAMP:20260423T082831
CREATED:20230530T030100Z
LAST-MODIFIED:20230530T030101Z
UID:5735-1693785600-1693871940@milwaukeemcc.org
SUMMARY:Labor Day
DESCRIPTION:
URL:https://milwaukeemcc.org/event/labor-day-4/
ATTACH;FMTTYPE=image/jpeg:https://milwaukeemcc.org/wp-content/uploads/2021/05/Labor-Day.jpg
END:VEVENT
BEGIN:VEVENT
DTSTART;VALUE=DATE:20230904
DTEND;VALUE=DATE:20230905
DTSTAMP:20260423T082831
CREATED:20230530T030141Z
LAST-MODIFIED:20230530T030141Z
UID:5737-1693785600-1693871999@milwaukeemcc.org
SUMMARY:Church Office Closed
DESCRIPTION:
URL:https://milwaukeemcc.org/event/church-office-closed-19/
END:VEVENT
BEGIN:VEVENT
DTSTART;TZID=UTC:20230910T110000
DTEND;TZID=UTC:20230910T120000
DTSTAMP:20260423T082831
CREATED:20230821T000218Z
LAST-MODIFIED:20230821T000218Z
UID:6035-1694343600-1694347200@milwaukeemcc.org
SUMMARY:Sunday Worship Serivce
DESCRIPTION:Join Milwaukee Metropolitan Community Church every Sunday morning for our IN-PERSON Worship Service.\nFor questions and more information\, feel free to contact the church office by calling 414-383-1100 or by email at info@milmcc.org
URL:https://milwaukeemcc.org/event/sunday-worship-serivce/
LOCATION:Milwaukee Metropolitan Community Church\, 1239 West Mineral Street\, Milwaukee\, Wisconsin\, 53204\, Virgin Islands (U.S.)
ATTACH;FMTTYPE=image/png:https://milwaukeemcc.org/wp-content/uploads/2023/08/R6ed431f8460d7d3a12e285ac6ead515c.png
ORGANIZER;CN="Milwaukee Metropolitan Community Church":MAILTO:info@milmcc.org
END:VEVENT
BEGIN:VEVENT
DTSTART;TZID=UTC:20230110T190000
DTEND;TZID=UTC:20230110T203000
DTSTAMP:20260423T082831
CREATED:20230821T011057Z
LAST-MODIFIED:20230821T011058Z
UID:6064-1673377200-1673382600@milwaukeemcc.org
SUMMARY:Board of Directors Meeting
DESCRIPTION:
URL:https://milwaukeemcc.org/event/board-of-directors-meeting-4/
ATTACH;FMTTYPE=image/jpeg:https://milwaukeemcc.org/wp-content/uploads/2023/02/Genenic-2023-Board-of-Directors-Meeting-Anouncement.jpg
END:VEVENT
BEGIN:VEVENT
DTSTART;TZID=UTC:20230910T110000
DTEND;TZID=UTC:20230910T120000
DTSTAMP:20260423T082831
CREATED:20230821T000218Z
LAST-MODIFIED:20230821T000218Z
UID:6035-1694343600-1694347200@milwaukeemcc.org
SUMMARY:Sunday Worship Serivce
DESCRIPTION:Join Milwaukee Metropolitan Community Church every Sunday morning for our IN-PERSON Worship Service.\nFor questions and more information\, feel free to contact the church office by calling 414-383-1100 or by email at info@milmcc.org
URL:https://milwaukeemcc.org/event/sunday-worship-serivce/
LOCATION:Milwaukee Metropolitan Community Church\, 1239 West Mineral Street\, Milwaukee\, Wisconsin\, 53204\, Virgin Islands (U.S.)
ATTACH;FMTTYPE=image/png:https://milwaukeemcc.org/wp-content/uploads/2023/08/R6ed431f8460d7d3a12e285ac6ead515c.png
ORGANIZER;CN="Milwaukee Metropolitan Community Church":MAILTO:info@milmcc.org
END:VEVENT
BEGIN:VEVENT
DTSTART;TZID=UTC:20230115T123000
DTEND;TZID=UTC:20230115T143000
DTSTAMP:20260423T082831
CREATED:20221227T031556Z
LAST-MODIFIED:20231027T025539Z
UID:5296-1673785800-1673793000@milwaukeemcc.org
SUMMARY:Brunch with the Pastor
DESCRIPTION:Join us every THIRD SUNDAY of the Month following Sunday Worship as we gather at one of our local eating establishments as we gather for some good food\, exciting conversations and awesome fellowship with one another.
URL:https://milwaukeemcc.org/event/brunch-with-the-pastor-9/
LOCATION:Centraal Grand Café & Tappery\, 2306 S. Kinnickinnic Avenue\, Bay View\, WI\, 53207\, United States
ATTACH;FMTTYPE=image/jpeg:https://milwaukeemcc.org/wp-content/uploads/2021/12/Brunch-with-the-Pastor-Generic-2022-1.jpg
ORGANIZER;CN="Milwaukee Metropolitan Community Church":MAILTO:info@milmcc.org
END:VEVENT
END:VCALENDAR