BEGIN:VCALENDAR
VERSION:2.0
PRODID:-//Milwaukee Metropolitan Community Church - ECPv6.15.20//NONSGML v1.0//EN
CALSCALE:GREGORIAN
METHOD:PUBLISH
X-ORIGINAL-URL:https://milwaukeemcc.org
X-WR-CALDESC:Events for Milwaukee Metropolitan Community Church
REFRESH-INTERVAL;VALUE=DURATION:PT1H
X-Robots-Tag:noindex
X-PUBLISHED-TTL:PT1H
BEGIN:VTIMEZONE
TZID:UTC
BEGIN:STANDARD
TZOFFSETFROM:+0000
TZOFFSETTO:+0000
TZNAME:UTC
DTSTART:20210101T000000
END:STANDARD
END:VTIMEZONE
BEGIN:VEVENT
DTSTART;TZID=UTC:20220130T110000
DTEND;TZID=UTC:20220130T120000
DTSTAMP:20260422T225928
CREATED:20211207T214337Z
LAST-MODIFIED:20220114T065806Z
UID:3352-1643540400-1643544000@milwaukeemcc.org
SUMMARY:Sunday Worship Service
DESCRIPTION:Due to the increase in Covid related cases in the City of Milwaukee\, Sunday worship has returned to Virtual Worship\nJoin Milwaukee Metropolitan Community Church every Sunday morning for our ONLINE Worship Service.\nWorship Services are streamed on both our Facebook and YouTube pages each Sunday Morning at 11:00AM.\nLinks to our Facebook and YouTube pages are below.  We invite you to have communion elements (or your choice) that\nrepresents the bread and the cup available\, so you can take part in communion at the appropriate time during the service.\nConnect via Facebook at: https://www.facebook.com/MilwaukeeMCC/?view_public_for=143495165714520\nConnect via YouTube at: https://www.youtube.com/channel/UCjRvXlOjVfIXW-1qrtUr2iQ?view_as=subscriber\nFor questions and more information\, feel free to contact the church office by calling 414-383-1100 or by email at info@milmcc.org
URL:https://milwaukeemcc.org/event/sunday-worship-service-31/
LOCATION:Milwaukee Metropolitan Community Church\, 1239 West Mineral Street\, Milwaukee\, Wisconsin\, 53204\, Virgin Islands (U.S.)
ATTACH;FMTTYPE=image/jpeg:https://milwaukeemcc.org/wp-content/uploads/2020/09/Online-Worhip-Image.jpg
ORGANIZER;CN="Milwaukee Metropolitan Community Church":MAILTO:info@milmcc.org
END:VEVENT
BEGIN:VEVENT
DTSTART;TZID=UTC:20220104T190000
DTEND;TZID=UTC:20220104T210000
DTSTAMP:20260422T225928
CREATED:20211208T153026Z
LAST-MODIFIED:20220209T154516Z
UID:3397-1641322800-1641330000@milwaukeemcc.org
SUMMARY:POZ Spirit ~ HIV Peer Support Gathering | In-Person
DESCRIPTION:POZ Spirit is a group for men who are HIV/AIDS infected\, providing a safe\, respectful and supportive environment. POZ Spirit is where individuals have the opportunity to form friendships\, while having the opportunity to network\, share resources\, while providing peer support and education\, along with having discussions on any personal and relevant issues. \nJoin us on the First Tuesday of the month as we hold a gathering for those living with HIV/AIDS providing a safe\, respectful and supportive environment.  We Provide Friendship • Networking • Resources • Education. \nA light snacks will be provided reservations are requested but not required. \nFor more information or to RSVP contact: hivministries@milmcc.org or call the church office: 414-383-1100
URL:https://milwaukeemcc.org/event/poz-spirit-hiv-peer-support-gathering-in-person-6/
LOCATION:Milwaukee Metropolitan Community Church\, 1239 West Mineral Street\, Milwaukee\, Wisconsin\, 53204\, Virgin Islands (U.S.)
ATTACH;FMTTYPE=image/jpeg:https://milwaukeemcc.org/wp-content/uploads/2021/07/MMCC-Poz-Spirit-Horizontal-small.jpg
ORGANIZER;CN="Milwaukee Metropolitan Community Church":MAILTO:info@milmcc.org
END:VEVENT
BEGIN:VEVENT
DTSTART;TZID=UTC:20220106T183000
DTEND;TZID=UTC:20220106T200000
DTSTAMP:20260422T225928
CREATED:20211207T231732Z
LAST-MODIFIED:20220203T004634Z
UID:3375-1641493800-1641499200@milwaukeemcc.org
SUMMARY:Theology-on-Tap | Hybrid
DESCRIPTION:The February 3\, 2022 THEOLOGY-ON-TAP HAS BEEN CANCELLED!\nWe apologize for any inconveniences\, but due to the high increase of Covid related cases in the Greater Milwaukee area\,\nthe board of directors is temporarily postponing in-person events and gatherings.\nWe hope that this will be a short lived suspension and that we will be able to resume Theology-on-Tap in March.\nKeep watch for updated information for when we will be resuming this gathering.\n 
URL:https://milwaukeemcc.org/event/theology-on-tap-hybrid-6/
LOCATION:Hunty’s Social Club\, 734 South 5th Street\, Milwaukee\, WI\, 53204\, United States
ATTACH;FMTTYPE=image/jpeg:https://milwaukeemcc.org/wp-content/uploads/2021/12/Theology-on-Tap-February-2022-03.jpg
ORGANIZER;CN="Milwaukee Metropolitan Community Church":MAILTO:info@milmcc.org
END:VEVENT
BEGIN:VEVENT
DTSTART;TZID=UTC:20220206T110000
DTEND;TZID=UTC:20220206T120000
DTSTAMP:20260422T225928
CREATED:20211207T214545Z
LAST-MODIFIED:20220203T003721Z
UID:3354-1644145200-1644148800@milwaukeemcc.org
SUMMARY:Sunday Worship Service
DESCRIPTION:Join Milwaukee Metropolitan Community Church every Sunday morning for our IN-PERSON Worship Service. \nFor questions and more information\, feel free to contact the church office by calling 414-383-1100 or by email at info@milmcc.org
URL:https://milwaukeemcc.org/event/sunday-worship-service-32/
LOCATION:Milwaukee Metropolitan Community Church\, 1239 West Mineral Street\, Milwaukee\, Wisconsin\, 53204\, Virgin Islands (U.S.)
ATTACH;FMTTYPE=image/jpeg:https://milwaukeemcc.org/wp-content/uploads/2021/12/Worship-2.jpg
ORGANIZER;CN="Milwaukee Metropolitan Community Church":MAILTO:info@milmcc.org
END:VEVENT
BEGIN:VEVENT
DTSTART;TZID=UTC:20220102T120000
DTEND;TZID=UTC:20220102T133000
DTSTAMP:20260422T225928
CREATED:20211207T231242Z
LAST-MODIFIED:20220518T152226Z
UID:3373-1641124800-1641130200@milwaukeemcc.org
SUMMARY:First Sunday of the Month Cake Fellowship
DESCRIPTION:Join us every FIRST Sunday of the Month following worship as we celebrate birthdays and anniversaries for that particular month.
URL:https://milwaukeemcc.org/event/first-sunday-of-the-month-cake-fellowship-6/
LOCATION:Milwaukee Metropolitan Community Church\, 1239 West Mineral Street\, Milwaukee\, Wisconsin\, 53204\, Virgin Islands (U.S.)
ATTACH;FMTTYPE=image/jpeg:https://milwaukeemcc.org/wp-content/uploads/2021/07/Birthdays-and-Anniversaries-2021.jpg
ORGANIZER;CN="Milwaukee Metropolitan Community Church":MAILTO:info@milmcc.org
END:VEVENT
BEGIN:VEVENT
DTSTART;TZID=UTC:20220111T190000
DTEND;TZID=UTC:20220111T203000
DTSTAMP:20260422T225928
CREATED:20211207T232058Z
LAST-MODIFIED:20220518T152115Z
UID:3377-1641927600-1641933000@milwaukeemcc.org
SUMMARY:Board of Directors Meeting
DESCRIPTION:
URL:https://milwaukeemcc.org/event/board-of-directors-meeting-2/
LOCATION:Milwaukee Metropolitan Community Church\, 1239 West Mineral Street\, Milwaukee\, Wisconsin\, 53204\, Virgin Islands (U.S.)
ATTACH;FMTTYPE=image/jpeg:https://milwaukeemcc.org/wp-content/uploads/2021/07/Board-Image.jpg
ORGANIZER;CN="Milwaukee Metropolitan Community Church":MAILTO:info@milmcc.org
END:VEVENT
BEGIN:VEVENT
DTSTART;TZID=UTC:20220213T110000
DTEND;TZID=UTC:20220213T120000
DTSTAMP:20260422T225928
CREATED:20211207T220534Z
LAST-MODIFIED:20220203T003956Z
UID:3361-1644750000-1644753600@milwaukeemcc.org
SUMMARY:Sunday Worship Service
DESCRIPTION:Join Milwaukee Metropolitan Community Church every Sunday morning for our IN-PERSON Worship Service. \nFor questions and more information\, feel free to contact the church office by calling 414-383-1100 or by email at info@milmcc.org
URL:https://milwaukeemcc.org/event/sunday-worship-service-34/
LOCATION:Milwaukee Metropolitan Community Church\, 1239 West Mineral Street\, Milwaukee\, Wisconsin\, 53204\, Virgin Islands (U.S.)
ATTACH;FMTTYPE=image/jpeg:https://milwaukeemcc.org/wp-content/uploads/2021/12/Worship-2.jpg
ORGANIZER;CN="Milwaukee Metropolitan Community Church":MAILTO:info@milmcc.org
END:VEVENT
BEGIN:VEVENT
DTSTART;TZID=UTC:20220214T000000
DTEND;TZID=UTC:20220214T235900
DTSTAMP:20260422T225928
CREATED:20220209T173854Z
LAST-MODIFIED:20220209T173855Z
UID:3811-1644796800-1644883140@milwaukeemcc.org
SUMMARY:Valentine's Day
DESCRIPTION:Valentine’s Day
URL:https://milwaukeemcc.org/event/valentines-day/
LOCATION:WI
ATTACH;FMTTYPE=image/jpeg:https://milwaukeemcc.org/wp-content/uploads/2022/02/Slide1-2.jpg
END:VEVENT
BEGIN:VEVENT
DTSTART;TZID=UTC:20220220T110000
DTEND;TZID=UTC:20220220T120000
DTSTAMP:20260422T225928
CREATED:20211207T220424Z
LAST-MODIFIED:20220203T004055Z
UID:3359-1645354800-1645358400@milwaukeemcc.org
SUMMARY:Sunday Worship Service
DESCRIPTION:Join Milwaukee Metropolitan Community Church every Sunday morning for our IN-PERSON Worship Service. \nFor questions and more information\, feel free to contact the church office by calling 414-383-1100 or by email at info@milmcc.org
URL:https://milwaukeemcc.org/event/sunday-worship-service-33/
LOCATION:Milwaukee Metropolitan Community Church\, 1239 West Mineral Street\, Milwaukee\, Wisconsin\, 53204\, Virgin Islands (U.S.)
ATTACH;FMTTYPE=image/jpeg:https://milwaukeemcc.org/wp-content/uploads/2021/12/Worship-2.jpg
ORGANIZER;CN="Milwaukee Metropolitan Community Church":MAILTO:info@milmcc.org
END:VEVENT
BEGIN:VEVENT
DTSTART;TZID=UTC:20220220T123000
DTEND;TZID=UTC:20220220T140000
DTSTAMP:20260422T225928
CREATED:20220118T165543Z
LAST-MODIFIED:20220209T154730Z
UID:3593-1645360200-1645365600@milwaukeemcc.org
SUMMARY:Brunch with the Pastor
DESCRIPTION:Join us every THIRD SUNDAY of the Month following Sunday Worship as we gather at one of our local eating establishments as we gather for some good food\, exciting conversations and awesome fellowship with one another.
URL:https://milwaukeemcc.org/event/brunch-with-the-pastor-6/
LOCATION:Centraal Grand Café & Tappery\, 2306 S. Kinnickinnic Avenue\, Bay View\, WI\, 53207\, United States
ATTACH;FMTTYPE=image/jpeg:https://milwaukeemcc.org/wp-content/uploads/2021/12/Brunch-with-the-Pastor-Generic-2022-1.jpg
ORGANIZER;CN="Milwaukee Metropolitan Community Church":MAILTO:info@milmcc.org
END:VEVENT
BEGIN:VEVENT
DTSTART;TZID=UTC:20220221T000000
DTEND;TZID=UTC:20220221T235900
DTSTAMP:20260422T225928
CREATED:20220203T065200Z
LAST-MODIFIED:20220203T065201Z
UID:3715-1645401600-1645487940@milwaukeemcc.org
SUMMARY:President's Day | Church Office Closed
DESCRIPTION:President’s Day | Church Office Closed
URL:https://milwaukeemcc.org/event/presidents-day-church-office-closed/
LOCATION:WI
ATTACH;FMTTYPE=image/jpeg:https://milwaukeemcc.org/wp-content/uploads/2022/02/Presidents-Day-2022.jpg
END:VEVENT
BEGIN:VEVENT
DTSTART;TZID=UTC:20220227T110000
DTEND;TZID=UTC:20220227T120000
DTSTAMP:20260422T225928
CREATED:20211207T220634Z
LAST-MODIFIED:20220209T154916Z
UID:3363-1645959600-1645963200@milwaukeemcc.org
SUMMARY:Sunday Worship Service
DESCRIPTION:Join Milwaukee Metropolitan Community Church every Sunday morning for our IN-PERSON Worship Service. \nFor questions and more information\, feel free to contact the church office by calling 414-383-1100 or by email at info@milmcc.org
URL:https://milwaukeemcc.org/event/sunday-worship-service-35/
LOCATION:Milwaukee Metropolitan Community Church\, 1239 West Mineral Street\, Milwaukee\, Wisconsin\, 53204\, Virgin Islands (U.S.)
ATTACH;FMTTYPE=image/jpeg:https://milwaukeemcc.org/wp-content/uploads/2021/12/Worship-2.jpg
ORGANIZER;CN="Milwaukee Metropolitan Community Church":MAILTO:info@milmcc.org
END:VEVENT
BEGIN:VEVENT
DTSTART;TZID=UTC:20220123T110000
DTEND;TZID=UTC:20220123T120000
DTSTAMP:20260422T225928
CREATED:20211207T232541Z
LAST-MODIFIED:20220518T151913Z
UID:3381-1642935600-1642939200@milwaukeemcc.org
SUMMARY:Pack the Pantry Sunday
DESCRIPTION:Milwaukee Metropolitan Community Church and Angels of Hope Metropolitan Community Church have joined forces through our Outreach Ministry Programs in order to connect closer with our community partners in the LGBTQ Community. \nEvery Fourth Sunday of the month has been designated PACK THE PANTY SUNDAY. Pack the Pantry Sunday is a time for you\, the people of the church to come together and help support our partnered organizations Food Pantries. \nWe ask that you bring your items on the fourth Sunday and place them in the containers that will be provided. This doesn’t mean you can’t bring your items on other Sundays as well but are hopeful you will partake in Pack the Pantry on every Fourth Sunday of the month. \nSuggested Donations Items can be found by clicking on: Pack the Pantry
URL:https://milwaukeemcc.org/event/pack-the-pantry-sunday-7/
LOCATION:Milwaukee Metropolitan Community Church\, 1239 West Mineral Street\, Milwaukee\, Wisconsin\, 53204\, Virgin Islands (U.S.)
ATTACH;FMTTYPE=image/jpeg:https://milwaukeemcc.org/wp-content/uploads/2021/09/Pack-the-Pantry-MilMCC-AoHMCC-Flyer.jpg
ORGANIZER;CN="Milwaukee Metropolitan Community Church":MAILTO:info@milmcc.org
END:VEVENT
BEGIN:VEVENT
DTSTART;TZID=UTC:20220302T000000
DTEND;TZID=UTC:20220302T235900
DTSTAMP:20260422T225928
CREATED:20220202T152948Z
LAST-MODIFIED:20220203T011046Z
UID:3675-1646179200-1646265540@milwaukeemcc.org
SUMMARY:Ash Wednesday
DESCRIPTION:Ash Wednesday is a Christian holy day of prayer and fasting. It is preceded by Shrove Tuesday and falls on the first day of Lent. Ash Wednesday is traditionally observed by Western Christians. It is observed by Catholics in the Roman Rite\, Anglicans\, Lutherans\, Methodists\, Moravians\, as well as by many from the Reformed tradition.
URL:https://milwaukeemcc.org/event/ash-wednesday/
LOCATION:WI
ATTACH;FMTTYPE=image/jpeg:https://milwaukeemcc.org/wp-content/uploads/2022/02/3916b16f81ed5126e1b09bce6ca8ff74abfacff611688abad0ec2ab73cfd13e5-rimg-w526-h296-gmir.jpg
END:VEVENT
BEGIN:VEVENT
DTSTART;TZID=UTC:20220302T190000
DTEND;TZID=UTC:20220302T203000
DTSTAMP:20260422T225928
CREATED:20220203T070212Z
LAST-MODIFIED:20220203T070259Z
UID:3719-1646247600-1646253000@milwaukeemcc.org
SUMMARY:Ash Wednesday Worship & Imposition of Ashes Service
DESCRIPTION:Christ Church United Church of Christ and Milwaukee Metropolitan Community Church invite you to join\nAsh Wednesday Worship and Imposition of Ashes \nWednesday\, March 2\, 2022 • 7:00PM\nChrist Church United Church of Christ\n915 East Oklahoma Avenue\nMilwaukee\, WI 53207\n \n  \n 
URL:https://milwaukeemcc.org/event/ash-wednesday-worship-imposition-of-ashes-service/
LOCATION:Christ Church UCC Bay View\, 915 East Oklahoma Avenue\, Bay View\, WI\, 53207
ATTACH;FMTTYPE=image/jpeg:https://milwaukeemcc.org/wp-content/uploads/2022/02/Ash-Wednesday-2022-Small-Version.jpg
ORGANIZER;CN="Milwaukee Metropolitan Community Church":MAILTO:info@milmcc.org
END:VEVENT
BEGIN:VEVENT
DTSTART;TZID=UTC:20220303T183000
DTEND;TZID=UTC:20220303T200000
DTSTAMP:20260422T225928
CREATED:20220203T005927Z
LAST-MODIFIED:20220203T010152Z
UID:3703-1646332200-1646337600@milwaukeemcc.org
SUMMARY:Theology-on-Tap | Hybrid
DESCRIPTION:This gathering will be hosted in a Hybrid Fashion. We will also be live streaming via ZOOM. \nGather with us in person at:\nHamburger Mary’s|Hunty’s Social Club\n734 South 5th Street\, Milwaukee 5204 \nYou can also Connect with us:\nhttps://us02web.zoom.us/j/86055363676 \nCome join us! First beverage is on us along with some snack type foods. If joining us virtually\, grab your favorite beverage and some snack type foods for an evening of good discussion. \nFor questions and more information\, feel free to contact the church office by calling 414-383-1100 or by email at info@milmcc.org
URL:https://milwaukeemcc.org/event/theology-on-tap-hybrid-7/
LOCATION:WI
ATTACH;FMTTYPE=image/jpeg:https://milwaukeemcc.org/wp-content/uploads/2021/12/Theology-on-Tap-2022-Generic-02.jpg
END:VEVENT
BEGIN:VEVENT
DTSTART;TZID=UTC:20220305T120000
DTEND;TZID=UTC:20220305T133000
DTSTAMP:20260422T225928
CREATED:20220209T155344Z
LAST-MODIFIED:20220209T171034Z
UID:3747-1646481600-1646487000@milwaukeemcc.org
SUMMARY:POZ Spirit ~ HIV Peer Support Gathering | In-Person
DESCRIPTION:POZ Spirit is a group for men who are HIV/AIDS infected\, providing a safe\, respectful and supportive environment. POZ Spirit is where individuals have the opportunity to form friendships\, while having the opportunity to network\, share resources\, while providing peer support and education\, along with having discussions on any personal and relevant issues.\nJoin us on the First Saturday of the month as we hold a gathering for those living with HIV/AIDS providing a safe\, respectful and supportive environment.  We Provide Friendship • Networking • Resources • Education.\nA light snacks will be provided reservations are requested but not required.\nFor more information or to RSVP contact: hivministries@milmcc.org or call the church office: 414-383-1100
URL:https://milwaukeemcc.org/event/poz-spirit-hiv-peer-support-gathering-in-person-7/
LOCATION:Milwaukee Metropolitan Community Church\, 1239 West Mineral Street\, Milwaukee\, Wisconsin\, 53204\, Virgin Islands (U.S.)
ATTACH;FMTTYPE=image/jpeg:https://milwaukeemcc.org/wp-content/uploads/2022/02/Slide1.jpg
ORGANIZER;CN="Milwaukee Metropolitan Community Church":MAILTO:info@milmcc.org
END:VEVENT
BEGIN:VEVENT
DTSTART;TZID=UTC:20220227T110000
DTEND;TZID=UTC:20220227T120000
DTSTAMP:20260422T225928
CREATED:20211207T220634Z
LAST-MODIFIED:20220209T154916Z
UID:3363-1645959600-1645963200@milwaukeemcc.org
SUMMARY:Sunday Worship Service
DESCRIPTION:Join Milwaukee Metropolitan Community Church every Sunday morning for our IN-PERSON Worship Service. \nFor questions and more information\, feel free to contact the church office by calling 414-383-1100 or by email at info@milmcc.org
URL:https://milwaukeemcc.org/event/sunday-worship-service-35/
LOCATION:Milwaukee Metropolitan Community Church\, 1239 West Mineral Street\, Milwaukee\, Wisconsin\, 53204\, Virgin Islands (U.S.)
ATTACH;FMTTYPE=image/jpeg:https://milwaukeemcc.org/wp-content/uploads/2021/12/Worship-2.jpg
ORGANIZER;CN="Milwaukee Metropolitan Community Church":MAILTO:info@milmcc.org
END:VEVENT
BEGIN:VEVENT
DTSTART;TZID=UTC:20220102T120000
DTEND;TZID=UTC:20220102T133000
DTSTAMP:20260422T225928
CREATED:20211207T231242Z
LAST-MODIFIED:20220518T152226Z
UID:3373-1641124800-1641130200@milwaukeemcc.org
SUMMARY:First Sunday of the Month Cake Fellowship
DESCRIPTION:Join us every FIRST Sunday of the Month following worship as we celebrate birthdays and anniversaries for that particular month.
URL:https://milwaukeemcc.org/event/first-sunday-of-the-month-cake-fellowship-6/
LOCATION:Milwaukee Metropolitan Community Church\, 1239 West Mineral Street\, Milwaukee\, Wisconsin\, 53204\, Virgin Islands (U.S.)
ATTACH;FMTTYPE=image/jpeg:https://milwaukeemcc.org/wp-content/uploads/2021/07/Birthdays-and-Anniversaries-2021.jpg
ORGANIZER;CN="Milwaukee Metropolitan Community Church":MAILTO:info@milmcc.org
END:VEVENT
BEGIN:VEVENT
DTSTART;TZID=UTC:20220111T190000
DTEND;TZID=UTC:20220111T203000
DTSTAMP:20260422T225928
CREATED:20211207T232058Z
LAST-MODIFIED:20220518T152115Z
UID:3377-1641927600-1641933000@milwaukeemcc.org
SUMMARY:Board of Directors Meeting
DESCRIPTION:
URL:https://milwaukeemcc.org/event/board-of-directors-meeting-2/
LOCATION:Milwaukee Metropolitan Community Church\, 1239 West Mineral Street\, Milwaukee\, Wisconsin\, 53204\, Virgin Islands (U.S.)
ATTACH;FMTTYPE=image/jpeg:https://milwaukeemcc.org/wp-content/uploads/2021/07/Board-Image.jpg
ORGANIZER;CN="Milwaukee Metropolitan Community Church":MAILTO:info@milmcc.org
END:VEVENT
BEGIN:VEVENT
DTSTART;TZID=UTC:20220312T000000
DTEND;TZID=UTC:20220312T235900
DTSTAMP:20260422T225928
CREATED:20220209T171829Z
LAST-MODIFIED:20220209T171842Z
UID:3809-1647043200-1647129540@milwaukeemcc.org
SUMMARY:Daylight Saving Time
DESCRIPTION:Remember to set your clock AHEAD 1 HOUR before going to bed this evening!
URL:https://milwaukeemcc.org/event/daylight-saving-time-2/
LOCATION:WI
ATTACH;FMTTYPE=image/gif:https://milwaukeemcc.org/wp-content/uploads/2021/02/R03dd01af3cdee5c49fc09a34257e3342.gif
END:VEVENT
BEGIN:VEVENT
DTSTART;TZID=UTC:20220227T110000
DTEND;TZID=UTC:20220227T120000
DTSTAMP:20260422T225928
CREATED:20211207T220634Z
LAST-MODIFIED:20220209T154916Z
UID:3363-1645959600-1645963200@milwaukeemcc.org
SUMMARY:Sunday Worship Service
DESCRIPTION:Join Milwaukee Metropolitan Community Church every Sunday morning for our IN-PERSON Worship Service. \nFor questions and more information\, feel free to contact the church office by calling 414-383-1100 or by email at info@milmcc.org
URL:https://milwaukeemcc.org/event/sunday-worship-service-35/
LOCATION:Milwaukee Metropolitan Community Church\, 1239 West Mineral Street\, Milwaukee\, Wisconsin\, 53204\, Virgin Islands (U.S.)
ATTACH;FMTTYPE=image/jpeg:https://milwaukeemcc.org/wp-content/uploads/2021/12/Worship-2.jpg
ORGANIZER;CN="Milwaukee Metropolitan Community Church":MAILTO:info@milmcc.org
END:VEVENT
BEGIN:VEVENT
DTSTART;TZID=UTC:20220317T000000
DTEND;TZID=UTC:20220317T235900
DTSTAMP:20260422T225928
CREATED:20220209T174016Z
LAST-MODIFIED:20220209T174018Z
UID:3814-1647475200-1647561540@milwaukeemcc.org
SUMMARY:St. Patrick's Day
DESCRIPTION:St. Patrick’s Day
URL:https://milwaukeemcc.org/event/st-patricks-day/
LOCATION:WI
ATTACH;FMTTYPE=image/jpeg:https://milwaukeemcc.org/wp-content/uploads/2022/02/Slide2-1.jpg
END:VEVENT
BEGIN:VEVENT
DTSTART;TZID=UTC:20220227T110000
DTEND;TZID=UTC:20220227T120000
DTSTAMP:20260422T225928
CREATED:20211207T220634Z
LAST-MODIFIED:20220209T154916Z
UID:3363-1645959600-1645963200@milwaukeemcc.org
SUMMARY:Sunday Worship Service
DESCRIPTION:Join Milwaukee Metropolitan Community Church every Sunday morning for our IN-PERSON Worship Service. \nFor questions and more information\, feel free to contact the church office by calling 414-383-1100 or by email at info@milmcc.org
URL:https://milwaukeemcc.org/event/sunday-worship-service-35/
LOCATION:Milwaukee Metropolitan Community Church\, 1239 West Mineral Street\, Milwaukee\, Wisconsin\, 53204\, Virgin Islands (U.S.)
ATTACH;FMTTYPE=image/jpeg:https://milwaukeemcc.org/wp-content/uploads/2021/12/Worship-2.jpg
ORGANIZER;CN="Milwaukee Metropolitan Community Church":MAILTO:info@milmcc.org
END:VEVENT
BEGIN:VEVENT
DTSTART;TZID=UTC:20220220T123000
DTEND;TZID=UTC:20220220T140000
DTSTAMP:20260422T225928
CREATED:20220118T165543Z
LAST-MODIFIED:20220209T154730Z
UID:3593-1645360200-1645365600@milwaukeemcc.org
SUMMARY:Brunch with the Pastor
DESCRIPTION:Join us every THIRD SUNDAY of the Month following Sunday Worship as we gather at one of our local eating establishments as we gather for some good food\, exciting conversations and awesome fellowship with one another.
URL:https://milwaukeemcc.org/event/brunch-with-the-pastor-6/
LOCATION:Centraal Grand Café & Tappery\, 2306 S. Kinnickinnic Avenue\, Bay View\, WI\, 53207\, United States
ATTACH;FMTTYPE=image/jpeg:https://milwaukeemcc.org/wp-content/uploads/2021/12/Brunch-with-the-Pastor-Generic-2022-1.jpg
ORGANIZER;CN="Milwaukee Metropolitan Community Church":MAILTO:info@milmcc.org
END:VEVENT
BEGIN:VEVENT
DTSTART;TZID=UTC:20220227T110000
DTEND;TZID=UTC:20220227T120000
DTSTAMP:20260422T225928
CREATED:20211207T220634Z
LAST-MODIFIED:20220209T154916Z
UID:3363-1645959600-1645963200@milwaukeemcc.org
SUMMARY:Sunday Worship Service
DESCRIPTION:Join Milwaukee Metropolitan Community Church every Sunday morning for our IN-PERSON Worship Service. \nFor questions and more information\, feel free to contact the church office by calling 414-383-1100 or by email at info@milmcc.org
URL:https://milwaukeemcc.org/event/sunday-worship-service-35/
LOCATION:Milwaukee Metropolitan Community Church\, 1239 West Mineral Street\, Milwaukee\, Wisconsin\, 53204\, Virgin Islands (U.S.)
ATTACH;FMTTYPE=image/jpeg:https://milwaukeemcc.org/wp-content/uploads/2021/12/Worship-2.jpg
ORGANIZER;CN="Milwaukee Metropolitan Community Church":MAILTO:info@milmcc.org
END:VEVENT
BEGIN:VEVENT
DTSTART;TZID=UTC:20220123T110000
DTEND;TZID=UTC:20220123T120000
DTSTAMP:20260422T225928
CREATED:20211207T232541Z
LAST-MODIFIED:20220518T151913Z
UID:3381-1642935600-1642939200@milwaukeemcc.org
SUMMARY:Pack the Pantry Sunday
DESCRIPTION:Milwaukee Metropolitan Community Church and Angels of Hope Metropolitan Community Church have joined forces through our Outreach Ministry Programs in order to connect closer with our community partners in the LGBTQ Community. \nEvery Fourth Sunday of the month has been designated PACK THE PANTY SUNDAY. Pack the Pantry Sunday is a time for you\, the people of the church to come together and help support our partnered organizations Food Pantries. \nWe ask that you bring your items on the fourth Sunday and place them in the containers that will be provided. This doesn’t mean you can’t bring your items on other Sundays as well but are hopeful you will partake in Pack the Pantry on every Fourth Sunday of the month. \nSuggested Donations Items can be found by clicking on: Pack the Pantry
URL:https://milwaukeemcc.org/event/pack-the-pantry-sunday-7/
LOCATION:Milwaukee Metropolitan Community Church\, 1239 West Mineral Street\, Milwaukee\, Wisconsin\, 53204\, Virgin Islands (U.S.)
ATTACH;FMTTYPE=image/jpeg:https://milwaukeemcc.org/wp-content/uploads/2021/09/Pack-the-Pantry-MilMCC-AoHMCC-Flyer.jpg
ORGANIZER;CN="Milwaukee Metropolitan Community Church":MAILTO:info@milmcc.org
END:VEVENT
BEGIN:VEVENT
DTSTART;TZID=UTC:20220305T120000
DTEND;TZID=UTC:20220305T133000
DTSTAMP:20260422T225928
CREATED:20220209T155344Z
LAST-MODIFIED:20220209T171034Z
UID:3747-1646481600-1646487000@milwaukeemcc.org
SUMMARY:POZ Spirit ~ HIV Peer Support Gathering | In-Person
DESCRIPTION:POZ Spirit is a group for men who are HIV/AIDS infected\, providing a safe\, respectful and supportive environment. POZ Spirit is where individuals have the opportunity to form friendships\, while having the opportunity to network\, share resources\, while providing peer support and education\, along with having discussions on any personal and relevant issues.\nJoin us on the First Saturday of the month as we hold a gathering for those living with HIV/AIDS providing a safe\, respectful and supportive environment.  We Provide Friendship • Networking • Resources • Education.\nA light snacks will be provided reservations are requested but not required.\nFor more information or to RSVP contact: hivministries@milmcc.org or call the church office: 414-383-1100
URL:https://milwaukeemcc.org/event/poz-spirit-hiv-peer-support-gathering-in-person-7/
LOCATION:Milwaukee Metropolitan Community Church\, 1239 West Mineral Street\, Milwaukee\, Wisconsin\, 53204\, Virgin Islands (U.S.)
ATTACH;FMTTYPE=image/jpeg:https://milwaukeemcc.org/wp-content/uploads/2022/02/Slide1.jpg
ORGANIZER;CN="Milwaukee Metropolitan Community Church":MAILTO:info@milmcc.org
END:VEVENT
BEGIN:VEVENT
DTSTART;TZID=UTC:20220227T110000
DTEND;TZID=UTC:20220227T120000
DTSTAMP:20260422T225928
CREATED:20211207T220634Z
LAST-MODIFIED:20220209T154916Z
UID:3363-1645959600-1645963200@milwaukeemcc.org
SUMMARY:Sunday Worship Service
DESCRIPTION:Join Milwaukee Metropolitan Community Church every Sunday morning for our IN-PERSON Worship Service. \nFor questions and more information\, feel free to contact the church office by calling 414-383-1100 or by email at info@milmcc.org
URL:https://milwaukeemcc.org/event/sunday-worship-service-35/
LOCATION:Milwaukee Metropolitan Community Church\, 1239 West Mineral Street\, Milwaukee\, Wisconsin\, 53204\, Virgin Islands (U.S.)
ATTACH;FMTTYPE=image/jpeg:https://milwaukeemcc.org/wp-content/uploads/2021/12/Worship-2.jpg
ORGANIZER;CN="Milwaukee Metropolitan Community Church":MAILTO:info@milmcc.org
END:VEVENT
BEGIN:VEVENT
DTSTART;TZID=UTC:20220102T120000
DTEND;TZID=UTC:20220102T133000
DTSTAMP:20260422T225928
CREATED:20211207T231242Z
LAST-MODIFIED:20220518T152226Z
UID:3373-1641124800-1641130200@milwaukeemcc.org
SUMMARY:First Sunday of the Month Cake Fellowship
DESCRIPTION:Join us every FIRST Sunday of the Month following worship as we celebrate birthdays and anniversaries for that particular month.
URL:https://milwaukeemcc.org/event/first-sunday-of-the-month-cake-fellowship-6/
LOCATION:Milwaukee Metropolitan Community Church\, 1239 West Mineral Street\, Milwaukee\, Wisconsin\, 53204\, Virgin Islands (U.S.)
ATTACH;FMTTYPE=image/jpeg:https://milwaukeemcc.org/wp-content/uploads/2021/07/Birthdays-and-Anniversaries-2021.jpg
ORGANIZER;CN="Milwaukee Metropolitan Community Church":MAILTO:info@milmcc.org
END:VEVENT
END:VCALENDAR