BEGIN:VCALENDAR
VERSION:2.0
PRODID:-//Milwaukee Metropolitan Community Church - ECPv6.15.20//NONSGML v1.0//EN
CALSCALE:GREGORIAN
METHOD:PUBLISH
X-WR-CALNAME:Milwaukee Metropolitan Community Church
X-ORIGINAL-URL:https://milwaukeemcc.org
X-WR-CALDESC:Events for Milwaukee Metropolitan Community Church
REFRESH-INTERVAL;VALUE=DURATION:PT1H
X-Robots-Tag:noindex
X-PUBLISHED-TTL:PT1H
BEGIN:VTIMEZONE
TZID:UTC
BEGIN:STANDARD
TZOFFSETFROM:+0000
TZOFFSETTO:+0000
TZNAME:UTC
DTSTART:20230101T000000
END:STANDARD
END:VTIMEZONE
BEGIN:VEVENT
DTSTART;TZID=UTC:20240121T110000
DTEND;TZID=UTC:20240121T120000
DTSTAMP:20260423T030219
CREATED:20240224T173018Z
LAST-MODIFIED:20240224T173018Z
UID:6579-1705834800-1705838400@milwaukeemcc.org
SUMMARY:Sunday Worship Service
DESCRIPTION:Join Milwaukee Metropolitan Community Church every Sunday morning for our IN-PERSON Worship Service. For questions and more information\, feel free to contact the church office by calling 414-383-1100 or by email at info@milmcc.org
URL:https://milwaukeemcc.org/event/sunday-worship-service-50/
LOCATION:Milwaukee Metropolitan Community Church\, 1239 West Mineral Street\, Milwaukee\, Wisconsin\, 53204\, Virgin Islands (U.S.)
ATTACH;FMTTYPE=image/jpeg:https://milwaukeemcc.org/wp-content/uploads/2023/11/R.jpeg
ORGANIZER;CN="Milwaukee Metropolitan Community Church":MAILTO:info@milmcc.org
END:VEVENT
BEGIN:VEVENT
DTSTART;TZID=UTC:20240121T123000
DTEND;TZID=UTC:20240121T140000
DTSTAMP:20260423T030219
CREATED:20231127T204855Z
LAST-MODIFIED:20231127T204907Z
UID:6356-1705840200-1705845600@milwaukeemcc.org
SUMMARY:Brunch with the Pastor
DESCRIPTION:Join us every THIRD SUNDAY of the Month following Sunday Worship as we gather at one of our local eating establishments as we gather for some good food\, exciting conversations and awesome fellowship with one another.
URL:https://milwaukeemcc.org/event/brunch-with-the-pastor-11/
LOCATION:Bridgewagter Modern Grill\, 2011 South 1st Street\, Milwaukee\, Wisconsin\, 53207
ATTACH;FMTTYPE=image/jpeg:https://milwaukeemcc.org/wp-content/uploads/2023/11/2024-Brunch-with-the-Pastor-Generic-Small.jpg
ORGANIZER;CN="Milwaukee Metropolitan Community Church":MAILTO:info@milmcc.org
END:VEVENT
END:VCALENDAR