BEGIN:VCALENDAR
VERSION:2.0
PRODID:-//Milwaukee Metropolitan Community Church - ECPv6.15.20//NONSGML v1.0//EN
CALSCALE:GREGORIAN
METHOD:PUBLISH
X-WR-CALNAME:Milwaukee Metropolitan Community Church
X-ORIGINAL-URL:https://milwaukeemcc.org
X-WR-CALDESC:Events for Milwaukee Metropolitan Community Church
REFRESH-INTERVAL;VALUE=DURATION:PT1H
X-Robots-Tag:noindex
X-PUBLISHED-TTL:PT1H
BEGIN:VTIMEZONE
TZID:UTC
BEGIN:STANDARD
TZOFFSETFROM:+0000
TZOFFSETTO:+0000
TZNAME:UTC
DTSTART:20210101T000000
END:STANDARD
END:VTIMEZONE
BEGIN:VEVENT
DTSTART;TZID=UTC:20221214T190000
DTEND;TZID=UTC:20221214T203000
DTSTAMP:20260423T065556
CREATED:20221102T050840Z
LAST-MODIFIED:20221102T050844Z
UID:5060-1671044400-1671049800@milwaukeemcc.org
SUMMARY:Ecumenical Blue Christmas Service
DESCRIPTION:
URL:https://milwaukeemcc.org/event/ecumenical-blue-christmas-service/
LOCATION:Bay View United Methodist Church\, 2772 South Kinnickinnic Avenue\, Milwwaukee\, Wisconsin\, 53207
ATTACH;FMTTYPE=image/jpeg:https://milwaukeemcc.org/wp-content/uploads/2022/11/Blue-Christmas-Image-2022-Small.jpg
END:VEVENT
END:VCALENDAR