BEGIN:VCALENDAR
VERSION:2.0
PRODID:-//Milwaukee Metropolitan Community Church - ECPv6.15.20//NONSGML v1.0//EN
CALSCALE:GREGORIAN
METHOD:PUBLISH
X-WR-CALNAME:Milwaukee Metropolitan Community Church
X-ORIGINAL-URL:https://milwaukeemcc.org
X-WR-CALDESC:Events for Milwaukee Metropolitan Community Church
REFRESH-INTERVAL;VALUE=DURATION:PT1H
X-Robots-Tag:noindex
X-PUBLISHED-TTL:PT1H
BEGIN:VTIMEZONE
TZID:UTC
BEGIN:STANDARD
TZOFFSETFROM:+0000
TZOFFSETTO:+0000
TZNAME:UTC
DTSTART:20210101T000000
END:STANDARD
END:VTIMEZONE
BEGIN:VEVENT
DTSTART;VALUE=DATE:20221204
DTEND;VALUE=DATE:20221205
DTSTAMP:20260422T223355
CREATED:20220803T214917Z
LAST-MODIFIED:20220803T215032Z
UID:4581-1670112000-1670198399@milwaukeemcc.org
SUMMARY:Second Sunday of Advent
DESCRIPTION:Second Sunday of Advent
URL:https://milwaukeemcc.org/event/second-sunday-of-advent-2/
LOCATION:WI
END:VEVENT
BEGIN:VEVENT
DTSTART;TZID=UTC:20220703T110000
DTEND;TZID=UTC:20220703T120000
DTSTAMP:20260422T223355
CREATED:20220518T150402Z
LAST-MODIFIED:20220624T184343Z
UID:4218-1656846000-1656849600@milwaukeemcc.org
SUMMARY:Sunday Worship Service
DESCRIPTION:Join Milwaukee Metropolitan Community Church every Sunday morning for our IN-PERSON Worship Service.\nFor questions and more information\, feel free to contact the church office by calling 414-383-1100 or by email at info@milmcc.org
URL:https://milwaukeemcc.org/event/sunday-worship-service-40/
LOCATION:Milwaukee Metropolitan Community Church\, 1239 West Mineral Street\, Milwaukee\, Wisconsin\, 53204\, Virgin Islands (U.S.)
ATTACH;FMTTYPE=image/jpeg:https://milwaukeemcc.org/wp-content/uploads/2021/12/Worship-2.jpg
ORGANIZER;CN="Milwaukee Metropolitan Community Church":MAILTO:info@milmcc.org
END:VEVENT
BEGIN:VEVENT
DTSTART;TZID=UTC:20221204T120000
DTEND;TZID=UTC:20221204T140000
DTSTAMP:20260422T223355
CREATED:20221102T033411Z
LAST-MODIFIED:20221102T033412Z
UID:5057-1670155200-1670162400@milwaukeemcc.org
SUMMARY:Annual Congregational Meeting
DESCRIPTION:Our Annual Congregational Meeting will take place immediately following worship at 12:00pm  You’re invited to bring a dish to share for our Potluck Fellowship and stay for the meeting where discussion and reports will be present by Pastor and Board of Directors.
URL:https://milwaukeemcc.org/event/annual-congregational-meeting/
LOCATION:Milwaukee Metropolitan Community Church\, 1239 West Mineral Street\, Milwaukee\, Wisconsin\, 53204\, Virgin Islands (U.S.)
ATTACH;FMTTYPE=image/jpeg:https://milwaukeemcc.org/wp-content/uploads/2022/11/Annual-Congregational-Meeting-December-2022-Small.jpg
ORGANIZER;CN="Milwaukee Metropolitan Community Church":MAILTO:info@milmcc.org
END:VEVENT
END:VCALENDAR