BEGIN:VCALENDAR
VERSION:2.0
PRODID:-//Milwaukee Metropolitan Community Church - ECPv6.15.20//NONSGML v1.0//EN
CALSCALE:GREGORIAN
METHOD:PUBLISH
X-WR-CALNAME:Milwaukee Metropolitan Community Church
X-ORIGINAL-URL:https://milwaukeemcc.org
X-WR-CALDESC:Events for Milwaukee Metropolitan Community Church
REFRESH-INTERVAL;VALUE=DURATION:PT1H
X-Robots-Tag:noindex
X-PUBLISHED-TTL:PT1H
BEGIN:VTIMEZONE
TZID:UTC
BEGIN:STANDARD
TZOFFSETFROM:+0000
TZOFFSETTO:+0000
TZNAME:UTC
DTSTART:20210101T000000
END:STANDARD
END:VTIMEZONE
BEGIN:VEVENT
DTSTART;TZID=UTC:20220520T170000
DTEND;TZID=UTC:20220520T220000
DTSTAMP:20260423T112407
CREATED:20220518T183628Z
LAST-MODIFIED:20220518T183638Z
UID:4303-1653066000-1653084000@milwaukeemcc.org
SUMMARY:Vivent Health Make a Promise Event
DESCRIPTION:Venue: \nWisconsin Center\n400 W Wisconsin Ave\nMilwaukee\, WI 53203 \nParking:\nThere are multiple paid parking options including Hilton Hotel lot and surface lots located at 6th & Wells St as well as the 401 W. Wisconsin Ave lot. Street parking is also available.
URL:https://milwaukeemcc.org/event/vivent-health-make-a-promise-event/
LOCATION:WI
ATTACH;FMTTYPE=image/jpeg:https://milwaukeemcc.org/wp-content/uploads/2022/05/Make-A-Promise.jpg
END:VEVENT
END:VCALENDAR