BEGIN:VCALENDAR
VERSION:2.0
PRODID:-//Milwaukee Metropolitan Community Church - ECPv6.15.20//NONSGML v1.0//EN
CALSCALE:GREGORIAN
METHOD:PUBLISH
X-ORIGINAL-URL:https://milwaukeemcc.org
X-WR-CALDESC:Events for Milwaukee Metropolitan Community Church
REFRESH-INTERVAL;VALUE=DURATION:PT1H
X-Robots-Tag:noindex
X-PUBLISHED-TTL:PT1H
BEGIN:VTIMEZONE
TZID:UTC
BEGIN:STANDARD
TZOFFSETFROM:+0000
TZOFFSETTO:+0000
TZNAME:UTC
DTSTART:20210101T000000
END:STANDARD
END:VTIMEZONE
BEGIN:VEVENT
DTSTART;VALUE=DATE:20220411
DTEND;VALUE=DATE:20220416
DTSTAMP:20260423T093735
CREATED:20220218T030802Z
LAST-MODIFIED:20220218T040716Z
UID:3866-1649635200-1650067199@milwaukeemcc.org
SUMMARY:HOLY WEEK
DESCRIPTION:Holy Week begins with Palm Sunday and concludes on Easter Sunday. For all Christian traditions it is a moveable observance. In Eastern Rite Churches\, Holy Week starts after 40 days of Lent and two transitional days\, namely Saturday of Lazarus and Palm Sunday. In Western Rite Churches\, Holy Week falls on the last week of Lent or Sixth Lent Week.
URL:https://milwaukeemcc.org/event/holy-week/
LOCATION:WI
END:VEVENT
BEGIN:VEVENT
DTSTART;TZID=UTC:20220415T190000
DTEND;TZID=UTC:20220415T203000
DTSTAMP:20260423T093735
CREATED:20220218T044418Z
LAST-MODIFIED:20220407T202634Z
UID:3877-1650049200-1650054600@milwaukeemcc.org
SUMMARY:Good Friday Tenebrae Service
DESCRIPTION:Milwaukee Metropolitan Community Church\, Christ Church United Church of Christ Bay View\, Tippicanoe Presbyterian Church and Bay View United Methodist Church invite you to join us for a collaborative Good Friday Communion and Tenebrae Service \nFriday\, April 16\, 2022  • 7:00PM \nThis service will be held at:Bay View United Methodist Church2772 South Kinnickinnic AvenueMilwaukee\, WI 53207 \nFor questions and more information\, feel free to contact the church office by calling 414-383-1100 or by email at info@milmcc.org
URL:https://milwaukeemcc.org/event/good-friday-tenebrae-service/
LOCATION:Bay View United Methodist Church\, 2772 South Kinnickinnic Avenue\, Milwwaukee\, Wisconsin\, 53207
ATTACH;FMTTYPE=image/jpeg:https://milwaukeemcc.org/wp-content/uploads/2022/02/Presentation1.jpg
ORGANIZER;CN="Milwaukee Metropolitan Community Church":MAILTO:info@milmcc.org
END:VEVENT
END:VCALENDAR