BEGIN:VCALENDAR
VERSION:2.0
PRODID:-//Milwaukee Metropolitan Community Church - ECPv6.15.20//NONSGML v1.0//EN
CALSCALE:GREGORIAN
METHOD:PUBLISH
X-WR-CALNAME:Milwaukee Metropolitan Community Church
X-ORIGINAL-URL:https://milwaukeemcc.org
X-WR-CALDESC:Events for Milwaukee Metropolitan Community Church
REFRESH-INTERVAL;VALUE=DURATION:PT1H
X-Robots-Tag:noindex
X-PUBLISHED-TTL:PT1H
BEGIN:VTIMEZONE
TZID:UTC
BEGIN:STANDARD
TZOFFSETFROM:+0000
TZOFFSETTO:+0000
TZNAME:UTC
DTSTART:20210101T000000
END:STANDARD
END:VTIMEZONE
BEGIN:VEVENT
DTSTART;TZID=UTC:20220102T110000
DTEND;TZID=UTC:20220102T120000
DTSTAMP:20260423T062315
CREATED:20211207T213619Z
LAST-MODIFIED:20211207T213620Z
UID:3342-1641121200-1641124800@milwaukeemcc.org
SUMMARY:Sunday Worship Service
DESCRIPTION:Join Milwaukee Metropolitan Community Church every Sunday morning for our IN-PERSON Worship Service. \nFor questions and more information\, feel free to contact the church office by calling 414-383-1100 or by email at info@milmcc.org
URL:https://milwaukeemcc.org/event/sunday-worship-service-27/
LOCATION:Milwaukee Metropolitan Community Church\, 1239 West Mineral Street\, Milwaukee\, Wisconsin\, 53204\, Virgin Islands (U.S.)
ATTACH;FMTTYPE=image/jpeg:https://milwaukeemcc.org/wp-content/uploads/2021/12/Worship-2.jpg
ORGANIZER;CN="Milwaukee Metropolitan Community Church":MAILTO:info@milmcc.org
END:VEVENT
BEGIN:VEVENT
DTSTART;TZID=UTC:20220102T120000
DTEND;TZID=UTC:20220102T133000
DTSTAMP:20260423T062315
CREATED:20211207T231242Z
LAST-MODIFIED:20220518T152226Z
UID:3373-1641124800-1641130200@milwaukeemcc.org
SUMMARY:First Sunday of the Month Cake Fellowship
DESCRIPTION:Join us every FIRST Sunday of the Month following worship as we celebrate birthdays and anniversaries for that particular month.
URL:https://milwaukeemcc.org/event/first-sunday-of-the-month-cake-fellowship-6/
LOCATION:Milwaukee Metropolitan Community Church\, 1239 West Mineral Street\, Milwaukee\, Wisconsin\, 53204\, Virgin Islands (U.S.)
ATTACH;FMTTYPE=image/jpeg:https://milwaukeemcc.org/wp-content/uploads/2021/07/Birthdays-and-Anniversaries-2021.jpg
ORGANIZER;CN="Milwaukee Metropolitan Community Church":MAILTO:info@milmcc.org
END:VEVENT
END:VCALENDAR