BEGIN:VCALENDAR
VERSION:2.0
PRODID:-//Milwaukee Metropolitan Community Church - ECPv6.15.20//NONSGML v1.0//EN
CALSCALE:GREGORIAN
METHOD:PUBLISH
X-WR-CALNAME:Milwaukee Metropolitan Community Church
X-ORIGINAL-URL:https://milwaukeemcc.org
X-WR-CALDESC:Events for Milwaukee Metropolitan Community Church
REFRESH-INTERVAL;VALUE=DURATION:PT1H
X-Robots-Tag:noindex
X-PUBLISHED-TTL:PT1H
BEGIN:VTIMEZONE
TZID:UTC
BEGIN:STANDARD
TZOFFSETFROM:+0000
TZOFFSETTO:+0000
TZNAME:UTC
DTSTART:20200101T000000
END:STANDARD
END:VTIMEZONE
BEGIN:VEVENT
DTSTART;TZID=UTC:20211207T190000
DTEND;TZID=UTC:20211207T210000
DTSTAMP:20260420T091334
CREATED:20210820T192339Z
LAST-MODIFIED:20210907T142622Z
UID:2785-1638903600-1638910800@milwaukeemcc.org
SUMMARY:POZ Spirit ~ HIV Peer Support Gathering | In-Person
DESCRIPTION:POZ Spirit is a group for men who are HIV/AIDS infected\, providing a safe\, respectful and supportive environment. POZ Spirit is where individuals have the opportunity to form friendships\, while having the opportunity to network\, share resources\, while providing peer support and education\, along with having discussions on any personal and relevant issues. \nJoin us on the First Tuesday of the month as we hold a gathering for those living with HIV/AIDS providing a safe\, respectful and supportive environment.  We Provide Friendship • Networking • Resources • Education \nA light snacks will be provided reservations are requested but not required! \nFor more information or to RSVP contact: hivministries@milmcc.org or call the church office: 414-383-1100
URL:https://milwaukeemcc.org/event/poz-spirit-hiv-peer-support-gathering-in-person-5/
LOCATION:Milwaukee Metropolitan Community Church\, 1239 West Mineral Street\, Milwaukee\, Wisconsin\, 53204\, Virgin Islands (U.S.)
ATTACH;FMTTYPE=image/jpeg:https://milwaukeemcc.org/wp-content/uploads/2021/07/MMCC-Poz-Spirit-Horizontal-small.jpg
ORGANIZER;CN="Milwaukee Metropolitan Community Church":MAILTO:info@milmcc.org
END:VEVENT
END:VCALENDAR